BEGIN:VCALENDAR
VERSION:2.0
PRODID:-//Kimmyz on Greenway - ECPv6.15.20//NONSGML v1.0//EN
CALSCALE:GREGORIAN
METHOD:PUBLISH
X-ORIGINAL-URL:https://kimmyzongreenway.com
X-WR-CALDESC:Events for Kimmyz on Greenway
REFRESH-INTERVAL;VALUE=DURATION:PT1H
X-Robots-Tag:noindex
X-PUBLISHED-TTL:PT1H
BEGIN:VTIMEZONE
TZID:America/Denver
BEGIN:DAYLIGHT
TZOFFSETFROM:-0700
TZOFFSETTO:-0600
TZNAME:MDT
DTSTART:20260308T090000
END:DAYLIGHT
BEGIN:STANDARD
TZOFFSETFROM:-0600
TZOFFSETTO:-0700
TZNAME:MST
DTSTART:20261101T080000
END:STANDARD
BEGIN:DAYLIGHT
TZOFFSETFROM:-0700
TZOFFSETTO:-0600
TZNAME:MDT
DTSTART:20270314T090000
END:DAYLIGHT
BEGIN:STANDARD
TZOFFSETFROM:-0600
TZOFFSETTO:-0700
TZNAME:MST
DTSTART:20271107T080000
END:STANDARD
BEGIN:DAYLIGHT
TZOFFSETFROM:-0700
TZOFFSETTO:-0600
TZNAME:MDT
DTSTART:20280312T090000
END:DAYLIGHT
BEGIN:STANDARD
TZOFFSETFROM:-0600
TZOFFSETTO:-0700
TZNAME:MST
DTSTART:20281105T080000
END:STANDARD
END:VTIMEZONE
BEGIN:VTIMEZONE
TZID:America/Phoenix
BEGIN:STANDARD
TZOFFSETFROM:-0700
TZOFFSETTO:-0700
TZNAME:MST
DTSTART:20260101T000000
END:STANDARD
END:VTIMEZONE
BEGIN:VEVENT
DTSTART;TZID=America/Denver:20270602T110000
DTEND;TZID=America/Denver:20270602T210000
DTSTAMP:20260423T000713
CREATED:20250213T172729Z
LAST-MODIFIED:20250213T213423Z
UID:10002737-1811934000-1811970000@kimmyzongreenway.com
SUMMARY:Burger & Beer Wednesday
DESCRIPTION:Our classic juicy burger served with French Fries and a pint of domestic beer or soda. 
URL:https://kimmyzongreenway.com/event/burger-beer-wednesday/2027-06-02/
LOCATION:Kimmyz on Greenway\, 5930 W Greenway Rd\, Glendale\, AZ\, 85306\, United States
CATEGORIES:Food Specials
ATTACH;FMTTYPE=image/jpeg:https://kimmyzongreenway.com/wp-content/uploads/2025/02/3.jpg
END:VEVENT
BEGIN:VEVENT
DTSTART;VALUE=DATE:20270603
DTEND;VALUE=DATE:20270605
DTSTAMP:20260423T000713
CREATED:20250225T234027Z
LAST-MODIFIED:20250225T234027Z
UID:10003792-1811984400-1812070799@kimmyzongreenway.com
SUMMARY:Bike Night
DESCRIPTION:We are your premiere biker friendly bar! Join us for biker specials\, live music & events every Thursday. (Sponsored by Arrowhead Harley-Davidson)
URL:https://kimmyzongreenway.com/event/bike-night/2027-06-03/
LOCATION:Kimmyz on Greenway\, 5930 W Greenway Rd\, Glendale\, AZ\, 85306\, United States
CATEGORIES:Live Music,Special Events
ATTACH;FMTTYPE=image/jpeg:https://kimmyzongreenway.com/wp-content/uploads/2025/02/motorcycle-7539871_1280.jpg
END:VEVENT
BEGIN:VEVENT
DTSTART;TZID=America/Denver:20270603T110000
DTEND;TZID=America/Denver:20270603T210000
DTSTAMP:20260423T000713
CREATED:20250213T173133Z
LAST-MODIFIED:20250213T213309Z
UID:10002216-1812020400-1812056400@kimmyzongreenway.com
SUMMARY:Philly Thursday
DESCRIPTION:Philly cheese steak sandwich served with French Fries and a pint of domestic beer or soda.  \n 
URL:https://kimmyzongreenway.com/event/philly-thursday/2027-06-03/
LOCATION:Kimmyz on Greenway\, 5930 W Greenway Rd\, Glendale\, AZ\, 85306\, United States
CATEGORIES:Food Specials
ATTACH;FMTTYPE=image/jpeg:https://kimmyzongreenway.com/wp-content/uploads/2025/02/snappr-IKsF2Nfh9NY-unsplash-scaled.jpg
END:VEVENT
BEGIN:VEVENT
DTSTART;TZID=America/Denver:20270604T110000
DTEND;TZID=America/Denver:20270604T220000
DTSTAMP:20260423T000713
CREATED:20250213T173428Z
LAST-MODIFIED:20250213T213339Z
UID:10002476-1812106800-1812146400@kimmyzongreenway.com
SUMMARY:Fish Fry Friday
DESCRIPTION:Fish Fry Friday:\n \n   All you can eat fish fry – $18.99 \n   Fish Fry Basket – $14.99 \n   Fish & Shrimp Basket – $16.99 \n 
URL:https://kimmyzongreenway.com/event/fish-fry-friday/2027-06-04/
LOCATION:Kimmyz on Greenway\, 5930 W Greenway Rd\, Glendale\, AZ\, 85306\, United States
CATEGORIES:Food Specials
ATTACH;FMTTYPE=image/jpeg:https://kimmyzongreenway.com/wp-content/uploads/2025/02/davey-gravy-YpQGo0QTshE-unsplash-scaled.jpg
END:VEVENT
BEGIN:VEVENT
DTSTART;TZID=America/Denver:20270605T110000
DTEND;TZID=America/Denver:20270605T220000
DTSTAMP:20260423T000713
CREATED:20250213T175029Z
LAST-MODIFIED:20250213T213141Z
UID:10001955-1812193200-1812232800@kimmyzongreenway.com
SUMMARY:Reuben Sandwich Saturday
DESCRIPTION:Reuben sandwich served with French Fries.  \n 
URL:https://kimmyzongreenway.com/event/reuben-sandwich-saturday/2027-06-05/
LOCATION:Kimmyz on Greenway\, 5930 W Greenway Rd\, Glendale\, AZ\, 85306\, United States
CATEGORIES:Food Specials
ATTACH;FMTTYPE=image/png:https://kimmyzongreenway.com/wp-content/uploads/2025/02/Screenshot-2025-02-13-at-10.13.40 AM.png
END:VEVENT
BEGIN:VEVENT
DTSTART;TZID=America/Denver:20270606T110000
DTEND;TZID=America/Denver:20270606T210000
DTSTAMP:20260423T000713
CREATED:20250213T171734Z
LAST-MODIFIED:20250213T213655Z
UID:10003524-1812279600-1812315600@kimmyzongreenway.com
SUMMARY:French Dip Sunday
DESCRIPTION:French Dip sandwich served with French Fries
URL:https://kimmyzongreenway.com/event/french-dip-sunday/2027-06-06/
LOCATION:Kimmyz on Greenway\, 5930 W Greenway Rd\, Glendale\, AZ\, 85306\, United States
CATEGORIES:Food Specials
ATTACH;FMTTYPE=image/png:https://kimmyzongreenway.com/wp-content/uploads/2025/02/Screenshot-2025-02-13-at-10.14.27 AM.png
END:VEVENT
BEGIN:VEVENT
DTSTART;TZID=America/Denver:20270607T110000
DTEND;TZID=America/Denver:20270607T210000
DTSTAMP:20260423T000713
CREATED:20250808T205703Z
LAST-MODIFIED:20250808T205704Z
UID:10004252-1812366000-1812402000@kimmyzongreenway.com
SUMMARY:Meatloaf Monday
DESCRIPTION:Homemade meatloaf served with mashed potatoes\, gravy\, corn & a dinner roll.
URL:https://kimmyzongreenway.com/event/meatloaf-monday-2/2027-06-07/
LOCATION:Kimmyz on Greenway\, 5930 W Greenway Rd\, Glendale\, AZ\, 85306\, United States
CATEGORIES:Food Specials
ATTACH;FMTTYPE=image/png:https://kimmyzongreenway.com/wp-content/uploads/2025/02/Screenshot-2025-02-13-at-10.20.59 AM.png
END:VEVENT
BEGIN:VEVENT
DTSTART;TZID=America/Denver:20270607T190000
DTEND;TZID=America/Denver:20270607T220000
DTSTAMP:20260423T000713
CREATED:20250213T160657Z
LAST-MODIFIED:20250213T160657Z
UID:10000384-1812394800-1812405600@kimmyzongreenway.com
SUMMARY:Karaoke
DESCRIPTION:Pick a song\, grab the mic\, and show off your pipes! Join us for the best Karaoke in Glendale every Monday night.
URL:https://kimmyzongreenway.com/event/karaoke/2027-06-07/
LOCATION:Kimmyz on Greenway\, 5930 W Greenway Rd\, Glendale\, AZ\, 85306\, United States
CATEGORIES:Live Music
ATTACH;FMTTYPE=image/jpeg:https://kimmyzongreenway.com/wp-content/uploads/2025/02/microphone-4547633_1920.jpg
END:VEVENT
BEGIN:VEVENT
DTSTART;TZID=America/Denver:20270608T110000
DTEND;TZID=America/Denver:20270608T210000
DTSTAMP:20260423T000713
CREATED:20250213T172529Z
LAST-MODIFIED:20250213T213516Z
UID:10003000-1812452400-1812488400@kimmyzongreenway.com
SUMMARY:Taco Tuesday
DESCRIPTION:Three tacos (your choice of ground beef\, steak\, fish\, or chicken) served with fresh chips and salsa.  \n 
URL:https://kimmyzongreenway.com/event/taco-tuesday/2027-06-08/
LOCATION:Kimmyz on Greenway\, 5930 W Greenway Rd\, Glendale\, AZ\, 85306\, United States
CATEGORIES:Food Specials
ATTACH;FMTTYPE=image/jpeg:https://kimmyzongreenway.com/wp-content/uploads/2025/02/chantel-E2n6-GuBGYo-unsplash-scaled.jpg
END:VEVENT
BEGIN:VEVENT
DTSTART;TZID=America/Denver:20270608T190000
DTEND;TZID=America/Denver:20270608T220000
DTSTAMP:20260423T000713
CREATED:20250213T160301Z
LAST-MODIFIED:20250213T160301Z
UID:10000122-1812481200-1812492000@kimmyzongreenway.com
SUMMARY:Open Mic
DESCRIPTION:It’s your turn to take the stage! Bring your instrument(s) and showcase what you got every Tuesday at the home of the best live music in Glendale\, AZ.
URL:https://kimmyzongreenway.com/event/open-mic/2027-06-08/
LOCATION:Kimmyz on Greenway\, 5930 W Greenway Rd\, Glendale\, AZ\, 85306\, United States
CATEGORIES:Live Music
ATTACH;FMTTYPE=image/jpeg:https://kimmyzongreenway.com/wp-content/uploads/2025/02/audio-2941753_1920.jpg
END:VEVENT
BEGIN:VEVENT
DTSTART;TZID=America/Denver:20270609T110000
DTEND;TZID=America/Denver:20270609T210000
DTSTAMP:20260423T000713
CREATED:20250213T172729Z
LAST-MODIFIED:20250213T213423Z
UID:10002738-1812538800-1812574800@kimmyzongreenway.com
SUMMARY:Burger & Beer Wednesday
DESCRIPTION:Our classic juicy burger served with French Fries and a pint of domestic beer or soda. 
URL:https://kimmyzongreenway.com/event/burger-beer-wednesday/2027-06-09/
LOCATION:Kimmyz on Greenway\, 5930 W Greenway Rd\, Glendale\, AZ\, 85306\, United States
CATEGORIES:Food Specials
ATTACH;FMTTYPE=image/jpeg:https://kimmyzongreenway.com/wp-content/uploads/2025/02/3.jpg
END:VEVENT
BEGIN:VEVENT
DTSTART;VALUE=DATE:20270610
DTEND;VALUE=DATE:20270612
DTSTAMP:20260423T000713
CREATED:20250225T234027Z
LAST-MODIFIED:20250225T234027Z
UID:10003793-1812589200-1812675599@kimmyzongreenway.com
SUMMARY:Bike Night
DESCRIPTION:We are your premiere biker friendly bar! Join us for biker specials\, live music & events every Thursday. (Sponsored by Arrowhead Harley-Davidson)
URL:https://kimmyzongreenway.com/event/bike-night/2027-06-10/
LOCATION:Kimmyz on Greenway\, 5930 W Greenway Rd\, Glendale\, AZ\, 85306\, United States
CATEGORIES:Live Music,Special Events
ATTACH;FMTTYPE=image/jpeg:https://kimmyzongreenway.com/wp-content/uploads/2025/02/motorcycle-7539871_1280.jpg
END:VEVENT
BEGIN:VEVENT
DTSTART;TZID=America/Denver:20270610T110000
DTEND;TZID=America/Denver:20270610T210000
DTSTAMP:20260423T000713
CREATED:20250213T173133Z
LAST-MODIFIED:20250213T213309Z
UID:10002217-1812625200-1812661200@kimmyzongreenway.com
SUMMARY:Philly Thursday
DESCRIPTION:Philly cheese steak sandwich served with French Fries and a pint of domestic beer or soda.  \n 
URL:https://kimmyzongreenway.com/event/philly-thursday/2027-06-10/
LOCATION:Kimmyz on Greenway\, 5930 W Greenway Rd\, Glendale\, AZ\, 85306\, United States
CATEGORIES:Food Specials
ATTACH;FMTTYPE=image/jpeg:https://kimmyzongreenway.com/wp-content/uploads/2025/02/snappr-IKsF2Nfh9NY-unsplash-scaled.jpg
END:VEVENT
BEGIN:VEVENT
DTSTART;TZID=America/Denver:20270611T110000
DTEND;TZID=America/Denver:20270611T220000
DTSTAMP:20260423T000713
CREATED:20250213T173428Z
LAST-MODIFIED:20250213T213339Z
UID:10002477-1812711600-1812751200@kimmyzongreenway.com
SUMMARY:Fish Fry Friday
DESCRIPTION:Fish Fry Friday:\n \n   All you can eat fish fry – $18.99 \n   Fish Fry Basket – $14.99 \n   Fish & Shrimp Basket – $16.99 \n 
URL:https://kimmyzongreenway.com/event/fish-fry-friday/2027-06-11/
LOCATION:Kimmyz on Greenway\, 5930 W Greenway Rd\, Glendale\, AZ\, 85306\, United States
CATEGORIES:Food Specials
ATTACH;FMTTYPE=image/jpeg:https://kimmyzongreenway.com/wp-content/uploads/2025/02/davey-gravy-YpQGo0QTshE-unsplash-scaled.jpg
END:VEVENT
BEGIN:VEVENT
DTSTART;TZID=America/Denver:20270612T110000
DTEND;TZID=America/Denver:20270612T220000
DTSTAMP:20260423T000713
CREATED:20250213T175029Z
LAST-MODIFIED:20250213T213141Z
UID:10001956-1812798000-1812837600@kimmyzongreenway.com
SUMMARY:Reuben Sandwich Saturday
DESCRIPTION:Reuben sandwich served with French Fries.  \n 
URL:https://kimmyzongreenway.com/event/reuben-sandwich-saturday/2027-06-12/
LOCATION:Kimmyz on Greenway\, 5930 W Greenway Rd\, Glendale\, AZ\, 85306\, United States
CATEGORIES:Food Specials
ATTACH;FMTTYPE=image/png:https://kimmyzongreenway.com/wp-content/uploads/2025/02/Screenshot-2025-02-13-at-10.13.40 AM.png
END:VEVENT
BEGIN:VEVENT
DTSTART;TZID=America/Denver:20270613T110000
DTEND;TZID=America/Denver:20270613T210000
DTSTAMP:20260423T000713
CREATED:20250213T171734Z
LAST-MODIFIED:20250213T213655Z
UID:10003525-1812884400-1812920400@kimmyzongreenway.com
SUMMARY:French Dip Sunday
DESCRIPTION:French Dip sandwich served with French Fries
URL:https://kimmyzongreenway.com/event/french-dip-sunday/2027-06-13/
LOCATION:Kimmyz on Greenway\, 5930 W Greenway Rd\, Glendale\, AZ\, 85306\, United States
CATEGORIES:Food Specials
ATTACH;FMTTYPE=image/png:https://kimmyzongreenway.com/wp-content/uploads/2025/02/Screenshot-2025-02-13-at-10.14.27 AM.png
END:VEVENT
BEGIN:VEVENT
DTSTART;TZID=America/Denver:20270614T110000
DTEND;TZID=America/Denver:20270614T210000
DTSTAMP:20260423T000713
CREATED:20250808T205703Z
LAST-MODIFIED:20250808T205704Z
UID:10004253-1812970800-1813006800@kimmyzongreenway.com
SUMMARY:Meatloaf Monday
DESCRIPTION:Homemade meatloaf served with mashed potatoes\, gravy\, corn & a dinner roll.
URL:https://kimmyzongreenway.com/event/meatloaf-monday-2/2027-06-14/
LOCATION:Kimmyz on Greenway\, 5930 W Greenway Rd\, Glendale\, AZ\, 85306\, United States
CATEGORIES:Food Specials
ATTACH;FMTTYPE=image/png:https://kimmyzongreenway.com/wp-content/uploads/2025/02/Screenshot-2025-02-13-at-10.20.59 AM.png
END:VEVENT
BEGIN:VEVENT
DTSTART;TZID=America/Denver:20270614T190000
DTEND;TZID=America/Denver:20270614T220000
DTSTAMP:20260423T000713
CREATED:20250213T160657Z
LAST-MODIFIED:20250213T160657Z
UID:10000385-1812999600-1813010400@kimmyzongreenway.com
SUMMARY:Karaoke
DESCRIPTION:Pick a song\, grab the mic\, and show off your pipes! Join us for the best Karaoke in Glendale every Monday night.
URL:https://kimmyzongreenway.com/event/karaoke/2027-06-14/
LOCATION:Kimmyz on Greenway\, 5930 W Greenway Rd\, Glendale\, AZ\, 85306\, United States
CATEGORIES:Live Music
ATTACH;FMTTYPE=image/jpeg:https://kimmyzongreenway.com/wp-content/uploads/2025/02/microphone-4547633_1920.jpg
END:VEVENT
BEGIN:VEVENT
DTSTART;TZID=America/Denver:20270615T110000
DTEND;TZID=America/Denver:20270615T210000
DTSTAMP:20260423T000713
CREATED:20250213T172529Z
LAST-MODIFIED:20250213T213516Z
UID:10003001-1813057200-1813093200@kimmyzongreenway.com
SUMMARY:Taco Tuesday
DESCRIPTION:Three tacos (your choice of ground beef\, steak\, fish\, or chicken) served with fresh chips and salsa.  \n 
URL:https://kimmyzongreenway.com/event/taco-tuesday/2027-06-15/
LOCATION:Kimmyz on Greenway\, 5930 W Greenway Rd\, Glendale\, AZ\, 85306\, United States
CATEGORIES:Food Specials
ATTACH;FMTTYPE=image/jpeg:https://kimmyzongreenway.com/wp-content/uploads/2025/02/chantel-E2n6-GuBGYo-unsplash-scaled.jpg
END:VEVENT
BEGIN:VEVENT
DTSTART;TZID=America/Denver:20270615T190000
DTEND;TZID=America/Denver:20270615T220000
DTSTAMP:20260423T000713
CREATED:20250213T160301Z
LAST-MODIFIED:20250213T160301Z
UID:10000123-1813086000-1813096800@kimmyzongreenway.com
SUMMARY:Open Mic
DESCRIPTION:It’s your turn to take the stage! Bring your instrument(s) and showcase what you got every Tuesday at the home of the best live music in Glendale\, AZ.
URL:https://kimmyzongreenway.com/event/open-mic/2027-06-15/
LOCATION:Kimmyz on Greenway\, 5930 W Greenway Rd\, Glendale\, AZ\, 85306\, United States
CATEGORIES:Live Music
ATTACH;FMTTYPE=image/jpeg:https://kimmyzongreenway.com/wp-content/uploads/2025/02/audio-2941753_1920.jpg
END:VEVENT
BEGIN:VEVENT
DTSTART;TZID=America/Denver:20270616T110000
DTEND;TZID=America/Denver:20270616T210000
DTSTAMP:20260423T000713
CREATED:20250213T172729Z
LAST-MODIFIED:20250213T213423Z
UID:10002739-1813143600-1813179600@kimmyzongreenway.com
SUMMARY:Burger & Beer Wednesday
DESCRIPTION:Our classic juicy burger served with French Fries and a pint of domestic beer or soda. 
URL:https://kimmyzongreenway.com/event/burger-beer-wednesday/2027-06-16/
LOCATION:Kimmyz on Greenway\, 5930 W Greenway Rd\, Glendale\, AZ\, 85306\, United States
CATEGORIES:Food Specials
ATTACH;FMTTYPE=image/jpeg:https://kimmyzongreenway.com/wp-content/uploads/2025/02/3.jpg
END:VEVENT
BEGIN:VEVENT
DTSTART;VALUE=DATE:20270617
DTEND;VALUE=DATE:20270619
DTSTAMP:20260423T000713
CREATED:20250225T234027Z
LAST-MODIFIED:20250225T234027Z
UID:10003794-1813194000-1813280399@kimmyzongreenway.com
SUMMARY:Bike Night
DESCRIPTION:We are your premiere biker friendly bar! Join us for biker specials\, live music & events every Thursday. (Sponsored by Arrowhead Harley-Davidson)
URL:https://kimmyzongreenway.com/event/bike-night/2027-06-17/
LOCATION:Kimmyz on Greenway\, 5930 W Greenway Rd\, Glendale\, AZ\, 85306\, United States
CATEGORIES:Live Music,Special Events
ATTACH;FMTTYPE=image/jpeg:https://kimmyzongreenway.com/wp-content/uploads/2025/02/motorcycle-7539871_1280.jpg
END:VEVENT
BEGIN:VEVENT
DTSTART;TZID=America/Denver:20270617T110000
DTEND;TZID=America/Denver:20270617T210000
DTSTAMP:20260423T000713
CREATED:20250213T173133Z
LAST-MODIFIED:20250213T213309Z
UID:10002218-1813230000-1813266000@kimmyzongreenway.com
SUMMARY:Philly Thursday
DESCRIPTION:Philly cheese steak sandwich served with French Fries and a pint of domestic beer or soda.  \n 
URL:https://kimmyzongreenway.com/event/philly-thursday/2027-06-17/
LOCATION:Kimmyz on Greenway\, 5930 W Greenway Rd\, Glendale\, AZ\, 85306\, United States
CATEGORIES:Food Specials
ATTACH;FMTTYPE=image/jpeg:https://kimmyzongreenway.com/wp-content/uploads/2025/02/snappr-IKsF2Nfh9NY-unsplash-scaled.jpg
END:VEVENT
BEGIN:VEVENT
DTSTART;TZID=America/Denver:20270618T110000
DTEND;TZID=America/Denver:20270618T220000
DTSTAMP:20260423T000713
CREATED:20250213T173428Z
LAST-MODIFIED:20250213T213339Z
UID:10002478-1813316400-1813356000@kimmyzongreenway.com
SUMMARY:Fish Fry Friday
DESCRIPTION:Fish Fry Friday:\n \n   All you can eat fish fry – $18.99 \n   Fish Fry Basket – $14.99 \n   Fish & Shrimp Basket – $16.99 \n 
URL:https://kimmyzongreenway.com/event/fish-fry-friday/2027-06-18/
LOCATION:Kimmyz on Greenway\, 5930 W Greenway Rd\, Glendale\, AZ\, 85306\, United States
CATEGORIES:Food Specials
ATTACH;FMTTYPE=image/jpeg:https://kimmyzongreenway.com/wp-content/uploads/2025/02/davey-gravy-YpQGo0QTshE-unsplash-scaled.jpg
END:VEVENT
BEGIN:VEVENT
DTSTART;TZID=America/Denver:20270619T110000
DTEND;TZID=America/Denver:20270619T220000
DTSTAMP:20260423T000713
CREATED:20250213T175029Z
LAST-MODIFIED:20250213T213141Z
UID:10001957-1813402800-1813442400@kimmyzongreenway.com
SUMMARY:Reuben Sandwich Saturday
DESCRIPTION:Reuben sandwich served with French Fries.  \n 
URL:https://kimmyzongreenway.com/event/reuben-sandwich-saturday/2027-06-19/
LOCATION:Kimmyz on Greenway\, 5930 W Greenway Rd\, Glendale\, AZ\, 85306\, United States
CATEGORIES:Food Specials
ATTACH;FMTTYPE=image/png:https://kimmyzongreenway.com/wp-content/uploads/2025/02/Screenshot-2025-02-13-at-10.13.40 AM.png
END:VEVENT
BEGIN:VEVENT
DTSTART;TZID=America/Denver:20270620T110000
DTEND;TZID=America/Denver:20270620T210000
DTSTAMP:20260423T000713
CREATED:20250213T171734Z
LAST-MODIFIED:20250213T213655Z
UID:10003526-1813489200-1813525200@kimmyzongreenway.com
SUMMARY:French Dip Sunday
DESCRIPTION:French Dip sandwich served with French Fries
URL:https://kimmyzongreenway.com/event/french-dip-sunday/2027-06-20/
LOCATION:Kimmyz on Greenway\, 5930 W Greenway Rd\, Glendale\, AZ\, 85306\, United States
CATEGORIES:Food Specials
ATTACH;FMTTYPE=image/png:https://kimmyzongreenway.com/wp-content/uploads/2025/02/Screenshot-2025-02-13-at-10.14.27 AM.png
END:VEVENT
BEGIN:VEVENT
DTSTART;TZID=America/Denver:20270621T110000
DTEND;TZID=America/Denver:20270621T210000
DTSTAMP:20260423T000713
CREATED:20250808T205703Z
LAST-MODIFIED:20250808T205704Z
UID:10004254-1813575600-1813611600@kimmyzongreenway.com
SUMMARY:Meatloaf Monday
DESCRIPTION:Homemade meatloaf served with mashed potatoes\, gravy\, corn & a dinner roll.
URL:https://kimmyzongreenway.com/event/meatloaf-monday-2/2027-06-21/
LOCATION:Kimmyz on Greenway\, 5930 W Greenway Rd\, Glendale\, AZ\, 85306\, United States
CATEGORIES:Food Specials
ATTACH;FMTTYPE=image/png:https://kimmyzongreenway.com/wp-content/uploads/2025/02/Screenshot-2025-02-13-at-10.20.59 AM.png
END:VEVENT
BEGIN:VEVENT
DTSTART;TZID=America/Denver:20270621T190000
DTEND;TZID=America/Denver:20270621T220000
DTSTAMP:20260423T000713
CREATED:20250213T160657Z
LAST-MODIFIED:20250213T160657Z
UID:10000386-1813604400-1813615200@kimmyzongreenway.com
SUMMARY:Karaoke
DESCRIPTION:Pick a song\, grab the mic\, and show off your pipes! Join us for the best Karaoke in Glendale every Monday night.
URL:https://kimmyzongreenway.com/event/karaoke/2027-06-21/
LOCATION:Kimmyz on Greenway\, 5930 W Greenway Rd\, Glendale\, AZ\, 85306\, United States
CATEGORIES:Live Music
ATTACH;FMTTYPE=image/jpeg:https://kimmyzongreenway.com/wp-content/uploads/2025/02/microphone-4547633_1920.jpg
END:VEVENT
BEGIN:VEVENT
DTSTART;TZID=America/Denver:20270622T110000
DTEND;TZID=America/Denver:20270622T210000
DTSTAMP:20260423T000713
CREATED:20250213T172529Z
LAST-MODIFIED:20250213T213516Z
UID:10003002-1813662000-1813698000@kimmyzongreenway.com
SUMMARY:Taco Tuesday
DESCRIPTION:Three tacos (your choice of ground beef\, steak\, fish\, or chicken) served with fresh chips and salsa.  \n 
URL:https://kimmyzongreenway.com/event/taco-tuesday/2027-06-22/
LOCATION:Kimmyz on Greenway\, 5930 W Greenway Rd\, Glendale\, AZ\, 85306\, United States
CATEGORIES:Food Specials
ATTACH;FMTTYPE=image/jpeg:https://kimmyzongreenway.com/wp-content/uploads/2025/02/chantel-E2n6-GuBGYo-unsplash-scaled.jpg
END:VEVENT
BEGIN:VEVENT
DTSTART;TZID=America/Denver:20270622T190000
DTEND;TZID=America/Denver:20270622T220000
DTSTAMP:20260423T000713
CREATED:20250213T160301Z
LAST-MODIFIED:20250213T160301Z
UID:10000124-1813690800-1813701600@kimmyzongreenway.com
SUMMARY:Open Mic
DESCRIPTION:It’s your turn to take the stage! Bring your instrument(s) and showcase what you got every Tuesday at the home of the best live music in Glendale\, AZ.
URL:https://kimmyzongreenway.com/event/open-mic/2027-06-22/
LOCATION:Kimmyz on Greenway\, 5930 W Greenway Rd\, Glendale\, AZ\, 85306\, United States
CATEGORIES:Live Music
ATTACH;FMTTYPE=image/jpeg:https://kimmyzongreenway.com/wp-content/uploads/2025/02/audio-2941753_1920.jpg
END:VEVENT
END:VCALENDAR