BEGIN:VCALENDAR
VERSION:2.0
PRODID:-//Kimmyz on Greenway - ECPv6.15.20//NONSGML v1.0//EN
CALSCALE:GREGORIAN
METHOD:PUBLISH
X-ORIGINAL-URL:https://kimmyzongreenway.com
X-WR-CALDESC:Events for Kimmyz on Greenway
REFRESH-INTERVAL;VALUE=DURATION:PT1H
X-Robots-Tag:noindex
X-PUBLISHED-TTL:PT1H
BEGIN:VTIMEZONE
TZID:America/Phoenix
BEGIN:STANDARD
TZOFFSETFROM:-0700
TZOFFSETTO:-0700
TZNAME:MST
DTSTART:20240101T000000
END:STANDARD
END:VTIMEZONE
BEGIN:VEVENT
DTSTART;TZID=America/Phoenix:20250827T190000
DTEND;TZID=America/Phoenix:20250827T220000
DTSTAMP:20260423T064300
CREATED:20250808T210823Z
LAST-MODIFIED:20250808T210823Z
UID:10004420-1756321200-1756332000@kimmyzongreenway.com
SUMMARY:The Boondocks
DESCRIPTION:Join us for the best live music in Glendale as the Boondocks take the stage.
URL:https://kimmyzongreenway.com/event/the-boondocks/
LOCATION:Kimmyz on Greenway\, 5930 W Greenway Rd\, Glendale\, AZ\, 85306\, United States
CATEGORIES:Live Music
ATTACH;FMTTYPE=image/jpeg:https://kimmyzongreenway.com/wp-content/uploads/2025/08/359452841_659596859523589_6400458192898332656_n.jpg
END:VEVENT
END:VCALENDAR