BEGIN:VCALENDAR
VERSION:2.0
PRODID:-//Kimmyz on Greenway - ECPv6.15.20//NONSGML v1.0//EN
CALSCALE:GREGORIAN
METHOD:PUBLISH
X-ORIGINAL-URL:https://kimmyzongreenway.com
X-WR-CALDESC:Events for Kimmyz on Greenway
REFRESH-INTERVAL;VALUE=DURATION:PT1H
X-Robots-Tag:noindex
X-PUBLISHED-TTL:PT1H
BEGIN:VTIMEZONE
TZID:America/Phoenix
BEGIN:STANDARD
TZOFFSETFROM:-0700
TZOFFSETTO:-0700
TZNAME:MST
DTSTART:20240101T000000
END:STANDARD
END:VTIMEZONE
BEGIN:VEVENT
DTSTART;TZID=America/Phoenix:20260403T200000
DTEND;TZID=America/Phoenix:20260404T000000
DTSTAMP:20260419T145306
CREATED:20250415T232805Z
LAST-MODIFIED:20260204T010154Z
UID:10004503-1775246400-1775260800@kimmyzongreenway.com
SUMMARY:Sh!tshow Romeo
DESCRIPTION:Join us for the best live music in Glendale as Sh!tshow Romeo takes the stage. They are a high energy rock band hailing from Phoenix\, AZ. Known for their electrifying performances\, and versatile setlist\, Sh!tShow Romeo brings the best of classic\, alternative and modern hits to every stage they conquer.
URL:https://kimmyzongreenway.com/event/shtshow-romeo/2026-04-03/
LOCATION:Kimmyz on Greenway\, 5930 W Greenway Rd\, Glendale\, AZ\, 85306\, United States
CATEGORIES:Live Music
ATTACH;FMTTYPE=image/jpeg:https://kimmyzongreenway.com/wp-content/uploads/2025/04/402100007_208545725616185_8134269914574200366_n-1.jpg
END:VEVENT
BEGIN:VEVENT
DTSTART;TZID=America/Phoenix:20260213T200000
DTEND;TZID=America/Phoenix:20260214T000000
DTSTAMP:20260419T145306
CREATED:20250415T232805Z
LAST-MODIFIED:20260204T010154Z
UID:10004502-1771012800-1771027200@kimmyzongreenway.com
SUMMARY:Sh!tshow Romeo
DESCRIPTION:Join us for the best live music in Glendale as Sh!tshow Romeo takes the stage. They are a high energy rock band hailing from Phoenix\, AZ. Known for their electrifying performances\, and versatile setlist\, Sh!tShow Romeo brings the best of classic\, alternative and modern hits to every stage they conquer.
URL:https://kimmyzongreenway.com/event/shtshow-romeo/2026-02-13/
LOCATION:Kimmyz on Greenway\, 5930 W Greenway Rd\, Glendale\, AZ\, 85306\, United States
CATEGORIES:Live Music
ATTACH;FMTTYPE=image/jpeg:https://kimmyzongreenway.com/wp-content/uploads/2025/04/402100007_208545725616185_8134269914574200366_n-1.jpg
END:VEVENT
BEGIN:VEVENT
DTSTART;TZID=America/Phoenix:20250516T200000
DTEND;TZID=America/Phoenix:20250517T000000
DTSTAMP:20260419T145306
CREATED:20250415T232805Z
LAST-MODIFIED:20260204T010154Z
UID:10004097-1747425600-1747440000@kimmyzongreenway.com
SUMMARY:Sh!tshow Romeo
DESCRIPTION:Join us for the best live music in Glendale as Sh!tshow Romeo takes the stage. They are a high energy rock band hailing from Phoenix\, AZ. Known for their electrifying performances\, and versatile setlist\, Sh!tShow Romeo brings the best of classic\, alternative and modern hits to every stage they conquer.
URL:https://kimmyzongreenway.com/event/shtshow-romeo/2025-05-16/
LOCATION:Kimmyz on Greenway\, 5930 W Greenway Rd\, Glendale\, AZ\, 85306\, United States
CATEGORIES:Live Music
ATTACH;FMTTYPE=image/jpeg:https://kimmyzongreenway.com/wp-content/uploads/2025/04/402100007_208545725616185_8134269914574200366_n-1.jpg
END:VEVENT
BEGIN:VEVENT
DTSTART;TZID=America/Phoenix:20250419T200000
DTEND;TZID=America/Phoenix:20250420T000000
DTSTAMP:20260419T145306
CREATED:20250415T232805Z
LAST-MODIFIED:20260204T010154Z
UID:10004089-1745092800-1745107200@kimmyzongreenway.com
SUMMARY:Sh!tshow Romeo
DESCRIPTION:Join us for the best live music in Glendale as Sh!tshow Romeo takes the stage. They are a high energy rock band hailing from Phoenix\, AZ. Known for their electrifying performances\, and versatile setlist\, Sh!tShow Romeo brings the best of classic\, alternative and modern hits to every stage they conquer.
URL:https://kimmyzongreenway.com/event/shtshow-romeo/2025-04-19/
LOCATION:Kimmyz on Greenway\, 5930 W Greenway Rd\, Glendale\, AZ\, 85306\, United States
CATEGORIES:Live Music
ATTACH;FMTTYPE=image/jpeg:https://kimmyzongreenway.com/wp-content/uploads/2025/04/402100007_208545725616185_8134269914574200366_n-1.jpg
END:VEVENT
END:VCALENDAR