BEGIN:VCALENDAR
VERSION:2.0
PRODID:-//Kimmyz on Greenway - ECPv6.15.20//NONSGML v1.0//EN
CALSCALE:GREGORIAN
METHOD:PUBLISH
X-ORIGINAL-URL:https://kimmyzongreenway.com
X-WR-CALDESC:Events for Kimmyz on Greenway
REFRESH-INTERVAL;VALUE=DURATION:PT1H
X-Robots-Tag:noindex
X-PUBLISHED-TTL:PT1H
BEGIN:VTIMEZONE
TZID:America/Phoenix
BEGIN:STANDARD
TZOFFSETFROM:-0700
TZOFFSETTO:-0700
TZNAME:MST
DTSTART:20240101T000000
END:STANDARD
END:VTIMEZONE
BEGIN:VEVENT
DTSTART;TZID=America/Phoenix:20260402T190000
DTEND;TZID=America/Phoenix:20260402T220000
DTSTAMP:20260419T132437
CREATED:20250226T002256Z
LAST-MODIFIED:20260327T011107Z
UID:10004495-1775156400-1775167200@kimmyzongreenway.com
SUMMARY:Chuck & Michael
DESCRIPTION:Join us for the best live music in Glendale as Chuck & Michael take the stage.  \n 
URL:https://kimmyzongreenway.com/event/chuck-michael/2026-04-02/
LOCATION:Kimmyz on Greenway\, 5930 W Greenway Rd\, Glendale\, AZ\, 85306\, United States
CATEGORIES:Live Music
ATTACH;FMTTYPE=image/jpeg:https://kimmyzongreenway.com/wp-content/uploads/2025/02/2874678976889988305.jpg
END:VEVENT
BEGIN:VEVENT
DTSTART;TZID=America/Phoenix:20260315T160000
DTEND;TZID=America/Phoenix:20260315T190000
DTSTAMP:20260419T132437
CREATED:20250226T002256Z
LAST-MODIFIED:20260327T011107Z
UID:10004535-1773590400-1773601200@kimmyzongreenway.com
SUMMARY:Chuck & Michael
DESCRIPTION:Join us for the best live music in Glendale as Chuck & Michael take the stage.  \n 
URL:https://kimmyzongreenway.com/event/chuck-michael/2026-03-15/
LOCATION:Kimmyz on Greenway\, 5930 W Greenway Rd\, Glendale\, AZ\, 85306\, United States
CATEGORIES:Live Music
ATTACH;FMTTYPE=image/jpeg:https://kimmyzongreenway.com/wp-content/uploads/2025/02/2874678976889988305.jpg
END:VEVENT
BEGIN:VEVENT
DTSTART;TZID=America/Phoenix:20260305T190000
DTEND;TZID=America/Phoenix:20260305T220000
DTSTAMP:20260419T132437
CREATED:20250226T002256Z
LAST-MODIFIED:20260327T011107Z
UID:10004493-1772737200-1772748000@kimmyzongreenway.com
SUMMARY:Chuck & Michael
DESCRIPTION:Join us for the best live music in Glendale as Chuck & Michael take the stage.  \n 
URL:https://kimmyzongreenway.com/event/chuck-michael/2026-03-05/
LOCATION:Kimmyz on Greenway\, 5930 W Greenway Rd\, Glendale\, AZ\, 85306\, United States
CATEGORIES:Live Music
ATTACH;FMTTYPE=image/jpeg:https://kimmyzongreenway.com/wp-content/uploads/2025/02/2874678976889988305.jpg
END:VEVENT
BEGIN:VEVENT
DTSTART;TZID=America/Phoenix:20260215T190000
DTEND;TZID=America/Phoenix:20260215T220000
DTSTAMP:20260419T132437
CREATED:20250226T002256Z
LAST-MODIFIED:20260327T011107Z
UID:10004492-1771182000-1771192800@kimmyzongreenway.com
SUMMARY:Chuck & Michael
DESCRIPTION:Join us for the best live music in Glendale as Chuck & Michael take the stage.  \n 
URL:https://kimmyzongreenway.com/event/chuck-michael/2026-02-15/
LOCATION:Kimmyz on Greenway\, 5930 W Greenway Rd\, Glendale\, AZ\, 85306\, United States
CATEGORIES:Live Music
ATTACH;FMTTYPE=image/jpeg:https://kimmyzongreenway.com/wp-content/uploads/2025/02/2874678976889988305.jpg
END:VEVENT
BEGIN:VEVENT
DTSTART;TZID=America/Phoenix:20260205T190000
DTEND;TZID=America/Phoenix:20260205T220000
DTSTAMP:20260419T132437
CREATED:20250226T002256Z
LAST-MODIFIED:20260327T011107Z
UID:10004491-1770318000-1770328800@kimmyzongreenway.com
SUMMARY:Chuck & Michael
DESCRIPTION:Join us for the best live music in Glendale as Chuck & Michael take the stage.  \n 
URL:https://kimmyzongreenway.com/event/chuck-michael/2026-02-05/
LOCATION:Kimmyz on Greenway\, 5930 W Greenway Rd\, Glendale\, AZ\, 85306\, United States
CATEGORIES:Live Music
ATTACH;FMTTYPE=image/jpeg:https://kimmyzongreenway.com/wp-content/uploads/2025/02/2874678976889988305.jpg
END:VEVENT
BEGIN:VEVENT
DTSTART;TZID=America/Phoenix:20251217T190000
DTEND;TZID=America/Phoenix:20251217T220000
DTSTAMP:20260419T132437
CREATED:20250226T002256Z
LAST-MODIFIED:20260327T011107Z
UID:10004459-1765998000-1766008800@kimmyzongreenway.com
SUMMARY:Chuck & Michael
DESCRIPTION:Join us for the best live music in Glendale as Chuck & Michael take the stage.  \n 
URL:https://kimmyzongreenway.com/event/chuck-michael/2025-12-17/
LOCATION:Kimmyz on Greenway\, 5930 W Greenway Rd\, Glendale\, AZ\, 85306\, United States
CATEGORIES:Live Music
ATTACH;FMTTYPE=image/jpeg:https://kimmyzongreenway.com/wp-content/uploads/2025/02/2874678976889988305.jpg
END:VEVENT
BEGIN:VEVENT
DTSTART;TZID=America/Phoenix:20250831T150000
DTEND;TZID=America/Phoenix:20250831T180000
DTSTAMP:20260419T132437
CREATED:20250226T002256Z
LAST-MODIFIED:20260327T011107Z
UID:10004422-1756652400-1756663200@kimmyzongreenway.com
SUMMARY:Chuck & Michael
DESCRIPTION:Join us for the best live music in Glendale as Chuck & Michael take the stage.  \n 
URL:https://kimmyzongreenway.com/event/chuck-michael/2025-08-31/
LOCATION:Kimmyz on Greenway\, 5930 W Greenway Rd\, Glendale\, AZ\, 85306\, United States
CATEGORIES:Live Music
ATTACH;FMTTYPE=image/jpeg:https://kimmyzongreenway.com/wp-content/uploads/2025/02/2874678976889988305.jpg
END:VEVENT
BEGIN:VEVENT
DTSTART;TZID=America/Phoenix:20250803T150000
DTEND;TZID=America/Phoenix:20250803T180000
DTSTAMP:20260419T132437
CREATED:20250226T002256Z
LAST-MODIFIED:20260327T011107Z
UID:10004147-1754233200-1754244000@kimmyzongreenway.com
SUMMARY:Chuck & Michael
DESCRIPTION:Join us for the best live music in Glendale as Chuck & Michael take the stage.  \n 
URL:https://kimmyzongreenway.com/event/chuck-michael/2025-08-03/
LOCATION:Kimmyz on Greenway\, 5930 W Greenway Rd\, Glendale\, AZ\, 85306\, United States
CATEGORIES:Live Music
ATTACH;FMTTYPE=image/jpeg:https://kimmyzongreenway.com/wp-content/uploads/2025/02/2874678976889988305.jpg
END:VEVENT
BEGIN:VEVENT
DTSTART;TZID=America/Phoenix:20250706T150000
DTEND;TZID=America/Phoenix:20250706T180000
DTSTAMP:20260419T132437
CREATED:20250226T002256Z
LAST-MODIFIED:20260327T011107Z
UID:10004131-1751814000-1751824800@kimmyzongreenway.com
SUMMARY:Chuck & Michael
DESCRIPTION:Join us for the best live music in Glendale as Chuck & Michael take the stage.  \n 
URL:https://kimmyzongreenway.com/event/chuck-michael/2025-07-06/
LOCATION:Kimmyz on Greenway\, 5930 W Greenway Rd\, Glendale\, AZ\, 85306\, United States
CATEGORIES:Live Music
ATTACH;FMTTYPE=image/jpeg:https://kimmyzongreenway.com/wp-content/uploads/2025/02/2874678976889988305.jpg
END:VEVENT
BEGIN:VEVENT
DTSTART;TZID=America/Phoenix:20250601T150000
DTEND;TZID=America/Phoenix:20250601T180000
DTSTAMP:20260419T132437
CREATED:20250226T002256Z
LAST-MODIFIED:20260327T011107Z
UID:10004109-1748790000-1748800800@kimmyzongreenway.com
SUMMARY:Chuck & Michael
DESCRIPTION:Join us for the best live music in Glendale as Chuck & Michael take the stage.  \n 
URL:https://kimmyzongreenway.com/event/chuck-michael/2025-06-01/
LOCATION:Kimmyz on Greenway\, 5930 W Greenway Rd\, Glendale\, AZ\, 85306\, United States
CATEGORIES:Live Music
ATTACH;FMTTYPE=image/jpeg:https://kimmyzongreenway.com/wp-content/uploads/2025/02/2874678976889988305.jpg
END:VEVENT
BEGIN:VEVENT
DTSTART;TZID=America/Phoenix:20250504T150000
DTEND;TZID=America/Phoenix:20250504T180000
DTSTAMP:20260419T132437
CREATED:20250226T002256Z
LAST-MODIFIED:20260327T011107Z
UID:10004092-1746370800-1746381600@kimmyzongreenway.com
SUMMARY:Chuck & Michael
DESCRIPTION:Join us for the best live music in Glendale as Chuck & Michael take the stage.  \n 
URL:https://kimmyzongreenway.com/event/chuck-michael/2025-05-04/
LOCATION:Kimmyz on Greenway\, 5930 W Greenway Rd\, Glendale\, AZ\, 85306\, United States
CATEGORIES:Live Music
ATTACH;FMTTYPE=image/jpeg:https://kimmyzongreenway.com/wp-content/uploads/2025/02/2874678976889988305.jpg
END:VEVENT
BEGIN:VEVENT
DTSTART;TZID=America/Phoenix:20250326T190000
DTEND;TZID=America/Phoenix:20250326T220000
DTSTAMP:20260419T132437
CREATED:20250226T002256Z
LAST-MODIFIED:20260327T011107Z
UID:10004006-1743015600-1743026400@kimmyzongreenway.com
SUMMARY:Chuck & Michael
DESCRIPTION:Join us for the best live music in Glendale as Chuck & Michael take the stage.  \n 
URL:https://kimmyzongreenway.com/event/chuck-michael/2025-03-26/
LOCATION:Kimmyz on Greenway\, 5930 W Greenway Rd\, Glendale\, AZ\, 85306\, United States
CATEGORIES:Live Music
ATTACH;FMTTYPE=image/jpeg:https://kimmyzongreenway.com/wp-content/uploads/2025/02/2874678976889988305.jpg
END:VEVENT
BEGIN:VEVENT
DTSTART;TZID=America/Phoenix:20250309T150000
DTEND;TZID=America/Phoenix:20250309T180000
DTSTAMP:20260419T132437
CREATED:20250226T002256Z
LAST-MODIFIED:20260327T011107Z
UID:10004005-1741532400-1741543200@kimmyzongreenway.com
SUMMARY:Chuck & Michael
DESCRIPTION:Join us for the best live music in Glendale as Chuck & Michael take the stage.  \n 
URL:https://kimmyzongreenway.com/event/chuck-michael/2025-03-09/
LOCATION:Kimmyz on Greenway\, 5930 W Greenway Rd\, Glendale\, AZ\, 85306\, United States
CATEGORIES:Live Music
ATTACH;FMTTYPE=image/jpeg:https://kimmyzongreenway.com/wp-content/uploads/2025/02/2874678976889988305.jpg
END:VEVENT
END:VCALENDAR