BEGIN:VCALENDAR
VERSION:2.0
PRODID:-//Kimmyz on Greenway - ECPv6.15.20//NONSGML v1.0//EN
CALSCALE:GREGORIAN
METHOD:PUBLISH
X-WR-CALNAME:Kimmyz on Greenway
X-ORIGINAL-URL:https://kimmyzongreenway.com
X-WR-CALDESC:Events for Kimmyz on Greenway
REFRESH-INTERVAL;VALUE=DURATION:PT1H
X-Robots-Tag:noindex
X-PUBLISHED-TTL:PT1H
BEGIN:VTIMEZONE
TZID:America/Phoenix
BEGIN:STANDARD
TZOFFSETFROM:-0700
TZOFFSETTO:-0700
TZNAME:MST
DTSTART:20240101T000000
END:STANDARD
END:VTIMEZONE
BEGIN:VEVENT
DTSTART;TZID=America/Phoenix:20260325T190000
DTEND;TZID=America/Phoenix:20260325T220000
DTSTAMP:20260422T133637
CREATED:20250225T233159Z
LAST-MODIFIED:20260327T010738Z
UID:10004542-1774465200-1774476000@kimmyzongreenway.com
SUMMARY:Bill Gower & Ethan Foxx
DESCRIPTION:Join us for the best live music in Glendale as Bill & Ethan take the stage. Ethan is the lead singer of Tripwire. Come catch this acoustic performance.
URL:https://kimmyzongreenway.com/event/bill-ethan/2026-03-25/
LOCATION:Kimmyz on Greenway\, 5930 W Greenway Rd\, Glendale\, AZ\, 85306\, United States
CATEGORIES:Live Music
ATTACH;FMTTYPE=image/png:https://kimmyzongreenway.com/wp-content/uploads/2025/02/Screenshot-2025-02-25-at-4.01.41 PM.png
END:VEVENT
BEGIN:VEVENT
DTSTART;TZID=America/Phoenix:20250723T190000
DTEND;TZID=America/Phoenix:20250723T220000
DTSTAMP:20260422T133637
CREATED:20250225T233159Z
LAST-MODIFIED:20260327T010738Z
UID:10004140-1753297200-1753308000@kimmyzongreenway.com
SUMMARY:Bill Gower & Ethan Foxx
DESCRIPTION:Join us for the best live music in Glendale as Bill & Ethan take the stage. Ethan is the lead singer of Tripwire. Come catch this acoustic performance.
URL:https://kimmyzongreenway.com/event/bill-ethan/2025-07-23/
LOCATION:Kimmyz on Greenway\, 5930 W Greenway Rd\, Glendale\, AZ\, 85306\, United States
CATEGORIES:Live Music
ATTACH;FMTTYPE=image/png:https://kimmyzongreenway.com/wp-content/uploads/2025/02/Screenshot-2025-02-25-at-4.01.41 PM.png
END:VEVENT
BEGIN:VEVENT
DTSTART;TZID=America/Phoenix:20250717T190000
DTEND;TZID=America/Phoenix:20250717T220000
DTSTAMP:20260422T133637
CREATED:20250225T233159Z
LAST-MODIFIED:20260327T010738Z
UID:10004139-1752778800-1752789600@kimmyzongreenway.com
SUMMARY:Bill Gower & Ethan Foxx
DESCRIPTION:Join us for the best live music in Glendale as Bill & Ethan take the stage. Ethan is the lead singer of Tripwire. Come catch this acoustic performance.
URL:https://kimmyzongreenway.com/event/bill-ethan/2025-07-17/
LOCATION:Kimmyz on Greenway\, 5930 W Greenway Rd\, Glendale\, AZ\, 85306\, United States
CATEGORIES:Live Music
ATTACH;FMTTYPE=image/png:https://kimmyzongreenway.com/wp-content/uploads/2025/02/Screenshot-2025-02-25-at-4.01.41 PM.png
END:VEVENT
BEGIN:VEVENT
DTSTART;TZID=America/Phoenix:20250626T190000
DTEND;TZID=America/Phoenix:20250626T220000
DTSTAMP:20260422T133637
CREATED:20250225T233159Z
LAST-MODIFIED:20260327T010738Z
UID:10004121-1750964400-1750975200@kimmyzongreenway.com
SUMMARY:Bill Gower & Ethan Foxx
DESCRIPTION:Join us for the best live music in Glendale as Bill & Ethan take the stage. Ethan is the lead singer of Tripwire. Come catch this acoustic performance.
URL:https://kimmyzongreenway.com/event/bill-ethan/2025-06-26/
LOCATION:Kimmyz on Greenway\, 5930 W Greenway Rd\, Glendale\, AZ\, 85306\, United States
CATEGORIES:Live Music
ATTACH;FMTTYPE=image/png:https://kimmyzongreenway.com/wp-content/uploads/2025/02/Screenshot-2025-02-25-at-4.01.41 PM.png
END:VEVENT
BEGIN:VEVENT
DTSTART;TZID=America/Phoenix:20250528T190000
DTEND;TZID=America/Phoenix:20250528T220000
DTSTAMP:20260422T133637
CREATED:20250225T233159Z
LAST-MODIFIED:20260327T010738Z
UID:10004106-1748458800-1748469600@kimmyzongreenway.com
SUMMARY:Bill Gower & Ethan Foxx
DESCRIPTION:Join us for the best live music in Glendale as Bill & Ethan take the stage. Ethan is the lead singer of Tripwire. Come catch this acoustic performance.
URL:https://kimmyzongreenway.com/event/bill-ethan/2025-05-28/
LOCATION:Kimmyz on Greenway\, 5930 W Greenway Rd\, Glendale\, AZ\, 85306\, United States
CATEGORIES:Live Music
ATTACH;FMTTYPE=image/png:https://kimmyzongreenway.com/wp-content/uploads/2025/02/Screenshot-2025-02-25-at-4.01.41 PM.png
END:VEVENT
BEGIN:VEVENT
DTSTART;TZID=America/Phoenix:20250423T190000
DTEND;TZID=America/Phoenix:20250423T220000
DTSTAMP:20260422T133637
CREATED:20250225T233159Z
LAST-MODIFIED:20260327T010738Z
UID:10004078-1745434800-1745445600@kimmyzongreenway.com
SUMMARY:Bill Gower & Ethan Foxx
DESCRIPTION:Join us for the best live music in Glendale as Bill & Ethan take the stage. Ethan is the lead singer of Tripwire. Come catch this acoustic performance.
URL:https://kimmyzongreenway.com/event/bill-ethan/2025-04-23/
LOCATION:Kimmyz on Greenway\, 5930 W Greenway Rd\, Glendale\, AZ\, 85306\, United States
CATEGORIES:Live Music
ATTACH;FMTTYPE=image/png:https://kimmyzongreenway.com/wp-content/uploads/2025/02/Screenshot-2025-02-25-at-4.01.41 PM.png
END:VEVENT
BEGIN:VEVENT
DTSTART;TZID=America/Phoenix:20250226T190000
DTEND;TZID=America/Phoenix:20250226T220000
DTSTAMP:20260422T133637
CREATED:20250225T233159Z
LAST-MODIFIED:20260327T010738Z
UID:10003673-1740596400-1740607200@kimmyzongreenway.com
SUMMARY:Bill Gower & Ethan Foxx
DESCRIPTION:Join us for the best live music in Glendale as Bill & Ethan take the stage. Ethan is the lead singer of Tripwire. Come catch this acoustic performance.
URL:https://kimmyzongreenway.com/event/bill-ethan/2025-02-26/
LOCATION:Kimmyz on Greenway\, 5930 W Greenway Rd\, Glendale\, AZ\, 85306\, United States
CATEGORIES:Live Music
ATTACH;FMTTYPE=image/png:https://kimmyzongreenway.com/wp-content/uploads/2025/02/Screenshot-2025-02-25-at-4.01.41 PM.png
END:VEVENT
END:VCALENDAR