BEGIN:VCALENDAR
VERSION:2.0
PRODID:-//Kimmyz on Greenway - ECPv6.15.20//NONSGML v1.0//EN
CALSCALE:GREGORIAN
METHOD:PUBLISH
X-ORIGINAL-URL:https://kimmyzongreenway.com
X-WR-CALDESC:Events for Kimmyz on Greenway
REFRESH-INTERVAL;VALUE=DURATION:PT1H
X-Robots-Tag:noindex
X-PUBLISHED-TTL:PT1H
BEGIN:VTIMEZONE
TZID:America/Phoenix
BEGIN:STANDARD
TZOFFSETFROM:-0700
TZOFFSETTO:-0700
TZNAME:MST
DTSTART:20240101T000000
END:STANDARD
END:VTIMEZONE
BEGIN:VEVENT
DTSTART;TZID=America/Phoenix:20251220T200000
DTEND;TZID=America/Phoenix:20251221T000000
DTSTAMP:20260423T045013
CREATED:20251217T020041Z
LAST-MODIFIED:20251217T020041Z
UID:10004467-1766260800-1766275200@kimmyzongreenway.com
SUMMARY:Band of Fools
DESCRIPTION:Join us for the best live music in Glendale as Band of Fools takes the stage!
URL:https://kimmyzongreenway.com/event/band-of-fools/
LOCATION:Kimmyz on Greenway\, 5930 W Greenway Rd\, Glendale\, AZ\, 85306\, United States
CATEGORIES:Live Music
ATTACH;FMTTYPE=image/jpeg:https://kimmyzongreenway.com/wp-content/uploads/2025/12/460145949_122174557622226588_7051267706788617529_n.jpg
END:VEVENT
END:VCALENDAR