BEGIN:VCALENDAR
VERSION:2.0
PRODID:-//Kimmyz on Greenway - ECPv6.15.20//NONSGML v1.0//EN
CALSCALE:GREGORIAN
METHOD:PUBLISH
X-WR-CALNAME:Kimmyz on Greenway
X-ORIGINAL-URL:https://kimmyzongreenway.com
X-WR-CALDESC:Events for Kimmyz on Greenway
REFRESH-INTERVAL;VALUE=DURATION:PT1H
X-Robots-Tag:noindex
X-PUBLISHED-TTL:PT1H
BEGIN:VTIMEZONE
TZID:America/Denver
BEGIN:DAYLIGHT
TZOFFSETFROM:-0700
TZOFFSETTO:-0600
TZNAME:MDT
DTSTART:20240310T090000
END:DAYLIGHT
BEGIN:STANDARD
TZOFFSETFROM:-0600
TZOFFSETTO:-0700
TZNAME:MST
DTSTART:20241103T080000
END:STANDARD
BEGIN:DAYLIGHT
TZOFFSETFROM:-0700
TZOFFSETTO:-0600
TZNAME:MDT
DTSTART:20250309T090000
END:DAYLIGHT
BEGIN:STANDARD
TZOFFSETFROM:-0600
TZOFFSETTO:-0700
TZNAME:MST
DTSTART:20251102T080000
END:STANDARD
BEGIN:DAYLIGHT
TZOFFSETFROM:-0700
TZOFFSETTO:-0600
TZNAME:MDT
DTSTART:20260308T090000
END:DAYLIGHT
BEGIN:STANDARD
TZOFFSETFROM:-0600
TZOFFSETTO:-0700
TZNAME:MST
DTSTART:20261101T080000
END:STANDARD
END:VTIMEZONE
BEGIN:VTIMEZONE
TZID:America/Phoenix
BEGIN:STANDARD
TZOFFSETFROM:-0700
TZOFFSETTO:-0700
TZNAME:MST
DTSTART:20240101T000000
END:STANDARD
END:VTIMEZONE
BEGIN:VEVENT
DTSTART;TZID=America/Denver:20250530T110000
DTEND;TZID=America/Denver:20250530T220000
DTSTAMP:20260422T015714
CREATED:20250213T173428Z
LAST-MODIFIED:20250213T213339Z
UID:10002371-1748602800-1748642400@kimmyzongreenway.com
SUMMARY:Fish Fry Friday
DESCRIPTION:Fish Fry Friday:\n \n   All you can eat fish fry – $18.99 \n   Fish Fry Basket – $14.99 \n   Fish & Shrimp Basket – $16.99 \n 
URL:https://kimmyzongreenway.com/event/fish-fry-friday/2025-05-30/
LOCATION:Kimmyz on Greenway\, 5930 W Greenway Rd\, Glendale\, AZ\, 85306\, United States
CATEGORIES:Food Specials
ATTACH;FMTTYPE=image/jpeg:https://kimmyzongreenway.com/wp-content/uploads/2025/02/davey-gravy-YpQGo0QTshE-unsplash-scaled.jpg
END:VEVENT
BEGIN:VEVENT
DTSTART;TZID=America/Phoenix:20250529T190000
DTEND;TZID=America/Phoenix:20250529T220000
DTSTAMP:20260422T015714
CREATED:20250225T235515Z
LAST-MODIFIED:20250225T235515Z
UID:10003940-1748545200-1748556000@kimmyzongreenway.com
SUMMARY:Velvet Crush Duo
DESCRIPTION:Join us for the best live music in Glendale as the Velvet Crush Duo takes the stage.  \n 
URL:https://kimmyzongreenway.com/event/velvet-crush-duo/2025-05-29/
LOCATION:Kimmyz on Greenway\, 5930 W Greenway Rd\, Glendale\, AZ\, 85306\, United States
CATEGORIES:Live Music
ATTACH;FMTTYPE=image/png:https://kimmyzongreenway.com/wp-content/uploads/2025/02/Screenshot-2025-02-25-at-4.53.06 PM.png
END:VEVENT
BEGIN:VEVENT
DTSTART;TZID=America/Denver:20250529T110000
DTEND;TZID=America/Denver:20250529T210000
DTSTAMP:20260422T015714
CREATED:20250213T173133Z
LAST-MODIFIED:20250213T213309Z
UID:10002111-1748516400-1748552400@kimmyzongreenway.com
SUMMARY:Philly Thursday
DESCRIPTION:Philly cheese steak sandwich served with French Fries and a pint of domestic beer or soda.  \n 
URL:https://kimmyzongreenway.com/event/philly-thursday/2025-05-29/
LOCATION:Kimmyz on Greenway\, 5930 W Greenway Rd\, Glendale\, AZ\, 85306\, United States
CATEGORIES:Food Specials
ATTACH;FMTTYPE=image/jpeg:https://kimmyzongreenway.com/wp-content/uploads/2025/02/snappr-IKsF2Nfh9NY-unsplash-scaled.jpg
END:VEVENT
BEGIN:VEVENT
DTSTART;VALUE=DATE:20250529
DTEND;VALUE=DATE:20250531
DTSTAMP:20260422T015714
CREATED:20250225T234027Z
LAST-MODIFIED:20250225T234027Z
UID:10003687-1748480400-1748566799@kimmyzongreenway.com
SUMMARY:Bike Night
DESCRIPTION:We are your premiere biker friendly bar! Join us for biker specials\, live music & events every Thursday. (Sponsored by Arrowhead Harley-Davidson)
URL:https://kimmyzongreenway.com/event/bike-night/2025-05-29/
LOCATION:Kimmyz on Greenway\, 5930 W Greenway Rd\, Glendale\, AZ\, 85306\, United States
CATEGORIES:Live Music,Special Events
ATTACH;FMTTYPE=image/jpeg:https://kimmyzongreenway.com/wp-content/uploads/2025/02/motorcycle-7539871_1280.jpg
END:VEVENT
BEGIN:VEVENT
DTSTART;TZID=America/Phoenix:20250528T190000
DTEND;TZID=America/Phoenix:20250528T220000
DTSTAMP:20260422T015714
CREATED:20250225T233159Z
LAST-MODIFIED:20260327T010738Z
UID:10004106-1748458800-1748469600@kimmyzongreenway.com
SUMMARY:Bill Gower & Ethan Foxx
DESCRIPTION:Join us for the best live music in Glendale as Bill & Ethan take the stage. Ethan is the lead singer of Tripwire. Come catch this acoustic performance.
URL:https://kimmyzongreenway.com/event/bill-ethan/2025-05-28/
LOCATION:Kimmyz on Greenway\, 5930 W Greenway Rd\, Glendale\, AZ\, 85306\, United States
CATEGORIES:Live Music
ATTACH;FMTTYPE=image/png:https://kimmyzongreenway.com/wp-content/uploads/2025/02/Screenshot-2025-02-25-at-4.01.41 PM.png
END:VEVENT
BEGIN:VEVENT
DTSTART;TZID=America/Denver:20250528T110000
DTEND;TZID=America/Denver:20250528T210000
DTSTAMP:20260422T015714
CREATED:20250213T172729Z
LAST-MODIFIED:20250213T213423Z
UID:10002632-1748430000-1748466000@kimmyzongreenway.com
SUMMARY:Burger & Beer Wednesday
DESCRIPTION:Our classic juicy burger served with French Fries and a pint of domestic beer or soda. 
URL:https://kimmyzongreenway.com/event/burger-beer-wednesday/2025-05-28/
LOCATION:Kimmyz on Greenway\, 5930 W Greenway Rd\, Glendale\, AZ\, 85306\, United States
CATEGORIES:Food Specials
ATTACH;FMTTYPE=image/jpeg:https://kimmyzongreenway.com/wp-content/uploads/2025/02/3.jpg
END:VEVENT
BEGIN:VEVENT
DTSTART;TZID=America/Denver:20250527T190000
DTEND;TZID=America/Denver:20250527T220000
DTSTAMP:20260422T015714
CREATED:20250213T160301Z
LAST-MODIFIED:20250213T160301Z
UID:10000016-1748372400-1748383200@kimmyzongreenway.com
SUMMARY:Open Mic
DESCRIPTION:It’s your turn to take the stage! Bring your instrument(s) and showcase what you got every Tuesday at the home of the best live music in Glendale\, AZ.
URL:https://kimmyzongreenway.com/event/open-mic/2025-05-27/
LOCATION:Kimmyz on Greenway\, 5930 W Greenway Rd\, Glendale\, AZ\, 85306\, United States
CATEGORIES:Live Music
ATTACH;FMTTYPE=image/jpeg:https://kimmyzongreenway.com/wp-content/uploads/2025/02/audio-2941753_1920.jpg
END:VEVENT
BEGIN:VEVENT
DTSTART;TZID=America/Denver:20250527T110000
DTEND;TZID=America/Denver:20250527T210000
DTSTAMP:20260422T015714
CREATED:20250213T172529Z
LAST-MODIFIED:20250213T213516Z
UID:10002894-1748343600-1748379600@kimmyzongreenway.com
SUMMARY:Taco Tuesday
DESCRIPTION:Three tacos (your choice of ground beef\, steak\, fish\, or chicken) served with fresh chips and salsa.  \n 
URL:https://kimmyzongreenway.com/event/taco-tuesday/2025-05-27/
LOCATION:Kimmyz on Greenway\, 5930 W Greenway Rd\, Glendale\, AZ\, 85306\, United States
CATEGORIES:Food Specials
ATTACH;FMTTYPE=image/jpeg:https://kimmyzongreenway.com/wp-content/uploads/2025/02/chantel-E2n6-GuBGYo-unsplash-scaled.jpg
END:VEVENT
BEGIN:VEVENT
DTSTART;TZID=America/Denver:20250526T190000
DTEND;TZID=America/Denver:20250526T220000
DTSTAMP:20260422T015714
CREATED:20250213T160657Z
LAST-MODIFIED:20250213T160657Z
UID:10000278-1748286000-1748296800@kimmyzongreenway.com
SUMMARY:Karaoke
DESCRIPTION:Pick a song\, grab the mic\, and show off your pipes! Join us for the best Karaoke in Glendale every Monday night.
URL:https://kimmyzongreenway.com/event/karaoke/2025-05-26/
LOCATION:Kimmyz on Greenway\, 5930 W Greenway Rd\, Glendale\, AZ\, 85306\, United States
CATEGORIES:Live Music
ATTACH;FMTTYPE=image/jpeg:https://kimmyzongreenway.com/wp-content/uploads/2025/02/microphone-4547633_1920.jpg
END:VEVENT
BEGIN:VEVENT
DTSTART;TZID=America/Phoenix:20250525T150000
DTEND;TZID=America/Phoenix:20250525T180000
DTSTAMP:20260422T015714
CREATED:20250226T000439Z
LAST-MODIFIED:20250425T202721Z
UID:10004105-1748185200-1748196000@kimmyzongreenway.com
SUMMARY:The Chuck Hall Band
DESCRIPTION:Join us for an afternoon of tunes at the place with the best live music in Glendale as the Chuck Hall Band takes the stage.
URL:https://kimmyzongreenway.com/event/chuckhall/2025-05-25/
LOCATION:Kimmyz on Greenway\, 5930 W Greenway Rd\, Glendale\, AZ\, 85306\, United States
CATEGORIES:Live Music
ATTACH;FMTTYPE=image/jpeg:https://kimmyzongreenway.com/wp-content/uploads/2025/02/300768635_364497199223879_1432123249697569793_n.jpg
END:VEVENT
BEGIN:VEVENT
DTSTART;TZID=America/Denver:20250525T110000
DTEND;TZID=America/Denver:20250525T210000
DTSTAMP:20260422T015714
CREATED:20250213T172225Z
LAST-MODIFIED:20250213T213552Z
UID:10003156-1748170800-1748206800@kimmyzongreenway.com
SUMMARY:Meatloaf Monday
DESCRIPTION:Homemade meatloaf served with mashed potatoes\, gravy\, corn & a dinner roll.
URL:https://kimmyzongreenway.com/event/meatloaf-monday/2025-05-25/
LOCATION:Kimmyz on Greenway\, 5930 W Greenway Rd\, Glendale\, AZ\, 85306\, United States
CATEGORIES:Food Specials
ATTACH;FMTTYPE=image/png:https://kimmyzongreenway.com/wp-content/uploads/2025/02/Screenshot-2025-02-13-at-10.20.59 AM.png
END:VEVENT
BEGIN:VEVENT
DTSTART;TZID=America/Denver:20250525T110000
DTEND;TZID=America/Denver:20250525T210000
DTSTAMP:20260422T015714
CREATED:20250213T171734Z
LAST-MODIFIED:20250213T213655Z
UID:10003418-1748170800-1748206800@kimmyzongreenway.com
SUMMARY:French Dip Sunday
DESCRIPTION:French Dip sandwich served with French Fries
URL:https://kimmyzongreenway.com/event/french-dip-sunday/2025-05-25/
LOCATION:Kimmyz on Greenway\, 5930 W Greenway Rd\, Glendale\, AZ\, 85306\, United States
CATEGORIES:Food Specials
ATTACH;FMTTYPE=image/png:https://kimmyzongreenway.com/wp-content/uploads/2025/02/Screenshot-2025-02-13-at-10.14.27 AM.png
END:VEVENT
BEGIN:VEVENT
DTSTART;TZID=America/Phoenix:20250524T200000
DTEND;TZID=America/Phoenix:20250525T000000
DTSTAMP:20260422T015714
CREATED:20250215T002907Z
LAST-MODIFIED:20260206T044909Z
UID:10004104-1748116800-1748131200@kimmyzongreenway.com
SUMMARY:Salt River Steel
DESCRIPTION:Join us for the best live music in Glendale as Salt River Steel takes the stage.  \n 
URL:https://kimmyzongreenway.com/event/salt-river-steel/2025-05-24/
LOCATION:Kimmyz on Greenway\, 5930 W Greenway Rd\, Glendale\, AZ\, 85306\, United States
CATEGORIES:Live Music
ATTACH;FMTTYPE=image/png:https://kimmyzongreenway.com/wp-content/uploads/2025/02/Screenshot-2025-02-14-at-4.49.40 PM.png
END:VEVENT
BEGIN:VEVENT
DTSTART;TZID=America/Denver:20250524T110000
DTEND;TZID=America/Denver:20250524T220000
DTSTAMP:20260422T015714
CREATED:20250213T175029Z
LAST-MODIFIED:20250213T213141Z
UID:10001849-1748084400-1748124000@kimmyzongreenway.com
SUMMARY:Reuben Sandwich Saturday
DESCRIPTION:Reuben sandwich served with French Fries.  \n 
URL:https://kimmyzongreenway.com/event/reuben-sandwich-saturday/2025-05-24/
LOCATION:Kimmyz on Greenway\, 5930 W Greenway Rd\, Glendale\, AZ\, 85306\, United States
CATEGORIES:Food Specials
ATTACH;FMTTYPE=image/png:https://kimmyzongreenway.com/wp-content/uploads/2025/02/Screenshot-2025-02-13-at-10.13.40 AM.png
END:VEVENT
BEGIN:VEVENT
DTSTART;TZID=America/Phoenix:20250523T200000
DTEND;TZID=America/Phoenix:20250524T000000
DTSTAMP:20260422T015714
CREATED:20250405T010607Z
LAST-MODIFIED:20260206T043857Z
UID:10004103-1748030400-1748044800@kimmyzongreenway.com
SUMMARY:Hotwired
DESCRIPTION:Join us for the best live music in Glendale as Hotwired takes the stage.  \n 
URL:https://kimmyzongreenway.com/event/hotwired/2025-05-23/
LOCATION:Kimmyz on Greenway\, 5930 W Greenway Rd\, Glendale\, AZ\, 85306\, United States
CATEGORIES:Live Music
ATTACH;FMTTYPE=image/png:https://kimmyzongreenway.com/wp-content/uploads/2025/04/Screenshot-2025-04-04-at-6.04.34 PM.png
END:VEVENT
BEGIN:VEVENT
DTSTART;TZID=America/Denver:20250523T110000
DTEND;TZID=America/Denver:20250523T220000
DTSTAMP:20260422T015714
CREATED:20250213T173428Z
LAST-MODIFIED:20250213T213339Z
UID:10002370-1747998000-1748037600@kimmyzongreenway.com
SUMMARY:Fish Fry Friday
DESCRIPTION:Fish Fry Friday:\n \n   All you can eat fish fry – $18.99 \n   Fish Fry Basket – $14.99 \n   Fish & Shrimp Basket – $16.99 \n 
URL:https://kimmyzongreenway.com/event/fish-fry-friday/2025-05-23/
LOCATION:Kimmyz on Greenway\, 5930 W Greenway Rd\, Glendale\, AZ\, 85306\, United States
CATEGORIES:Food Specials
ATTACH;FMTTYPE=image/jpeg:https://kimmyzongreenway.com/wp-content/uploads/2025/02/davey-gravy-YpQGo0QTshE-unsplash-scaled.jpg
END:VEVENT
BEGIN:VEVENT
DTSTART;TZID=America/Phoenix:20250522T190000
DTEND;TZID=America/Phoenix:20250522T220000
DTSTAMP:20260422T015714
CREATED:20250405T011024Z
LAST-MODIFIED:20260204T180535Z
UID:10004098-1747940400-1747951200@kimmyzongreenway.com
SUMMARY:Ben Chapman
DESCRIPTION:Join us for the best live music in Glendale as Ben Chapman takes the stage.  \n 
URL:https://kimmyzongreenway.com/event/ben-chapman/2025-05-22/
LOCATION:Kimmyz on Greenway\, 5930 W Greenway Rd\, Glendale\, AZ\, 85306\, United States
CATEGORIES:Live Music
ATTACH;FMTTYPE=image/png:https://kimmyzongreenway.com/wp-content/uploads/2025/04/Screenshot-2025-04-04-at-6.06.58 PM.png
END:VEVENT
BEGIN:VEVENT
DTSTART;TZID=America/Denver:20250522T110000
DTEND;TZID=America/Denver:20250522T210000
DTSTAMP:20260422T015714
CREATED:20250213T173133Z
LAST-MODIFIED:20250213T213309Z
UID:10002110-1747911600-1747947600@kimmyzongreenway.com
SUMMARY:Philly Thursday
DESCRIPTION:Philly cheese steak sandwich served with French Fries and a pint of domestic beer or soda.  \n 
URL:https://kimmyzongreenway.com/event/philly-thursday/2025-05-22/
LOCATION:Kimmyz on Greenway\, 5930 W Greenway Rd\, Glendale\, AZ\, 85306\, United States
CATEGORIES:Food Specials
ATTACH;FMTTYPE=image/jpeg:https://kimmyzongreenway.com/wp-content/uploads/2025/02/snappr-IKsF2Nfh9NY-unsplash-scaled.jpg
END:VEVENT
BEGIN:VEVENT
DTSTART;VALUE=DATE:20250522
DTEND;VALUE=DATE:20250524
DTSTAMP:20260422T015714
CREATED:20250225T234027Z
LAST-MODIFIED:20250225T234027Z
UID:10003686-1747875600-1747961999@kimmyzongreenway.com
SUMMARY:Bike Night
DESCRIPTION:We are your premiere biker friendly bar! Join us for biker specials\, live music & events every Thursday. (Sponsored by Arrowhead Harley-Davidson)
URL:https://kimmyzongreenway.com/event/bike-night/2025-05-22/
LOCATION:Kimmyz on Greenway\, 5930 W Greenway Rd\, Glendale\, AZ\, 85306\, United States
CATEGORIES:Live Music,Special Events
ATTACH;FMTTYPE=image/jpeg:https://kimmyzongreenway.com/wp-content/uploads/2025/02/motorcycle-7539871_1280.jpg
END:VEVENT
BEGIN:VEVENT
DTSTART;TZID=America/Denver:20250521T110000
DTEND;TZID=America/Denver:20250521T210000
DTSTAMP:20260422T015714
CREATED:20250213T172729Z
LAST-MODIFIED:20250213T213423Z
UID:10002631-1747825200-1747861200@kimmyzongreenway.com
SUMMARY:Burger & Beer Wednesday
DESCRIPTION:Our classic juicy burger served with French Fries and a pint of domestic beer or soda. 
URL:https://kimmyzongreenway.com/event/burger-beer-wednesday/2025-05-21/
LOCATION:Kimmyz on Greenway\, 5930 W Greenway Rd\, Glendale\, AZ\, 85306\, United States
CATEGORIES:Food Specials
ATTACH;FMTTYPE=image/jpeg:https://kimmyzongreenway.com/wp-content/uploads/2025/02/3.jpg
END:VEVENT
BEGIN:VEVENT
DTSTART;TZID=America/Denver:20250520T190000
DTEND;TZID=America/Denver:20250520T220000
DTSTAMP:20260422T015714
CREATED:20250213T160301Z
LAST-MODIFIED:20250213T160301Z
UID:10000015-1747767600-1747778400@kimmyzongreenway.com
SUMMARY:Open Mic
DESCRIPTION:It’s your turn to take the stage! Bring your instrument(s) and showcase what you got every Tuesday at the home of the best live music in Glendale\, AZ.
URL:https://kimmyzongreenway.com/event/open-mic/2025-05-20/
LOCATION:Kimmyz on Greenway\, 5930 W Greenway Rd\, Glendale\, AZ\, 85306\, United States
CATEGORIES:Live Music
ATTACH;FMTTYPE=image/jpeg:https://kimmyzongreenway.com/wp-content/uploads/2025/02/audio-2941753_1920.jpg
END:VEVENT
BEGIN:VEVENT
DTSTART;TZID=America/Denver:20250520T110000
DTEND;TZID=America/Denver:20250520T210000
DTSTAMP:20260422T015714
CREATED:20250213T172529Z
LAST-MODIFIED:20250213T213516Z
UID:10002893-1747738800-1747774800@kimmyzongreenway.com
SUMMARY:Taco Tuesday
DESCRIPTION:Three tacos (your choice of ground beef\, steak\, fish\, or chicken) served with fresh chips and salsa.  \n 
URL:https://kimmyzongreenway.com/event/taco-tuesday/2025-05-20/
LOCATION:Kimmyz on Greenway\, 5930 W Greenway Rd\, Glendale\, AZ\, 85306\, United States
CATEGORIES:Food Specials
ATTACH;FMTTYPE=image/jpeg:https://kimmyzongreenway.com/wp-content/uploads/2025/02/chantel-E2n6-GuBGYo-unsplash-scaled.jpg
END:VEVENT
BEGIN:VEVENT
DTSTART;TZID=America/Denver:20250519T190000
DTEND;TZID=America/Denver:20250519T220000
DTSTAMP:20260422T015714
CREATED:20250213T160657Z
LAST-MODIFIED:20250213T160657Z
UID:10000277-1747681200-1747692000@kimmyzongreenway.com
SUMMARY:Karaoke
DESCRIPTION:Pick a song\, grab the mic\, and show off your pipes! Join us for the best Karaoke in Glendale every Monday night.
URL:https://kimmyzongreenway.com/event/karaoke/2025-05-19/
LOCATION:Kimmyz on Greenway\, 5930 W Greenway Rd\, Glendale\, AZ\, 85306\, United States
CATEGORIES:Live Music
ATTACH;FMTTYPE=image/jpeg:https://kimmyzongreenway.com/wp-content/uploads/2025/02/microphone-4547633_1920.jpg
END:VEVENT
BEGIN:VEVENT
DTSTART;TZID=America/Phoenix:20250518T150000
DTEND;TZID=America/Phoenix:20250518T180000
DTSTAMP:20260422T015714
CREATED:20250215T003336Z
LAST-MODIFIED:20260327T011300Z
UID:10004102-1747580400-1747591200@kimmyzongreenway.com
SUMMARY:Super Group Sunday
DESCRIPTION:Join us for another super group Sunday!
URL:https://kimmyzongreenway.com/event/super-group-sunday/2025-05-18/
LOCATION:AZ
CATEGORIES:Live Music
ATTACH;FMTTYPE=image/png:https://kimmyzongreenway.com/wp-content/uploads/2025/02/Super-Group-Sunday-Generic.png
END:VEVENT
BEGIN:VEVENT
DTSTART;TZID=America/Denver:20250518T110000
DTEND;TZID=America/Denver:20250518T210000
DTSTAMP:20260422T015714
CREATED:20250213T172225Z
LAST-MODIFIED:20250213T213552Z
UID:10003155-1747566000-1747602000@kimmyzongreenway.com
SUMMARY:Meatloaf Monday
DESCRIPTION:Homemade meatloaf served with mashed potatoes\, gravy\, corn & a dinner roll.
URL:https://kimmyzongreenway.com/event/meatloaf-monday/2025-05-18/
LOCATION:Kimmyz on Greenway\, 5930 W Greenway Rd\, Glendale\, AZ\, 85306\, United States
CATEGORIES:Food Specials
ATTACH;FMTTYPE=image/png:https://kimmyzongreenway.com/wp-content/uploads/2025/02/Screenshot-2025-02-13-at-10.20.59 AM.png
END:VEVENT
BEGIN:VEVENT
DTSTART;TZID=America/Denver:20250518T110000
DTEND;TZID=America/Denver:20250518T210000
DTSTAMP:20260422T015714
CREATED:20250213T171734Z
LAST-MODIFIED:20250213T213655Z
UID:10003417-1747566000-1747602000@kimmyzongreenway.com
SUMMARY:French Dip Sunday
DESCRIPTION:French Dip sandwich served with French Fries
URL:https://kimmyzongreenway.com/event/french-dip-sunday/2025-05-18/
LOCATION:Kimmyz on Greenway\, 5930 W Greenway Rd\, Glendale\, AZ\, 85306\, United States
CATEGORIES:Food Specials
ATTACH;FMTTYPE=image/png:https://kimmyzongreenway.com/wp-content/uploads/2025/02/Screenshot-2025-02-13-at-10.14.27 AM.png
END:VEVENT
BEGIN:VEVENT
DTSTART;TZID=America/Denver:20250517T110000
DTEND;TZID=America/Denver:20250517T220000
DTSTAMP:20260422T015714
CREATED:20250213T175029Z
LAST-MODIFIED:20250213T213141Z
UID:10001848-1747479600-1747519200@kimmyzongreenway.com
SUMMARY:Reuben Sandwich Saturday
DESCRIPTION:Reuben sandwich served with French Fries.  \n 
URL:https://kimmyzongreenway.com/event/reuben-sandwich-saturday/2025-05-17/
LOCATION:Kimmyz on Greenway\, 5930 W Greenway Rd\, Glendale\, AZ\, 85306\, United States
CATEGORIES:Food Specials
ATTACH;FMTTYPE=image/png:https://kimmyzongreenway.com/wp-content/uploads/2025/02/Screenshot-2025-02-13-at-10.13.40 AM.png
END:VEVENT
BEGIN:VEVENT
DTSTART;TZID=America/Phoenix:20250516T200000
DTEND;TZID=America/Phoenix:20250517T000000
DTSTAMP:20260422T015714
CREATED:20250415T232805Z
LAST-MODIFIED:20260204T010154Z
UID:10004097-1747425600-1747440000@kimmyzongreenway.com
SUMMARY:Sh!tshow Romeo
DESCRIPTION:Join us for the best live music in Glendale as Sh!tshow Romeo takes the stage. They are a high energy rock band hailing from Phoenix\, AZ. Known for their electrifying performances\, and versatile setlist\, Sh!tShow Romeo brings the best of classic\, alternative and modern hits to every stage they conquer.
URL:https://kimmyzongreenway.com/event/shtshow-romeo/2025-05-16/
LOCATION:Kimmyz on Greenway\, 5930 W Greenway Rd\, Glendale\, AZ\, 85306\, United States
CATEGORIES:Live Music
ATTACH;FMTTYPE=image/jpeg:https://kimmyzongreenway.com/wp-content/uploads/2025/04/402100007_208545725616185_8134269914574200366_n-1.jpg
END:VEVENT
BEGIN:VEVENT
DTSTART;TZID=America/Denver:20250516T110000
DTEND;TZID=America/Denver:20250516T220000
DTSTAMP:20260422T015714
CREATED:20250213T173428Z
LAST-MODIFIED:20250213T213339Z
UID:10002369-1747393200-1747432800@kimmyzongreenway.com
SUMMARY:Fish Fry Friday
DESCRIPTION:Fish Fry Friday:\n \n   All you can eat fish fry – $18.99 \n   Fish Fry Basket – $14.99 \n   Fish & Shrimp Basket – $16.99 \n 
URL:https://kimmyzongreenway.com/event/fish-fry-friday/2025-05-16/
LOCATION:Kimmyz on Greenway\, 5930 W Greenway Rd\, Glendale\, AZ\, 85306\, United States
CATEGORIES:Food Specials
ATTACH;FMTTYPE=image/jpeg:https://kimmyzongreenway.com/wp-content/uploads/2025/02/davey-gravy-YpQGo0QTshE-unsplash-scaled.jpg
END:VEVENT
BEGIN:VEVENT
DTSTART;TZID=America/Phoenix:20250515T190000
DTEND;TZID=America/Phoenix:20250515T220000
DTSTAMP:20260422T015714
CREATED:20250226T003942Z
LAST-MODIFIED:20260327T011502Z
UID:10004099-1747335600-1747346400@kimmyzongreenway.com
SUMMARY:Richie Darling
DESCRIPTION:Join us for the best live music in Glendale as Richie Darling takes the stage.
URL:https://kimmyzongreenway.com/event/richie-darling/2025-05-15/
LOCATION:Kimmyz on Greenway\, 5930 W Greenway Rd\, Glendale\, AZ\, 85306\, United States
CATEGORIES:Live Music
ATTACH;FMTTYPE=image/jpeg:https://kimmyzongreenway.com/wp-content/uploads/2025/02/18485774_10209355660829983_9137706092204333157_n.jpg
END:VEVENT
END:VCALENDAR