BEGIN:VCALENDAR
VERSION:2.0
PRODID:-//Kimmyz on Greenway - ECPv6.15.20//NONSGML v1.0//EN
CALSCALE:GREGORIAN
METHOD:PUBLISH
X-WR-CALNAME:Kimmyz on Greenway
X-ORIGINAL-URL:https://kimmyzongreenway.com
X-WR-CALDESC:Events for Kimmyz on Greenway
REFRESH-INTERVAL;VALUE=DURATION:PT1H
X-Robots-Tag:noindex
X-PUBLISHED-TTL:PT1H
BEGIN:VTIMEZONE
TZID:America/Denver
BEGIN:DAYLIGHT
TZOFFSETFROM:-0700
TZOFFSETTO:-0600
TZNAME:MDT
DTSTART:20260308T090000
END:DAYLIGHT
BEGIN:STANDARD
TZOFFSETFROM:-0600
TZOFFSETTO:-0700
TZNAME:MST
DTSTART:20261101T080000
END:STANDARD
BEGIN:DAYLIGHT
TZOFFSETFROM:-0700
TZOFFSETTO:-0600
TZNAME:MDT
DTSTART:20270314T090000
END:DAYLIGHT
BEGIN:STANDARD
TZOFFSETFROM:-0600
TZOFFSETTO:-0700
TZNAME:MST
DTSTART:20271107T080000
END:STANDARD
BEGIN:DAYLIGHT
TZOFFSETFROM:-0700
TZOFFSETTO:-0600
TZNAME:MDT
DTSTART:20280312T090000
END:DAYLIGHT
BEGIN:STANDARD
TZOFFSETFROM:-0600
TZOFFSETTO:-0700
TZNAME:MST
DTSTART:20281105T080000
END:STANDARD
END:VTIMEZONE
BEGIN:VTIMEZONE
TZID:America/Phoenix
BEGIN:STANDARD
TZOFFSETFROM:-0700
TZOFFSETTO:-0700
TZNAME:MST
DTSTART:20260101T000000
END:STANDARD
END:VTIMEZONE
BEGIN:VEVENT
DTSTART;TZID=America/Denver:20271016T110000
DTEND;TZID=America/Denver:20271016T220000
DTSTAMP:20260423T224134
CREATED:20250213T175029Z
LAST-MODIFIED:20250213T213141Z
UID:10001974-1823684400-1823724000@kimmyzongreenway.com
SUMMARY:Reuben Sandwich Saturday
DESCRIPTION:Reuben sandwich served with French Fries.  \n 
URL:https://kimmyzongreenway.com/event/reuben-sandwich-saturday/2027-10-16/
LOCATION:Kimmyz on Greenway\, 5930 W Greenway Rd\, Glendale\, AZ\, 85306\, United States
CATEGORIES:Food Specials
ATTACH;FMTTYPE=image/png:https://kimmyzongreenway.com/wp-content/uploads/2025/02/Screenshot-2025-02-13-at-10.13.40 AM.png
END:VEVENT
BEGIN:VEVENT
DTSTART;TZID=America/Denver:20271017T110000
DTEND;TZID=America/Denver:20271017T210000
DTSTAMP:20260423T224134
CREATED:20250213T171734Z
LAST-MODIFIED:20250213T213655Z
UID:10003543-1823770800-1823806800@kimmyzongreenway.com
SUMMARY:French Dip Sunday
DESCRIPTION:French Dip sandwich served with French Fries
URL:https://kimmyzongreenway.com/event/french-dip-sunday/2027-10-17/
LOCATION:Kimmyz on Greenway\, 5930 W Greenway Rd\, Glendale\, AZ\, 85306\, United States
CATEGORIES:Food Specials
ATTACH;FMTTYPE=image/png:https://kimmyzongreenway.com/wp-content/uploads/2025/02/Screenshot-2025-02-13-at-10.14.27 AM.png
END:VEVENT
BEGIN:VEVENT
DTSTART;TZID=America/Denver:20271018T110000
DTEND;TZID=America/Denver:20271018T210000
DTSTAMP:20260423T224134
CREATED:20250808T205703Z
LAST-MODIFIED:20250808T205704Z
UID:10004271-1823857200-1823893200@kimmyzongreenway.com
SUMMARY:Meatloaf Monday
DESCRIPTION:Homemade meatloaf served with mashed potatoes\, gravy\, corn & a dinner roll.
URL:https://kimmyzongreenway.com/event/meatloaf-monday-2/2027-10-18/
LOCATION:Kimmyz on Greenway\, 5930 W Greenway Rd\, Glendale\, AZ\, 85306\, United States
CATEGORIES:Food Specials
ATTACH;FMTTYPE=image/png:https://kimmyzongreenway.com/wp-content/uploads/2025/02/Screenshot-2025-02-13-at-10.20.59 AM.png
END:VEVENT
BEGIN:VEVENT
DTSTART;TZID=America/Denver:20271018T190000
DTEND;TZID=America/Denver:20271018T220000
DTSTAMP:20260423T224134
CREATED:20250213T160657Z
LAST-MODIFIED:20250213T160657Z
UID:10000403-1823886000-1823896800@kimmyzongreenway.com
SUMMARY:Karaoke
DESCRIPTION:Pick a song\, grab the mic\, and show off your pipes! Join us for the best Karaoke in Glendale every Monday night.
URL:https://kimmyzongreenway.com/event/karaoke/2027-10-18/
LOCATION:Kimmyz on Greenway\, 5930 W Greenway Rd\, Glendale\, AZ\, 85306\, United States
CATEGORIES:Live Music
ATTACH;FMTTYPE=image/jpeg:https://kimmyzongreenway.com/wp-content/uploads/2025/02/microphone-4547633_1920.jpg
END:VEVENT
BEGIN:VEVENT
DTSTART;TZID=America/Denver:20271019T110000
DTEND;TZID=America/Denver:20271019T210000
DTSTAMP:20260423T224134
CREATED:20250213T172529Z
LAST-MODIFIED:20250213T213516Z
UID:10003019-1823943600-1823979600@kimmyzongreenway.com
SUMMARY:Taco Tuesday
DESCRIPTION:Three tacos (your choice of ground beef\, steak\, fish\, or chicken) served with fresh chips and salsa.  \n 
URL:https://kimmyzongreenway.com/event/taco-tuesday/2027-10-19/
LOCATION:Kimmyz on Greenway\, 5930 W Greenway Rd\, Glendale\, AZ\, 85306\, United States
CATEGORIES:Food Specials
ATTACH;FMTTYPE=image/jpeg:https://kimmyzongreenway.com/wp-content/uploads/2025/02/chantel-E2n6-GuBGYo-unsplash-scaled.jpg
END:VEVENT
BEGIN:VEVENT
DTSTART;TZID=America/Denver:20271019T190000
DTEND;TZID=America/Denver:20271019T220000
DTSTAMP:20260423T224134
CREATED:20250213T160301Z
LAST-MODIFIED:20250213T160301Z
UID:10000141-1823972400-1823983200@kimmyzongreenway.com
SUMMARY:Open Mic
DESCRIPTION:It’s your turn to take the stage! Bring your instrument(s) and showcase what you got every Tuesday at the home of the best live music in Glendale\, AZ.
URL:https://kimmyzongreenway.com/event/open-mic/2027-10-19/
LOCATION:Kimmyz on Greenway\, 5930 W Greenway Rd\, Glendale\, AZ\, 85306\, United States
CATEGORIES:Live Music
ATTACH;FMTTYPE=image/jpeg:https://kimmyzongreenway.com/wp-content/uploads/2025/02/audio-2941753_1920.jpg
END:VEVENT
BEGIN:VEVENT
DTSTART;TZID=America/Denver:20271020T110000
DTEND;TZID=America/Denver:20271020T210000
DTSTAMP:20260423T224134
CREATED:20250213T172729Z
LAST-MODIFIED:20250213T213423Z
UID:10002757-1824030000-1824066000@kimmyzongreenway.com
SUMMARY:Burger & Beer Wednesday
DESCRIPTION:Our classic juicy burger served with French Fries and a pint of domestic beer or soda. 
URL:https://kimmyzongreenway.com/event/burger-beer-wednesday/2027-10-20/
LOCATION:Kimmyz on Greenway\, 5930 W Greenway Rd\, Glendale\, AZ\, 85306\, United States
CATEGORIES:Food Specials
ATTACH;FMTTYPE=image/jpeg:https://kimmyzongreenway.com/wp-content/uploads/2025/02/3.jpg
END:VEVENT
BEGIN:VEVENT
DTSTART;VALUE=DATE:20271021
DTEND;VALUE=DATE:20271023
DTSTAMP:20260423T224134
CREATED:20250225T234027Z
LAST-MODIFIED:20250225T234027Z
UID:10003812-1824080400-1824166799@kimmyzongreenway.com
SUMMARY:Bike Night
DESCRIPTION:We are your premiere biker friendly bar! Join us for biker specials\, live music & events every Thursday. (Sponsored by Arrowhead Harley-Davidson)
URL:https://kimmyzongreenway.com/event/bike-night/2027-10-21/
LOCATION:Kimmyz on Greenway\, 5930 W Greenway Rd\, Glendale\, AZ\, 85306\, United States
CATEGORIES:Live Music,Special Events
ATTACH;FMTTYPE=image/jpeg:https://kimmyzongreenway.com/wp-content/uploads/2025/02/motorcycle-7539871_1280.jpg
END:VEVENT
BEGIN:VEVENT
DTSTART;TZID=America/Denver:20271021T110000
DTEND;TZID=America/Denver:20271021T210000
DTSTAMP:20260423T224134
CREATED:20250213T173133Z
LAST-MODIFIED:20250213T213309Z
UID:10002236-1824116400-1824152400@kimmyzongreenway.com
SUMMARY:Philly Thursday
DESCRIPTION:Philly cheese steak sandwich served with French Fries and a pint of domestic beer or soda.  \n 
URL:https://kimmyzongreenway.com/event/philly-thursday/2027-10-21/
LOCATION:Kimmyz on Greenway\, 5930 W Greenway Rd\, Glendale\, AZ\, 85306\, United States
CATEGORIES:Food Specials
ATTACH;FMTTYPE=image/jpeg:https://kimmyzongreenway.com/wp-content/uploads/2025/02/snappr-IKsF2Nfh9NY-unsplash-scaled.jpg
END:VEVENT
BEGIN:VEVENT
DTSTART;TZID=America/Denver:20271022T110000
DTEND;TZID=America/Denver:20271022T220000
DTSTAMP:20260423T224134
CREATED:20250213T173428Z
LAST-MODIFIED:20250213T213339Z
UID:10002496-1824202800-1824242400@kimmyzongreenway.com
SUMMARY:Fish Fry Friday
DESCRIPTION:Fish Fry Friday:\n \n   All you can eat fish fry – $18.99 \n   Fish Fry Basket – $14.99 \n   Fish & Shrimp Basket – $16.99 \n 
URL:https://kimmyzongreenway.com/event/fish-fry-friday/2027-10-22/
LOCATION:Kimmyz on Greenway\, 5930 W Greenway Rd\, Glendale\, AZ\, 85306\, United States
CATEGORIES:Food Specials
ATTACH;FMTTYPE=image/jpeg:https://kimmyzongreenway.com/wp-content/uploads/2025/02/davey-gravy-YpQGo0QTshE-unsplash-scaled.jpg
END:VEVENT
BEGIN:VEVENT
DTSTART;TZID=America/Denver:20271023T110000
DTEND;TZID=America/Denver:20271023T220000
DTSTAMP:20260423T224134
CREATED:20250213T175029Z
LAST-MODIFIED:20250213T213141Z
UID:10001975-1824289200-1824328800@kimmyzongreenway.com
SUMMARY:Reuben Sandwich Saturday
DESCRIPTION:Reuben sandwich served with French Fries.  \n 
URL:https://kimmyzongreenway.com/event/reuben-sandwich-saturday/2027-10-23/
LOCATION:Kimmyz on Greenway\, 5930 W Greenway Rd\, Glendale\, AZ\, 85306\, United States
CATEGORIES:Food Specials
ATTACH;FMTTYPE=image/png:https://kimmyzongreenway.com/wp-content/uploads/2025/02/Screenshot-2025-02-13-at-10.13.40 AM.png
END:VEVENT
BEGIN:VEVENT
DTSTART;TZID=America/Denver:20271024T110000
DTEND;TZID=America/Denver:20271024T210000
DTSTAMP:20260423T224134
CREATED:20250213T171734Z
LAST-MODIFIED:20250213T213655Z
UID:10003544-1824375600-1824411600@kimmyzongreenway.com
SUMMARY:French Dip Sunday
DESCRIPTION:French Dip sandwich served with French Fries
URL:https://kimmyzongreenway.com/event/french-dip-sunday/2027-10-24/
LOCATION:Kimmyz on Greenway\, 5930 W Greenway Rd\, Glendale\, AZ\, 85306\, United States
CATEGORIES:Food Specials
ATTACH;FMTTYPE=image/png:https://kimmyzongreenway.com/wp-content/uploads/2025/02/Screenshot-2025-02-13-at-10.14.27 AM.png
END:VEVENT
BEGIN:VEVENT
DTSTART;TZID=America/Denver:20271025T110000
DTEND;TZID=America/Denver:20271025T210000
DTSTAMP:20260423T224134
CREATED:20250808T205703Z
LAST-MODIFIED:20250808T205704Z
UID:10004272-1824462000-1824498000@kimmyzongreenway.com
SUMMARY:Meatloaf Monday
DESCRIPTION:Homemade meatloaf served with mashed potatoes\, gravy\, corn & a dinner roll.
URL:https://kimmyzongreenway.com/event/meatloaf-monday-2/2027-10-25/
LOCATION:Kimmyz on Greenway\, 5930 W Greenway Rd\, Glendale\, AZ\, 85306\, United States
CATEGORIES:Food Specials
ATTACH;FMTTYPE=image/png:https://kimmyzongreenway.com/wp-content/uploads/2025/02/Screenshot-2025-02-13-at-10.20.59 AM.png
END:VEVENT
BEGIN:VEVENT
DTSTART;TZID=America/Denver:20271025T190000
DTEND;TZID=America/Denver:20271025T220000
DTSTAMP:20260423T224134
CREATED:20250213T160657Z
LAST-MODIFIED:20250213T160657Z
UID:10000404-1824490800-1824501600@kimmyzongreenway.com
SUMMARY:Karaoke
DESCRIPTION:Pick a song\, grab the mic\, and show off your pipes! Join us for the best Karaoke in Glendale every Monday night.
URL:https://kimmyzongreenway.com/event/karaoke/2027-10-25/
LOCATION:Kimmyz on Greenway\, 5930 W Greenway Rd\, Glendale\, AZ\, 85306\, United States
CATEGORIES:Live Music
ATTACH;FMTTYPE=image/jpeg:https://kimmyzongreenway.com/wp-content/uploads/2025/02/microphone-4547633_1920.jpg
END:VEVENT
BEGIN:VEVENT
DTSTART;TZID=America/Denver:20271026T110000
DTEND;TZID=America/Denver:20271026T210000
DTSTAMP:20260423T224134
CREATED:20250213T172529Z
LAST-MODIFIED:20250213T213516Z
UID:10003020-1824548400-1824584400@kimmyzongreenway.com
SUMMARY:Taco Tuesday
DESCRIPTION:Three tacos (your choice of ground beef\, steak\, fish\, or chicken) served with fresh chips and salsa.  \n 
URL:https://kimmyzongreenway.com/event/taco-tuesday/2027-10-26/
LOCATION:Kimmyz on Greenway\, 5930 W Greenway Rd\, Glendale\, AZ\, 85306\, United States
CATEGORIES:Food Specials
ATTACH;FMTTYPE=image/jpeg:https://kimmyzongreenway.com/wp-content/uploads/2025/02/chantel-E2n6-GuBGYo-unsplash-scaled.jpg
END:VEVENT
BEGIN:VEVENT
DTSTART;TZID=America/Denver:20271026T190000
DTEND;TZID=America/Denver:20271026T220000
DTSTAMP:20260423T224134
CREATED:20250213T160301Z
LAST-MODIFIED:20250213T160301Z
UID:10000142-1824577200-1824588000@kimmyzongreenway.com
SUMMARY:Open Mic
DESCRIPTION:It’s your turn to take the stage! Bring your instrument(s) and showcase what you got every Tuesday at the home of the best live music in Glendale\, AZ.
URL:https://kimmyzongreenway.com/event/open-mic/2027-10-26/
LOCATION:Kimmyz on Greenway\, 5930 W Greenway Rd\, Glendale\, AZ\, 85306\, United States
CATEGORIES:Live Music
ATTACH;FMTTYPE=image/jpeg:https://kimmyzongreenway.com/wp-content/uploads/2025/02/audio-2941753_1920.jpg
END:VEVENT
BEGIN:VEVENT
DTSTART;TZID=America/Denver:20271027T110000
DTEND;TZID=America/Denver:20271027T210000
DTSTAMP:20260423T224134
CREATED:20250213T172729Z
LAST-MODIFIED:20250213T213423Z
UID:10002758-1824634800-1824670800@kimmyzongreenway.com
SUMMARY:Burger & Beer Wednesday
DESCRIPTION:Our classic juicy burger served with French Fries and a pint of domestic beer or soda. 
URL:https://kimmyzongreenway.com/event/burger-beer-wednesday/2027-10-27/
LOCATION:Kimmyz on Greenway\, 5930 W Greenway Rd\, Glendale\, AZ\, 85306\, United States
CATEGORIES:Food Specials
ATTACH;FMTTYPE=image/jpeg:https://kimmyzongreenway.com/wp-content/uploads/2025/02/3.jpg
END:VEVENT
BEGIN:VEVENT
DTSTART;VALUE=DATE:20271028
DTEND;VALUE=DATE:20271030
DTSTAMP:20260423T224134
CREATED:20250225T234027Z
LAST-MODIFIED:20250225T234027Z
UID:10003813-1824685200-1824771599@kimmyzongreenway.com
SUMMARY:Bike Night
DESCRIPTION:We are your premiere biker friendly bar! Join us for biker specials\, live music & events every Thursday. (Sponsored by Arrowhead Harley-Davidson)
URL:https://kimmyzongreenway.com/event/bike-night/2027-10-28/
LOCATION:Kimmyz on Greenway\, 5930 W Greenway Rd\, Glendale\, AZ\, 85306\, United States
CATEGORIES:Live Music,Special Events
ATTACH;FMTTYPE=image/jpeg:https://kimmyzongreenway.com/wp-content/uploads/2025/02/motorcycle-7539871_1280.jpg
END:VEVENT
BEGIN:VEVENT
DTSTART;TZID=America/Denver:20271028T110000
DTEND;TZID=America/Denver:20271028T210000
DTSTAMP:20260423T224134
CREATED:20250213T173133Z
LAST-MODIFIED:20250213T213309Z
UID:10002237-1824721200-1824757200@kimmyzongreenway.com
SUMMARY:Philly Thursday
DESCRIPTION:Philly cheese steak sandwich served with French Fries and a pint of domestic beer or soda.  \n 
URL:https://kimmyzongreenway.com/event/philly-thursday/2027-10-28/
LOCATION:Kimmyz on Greenway\, 5930 W Greenway Rd\, Glendale\, AZ\, 85306\, United States
CATEGORIES:Food Specials
ATTACH;FMTTYPE=image/jpeg:https://kimmyzongreenway.com/wp-content/uploads/2025/02/snappr-IKsF2Nfh9NY-unsplash-scaled.jpg
END:VEVENT
BEGIN:VEVENT
DTSTART;TZID=America/Denver:20271029T110000
DTEND;TZID=America/Denver:20271029T220000
DTSTAMP:20260423T224134
CREATED:20250213T173428Z
LAST-MODIFIED:20250213T213339Z
UID:10002497-1824807600-1824847200@kimmyzongreenway.com
SUMMARY:Fish Fry Friday
DESCRIPTION:Fish Fry Friday:\n \n   All you can eat fish fry – $18.99 \n   Fish Fry Basket – $14.99 \n   Fish & Shrimp Basket – $16.99 \n 
URL:https://kimmyzongreenway.com/event/fish-fry-friday/2027-10-29/
LOCATION:Kimmyz on Greenway\, 5930 W Greenway Rd\, Glendale\, AZ\, 85306\, United States
CATEGORIES:Food Specials
ATTACH;FMTTYPE=image/jpeg:https://kimmyzongreenway.com/wp-content/uploads/2025/02/davey-gravy-YpQGo0QTshE-unsplash-scaled.jpg
END:VEVENT
BEGIN:VEVENT
DTSTART;TZID=America/Denver:20271030T110000
DTEND;TZID=America/Denver:20271030T220000
DTSTAMP:20260423T224134
CREATED:20250213T175029Z
LAST-MODIFIED:20250213T213141Z
UID:10001976-1824894000-1824933600@kimmyzongreenway.com
SUMMARY:Reuben Sandwich Saturday
DESCRIPTION:Reuben sandwich served with French Fries.  \n 
URL:https://kimmyzongreenway.com/event/reuben-sandwich-saturday/2027-10-30/
LOCATION:Kimmyz on Greenway\, 5930 W Greenway Rd\, Glendale\, AZ\, 85306\, United States
CATEGORIES:Food Specials
ATTACH;FMTTYPE=image/png:https://kimmyzongreenway.com/wp-content/uploads/2025/02/Screenshot-2025-02-13-at-10.13.40 AM.png
END:VEVENT
BEGIN:VEVENT
DTSTART;TZID=America/Denver:20271031T110000
DTEND;TZID=America/Denver:20271031T210000
DTSTAMP:20260423T224134
CREATED:20250213T171734Z
LAST-MODIFIED:20250213T213655Z
UID:10003545-1824980400-1825016400@kimmyzongreenway.com
SUMMARY:French Dip Sunday
DESCRIPTION:French Dip sandwich served with French Fries
URL:https://kimmyzongreenway.com/event/french-dip-sunday/2027-10-31/
LOCATION:Kimmyz on Greenway\, 5930 W Greenway Rd\, Glendale\, AZ\, 85306\, United States
CATEGORIES:Food Specials
ATTACH;FMTTYPE=image/png:https://kimmyzongreenway.com/wp-content/uploads/2025/02/Screenshot-2025-02-13-at-10.14.27 AM.png
END:VEVENT
BEGIN:VEVENT
DTSTART;TZID=America/Denver:20271101T110000
DTEND;TZID=America/Denver:20271101T210000
DTSTAMP:20260423T224134
CREATED:20250808T205703Z
LAST-MODIFIED:20250808T205704Z
UID:10004273-1825066800-1825102800@kimmyzongreenway.com
SUMMARY:Meatloaf Monday
DESCRIPTION:Homemade meatloaf served with mashed potatoes\, gravy\, corn & a dinner roll.
URL:https://kimmyzongreenway.com/event/meatloaf-monday-2/2027-11-01/
LOCATION:Kimmyz on Greenway\, 5930 W Greenway Rd\, Glendale\, AZ\, 85306\, United States
CATEGORIES:Food Specials
ATTACH;FMTTYPE=image/png:https://kimmyzongreenway.com/wp-content/uploads/2025/02/Screenshot-2025-02-13-at-10.20.59 AM.png
END:VEVENT
BEGIN:VEVENT
DTSTART;TZID=America/Denver:20271101T190000
DTEND;TZID=America/Denver:20271101T220000
DTSTAMP:20260423T224134
CREATED:20250213T160657Z
LAST-MODIFIED:20250213T160657Z
UID:10000405-1825095600-1825106400@kimmyzongreenway.com
SUMMARY:Karaoke
DESCRIPTION:Pick a song\, grab the mic\, and show off your pipes! Join us for the best Karaoke in Glendale every Monday night.
URL:https://kimmyzongreenway.com/event/karaoke/2027-11-01/
LOCATION:Kimmyz on Greenway\, 5930 W Greenway Rd\, Glendale\, AZ\, 85306\, United States
CATEGORIES:Live Music
ATTACH;FMTTYPE=image/jpeg:https://kimmyzongreenway.com/wp-content/uploads/2025/02/microphone-4547633_1920.jpg
END:VEVENT
BEGIN:VEVENT
DTSTART;TZID=America/Denver:20271102T110000
DTEND;TZID=America/Denver:20271102T210000
DTSTAMP:20260423T224134
CREATED:20250213T172529Z
LAST-MODIFIED:20250213T213516Z
UID:10003021-1825153200-1825189200@kimmyzongreenway.com
SUMMARY:Taco Tuesday
DESCRIPTION:Three tacos (your choice of ground beef\, steak\, fish\, or chicken) served with fresh chips and salsa.  \n 
URL:https://kimmyzongreenway.com/event/taco-tuesday/2027-11-02/
LOCATION:Kimmyz on Greenway\, 5930 W Greenway Rd\, Glendale\, AZ\, 85306\, United States
CATEGORIES:Food Specials
ATTACH;FMTTYPE=image/jpeg:https://kimmyzongreenway.com/wp-content/uploads/2025/02/chantel-E2n6-GuBGYo-unsplash-scaled.jpg
END:VEVENT
BEGIN:VEVENT
DTSTART;TZID=America/Denver:20271102T190000
DTEND;TZID=America/Denver:20271102T220000
DTSTAMP:20260423T224134
CREATED:20250213T160301Z
LAST-MODIFIED:20250213T160301Z
UID:10000143-1825182000-1825192800@kimmyzongreenway.com
SUMMARY:Open Mic
DESCRIPTION:It’s your turn to take the stage! Bring your instrument(s) and showcase what you got every Tuesday at the home of the best live music in Glendale\, AZ.
URL:https://kimmyzongreenway.com/event/open-mic/2027-11-02/
LOCATION:Kimmyz on Greenway\, 5930 W Greenway Rd\, Glendale\, AZ\, 85306\, United States
CATEGORIES:Live Music
ATTACH;FMTTYPE=image/jpeg:https://kimmyzongreenway.com/wp-content/uploads/2025/02/audio-2941753_1920.jpg
END:VEVENT
BEGIN:VEVENT
DTSTART;TZID=America/Denver:20271103T110000
DTEND;TZID=America/Denver:20271103T210000
DTSTAMP:20260423T224134
CREATED:20250213T172729Z
LAST-MODIFIED:20250213T213423Z
UID:10002759-1825239600-1825275600@kimmyzongreenway.com
SUMMARY:Burger & Beer Wednesday
DESCRIPTION:Our classic juicy burger served with French Fries and a pint of domestic beer or soda. 
URL:https://kimmyzongreenway.com/event/burger-beer-wednesday/2027-11-03/
LOCATION:Kimmyz on Greenway\, 5930 W Greenway Rd\, Glendale\, AZ\, 85306\, United States
CATEGORIES:Food Specials
ATTACH;FMTTYPE=image/jpeg:https://kimmyzongreenway.com/wp-content/uploads/2025/02/3.jpg
END:VEVENT
BEGIN:VEVENT
DTSTART;VALUE=DATE:20271104
DTEND;VALUE=DATE:20271106
DTSTAMP:20260423T224134
CREATED:20250225T234027Z
LAST-MODIFIED:20250225T234027Z
UID:10003814-1825290000-1825376399@kimmyzongreenway.com
SUMMARY:Bike Night
DESCRIPTION:We are your premiere biker friendly bar! Join us for biker specials\, live music & events every Thursday. (Sponsored by Arrowhead Harley-Davidson)
URL:https://kimmyzongreenway.com/event/bike-night/2027-11-04/
LOCATION:Kimmyz on Greenway\, 5930 W Greenway Rd\, Glendale\, AZ\, 85306\, United States
CATEGORIES:Live Music,Special Events
ATTACH;FMTTYPE=image/jpeg:https://kimmyzongreenway.com/wp-content/uploads/2025/02/motorcycle-7539871_1280.jpg
END:VEVENT
BEGIN:VEVENT
DTSTART;TZID=America/Denver:20271104T110000
DTEND;TZID=America/Denver:20271104T210000
DTSTAMP:20260423T224134
CREATED:20250213T173133Z
LAST-MODIFIED:20250213T213309Z
UID:10002238-1825326000-1825362000@kimmyzongreenway.com
SUMMARY:Philly Thursday
DESCRIPTION:Philly cheese steak sandwich served with French Fries and a pint of domestic beer or soda.  \n 
URL:https://kimmyzongreenway.com/event/philly-thursday/2027-11-04/
LOCATION:Kimmyz on Greenway\, 5930 W Greenway Rd\, Glendale\, AZ\, 85306\, United States
CATEGORIES:Food Specials
ATTACH;FMTTYPE=image/jpeg:https://kimmyzongreenway.com/wp-content/uploads/2025/02/snappr-IKsF2Nfh9NY-unsplash-scaled.jpg
END:VEVENT
BEGIN:VEVENT
DTSTART;TZID=America/Denver:20271105T110000
DTEND;TZID=America/Denver:20271105T220000
DTSTAMP:20260423T224134
CREATED:20250213T173428Z
LAST-MODIFIED:20250213T213339Z
UID:10002498-1825412400-1825452000@kimmyzongreenway.com
SUMMARY:Fish Fry Friday
DESCRIPTION:Fish Fry Friday:\n \n   All you can eat fish fry – $18.99 \n   Fish Fry Basket – $14.99 \n   Fish & Shrimp Basket – $16.99 \n 
URL:https://kimmyzongreenway.com/event/fish-fry-friday/2027-11-05/
LOCATION:Kimmyz on Greenway\, 5930 W Greenway Rd\, Glendale\, AZ\, 85306\, United States
CATEGORIES:Food Specials
ATTACH;FMTTYPE=image/jpeg:https://kimmyzongreenway.com/wp-content/uploads/2025/02/davey-gravy-YpQGo0QTshE-unsplash-scaled.jpg
END:VEVENT
END:VCALENDAR