BEGIN:VCALENDAR
VERSION:2.0
PRODID:-//Kimmyz on Greenway - ECPv6.15.20//NONSGML v1.0//EN
CALSCALE:GREGORIAN
METHOD:PUBLISH
X-WR-CALNAME:Kimmyz on Greenway
X-ORIGINAL-URL:https://kimmyzongreenway.com
X-WR-CALDESC:Events for Kimmyz on Greenway
REFRESH-INTERVAL;VALUE=DURATION:PT1H
X-Robots-Tag:noindex
X-PUBLISHED-TTL:PT1H
BEGIN:VTIMEZONE
TZID:America/Denver
BEGIN:DAYLIGHT
TZOFFSETFROM:-0700
TZOFFSETTO:-0600
TZNAME:MDT
DTSTART:20260308T090000
END:DAYLIGHT
BEGIN:STANDARD
TZOFFSETFROM:-0600
TZOFFSETTO:-0700
TZNAME:MST
DTSTART:20261101T080000
END:STANDARD
BEGIN:DAYLIGHT
TZOFFSETFROM:-0700
TZOFFSETTO:-0600
TZNAME:MDT
DTSTART:20270314T090000
END:DAYLIGHT
BEGIN:STANDARD
TZOFFSETFROM:-0600
TZOFFSETTO:-0700
TZNAME:MST
DTSTART:20271107T080000
END:STANDARD
BEGIN:DAYLIGHT
TZOFFSETFROM:-0700
TZOFFSETTO:-0600
TZNAME:MDT
DTSTART:20280312T090000
END:DAYLIGHT
BEGIN:STANDARD
TZOFFSETFROM:-0600
TZOFFSETTO:-0700
TZNAME:MST
DTSTART:20281105T080000
END:STANDARD
END:VTIMEZONE
BEGIN:VTIMEZONE
TZID:America/Phoenix
BEGIN:STANDARD
TZOFFSETFROM:-0700
TZOFFSETTO:-0700
TZNAME:MST
DTSTART:20260101T000000
END:STANDARD
END:VTIMEZONE
BEGIN:VEVENT
DTSTART;TZID=America/Denver:20270722T110000
DTEND;TZID=America/Denver:20270722T210000
DTSTAMP:20260423T075020
CREATED:20250213T173133Z
LAST-MODIFIED:20250213T213309Z
UID:10002223-1816254000-1816290000@kimmyzongreenway.com
SUMMARY:Philly Thursday
DESCRIPTION:Philly cheese steak sandwich served with French Fries and a pint of domestic beer or soda.  \n 
URL:https://kimmyzongreenway.com/event/philly-thursday/2027-07-22/
LOCATION:Kimmyz on Greenway\, 5930 W Greenway Rd\, Glendale\, AZ\, 85306\, United States
CATEGORIES:Food Specials
ATTACH;FMTTYPE=image/jpeg:https://kimmyzongreenway.com/wp-content/uploads/2025/02/snappr-IKsF2Nfh9NY-unsplash-scaled.jpg
END:VEVENT
BEGIN:VEVENT
DTSTART;TZID=America/Denver:20270723T110000
DTEND;TZID=America/Denver:20270723T220000
DTSTAMP:20260423T075020
CREATED:20250213T173428Z
LAST-MODIFIED:20250213T213339Z
UID:10002483-1816340400-1816380000@kimmyzongreenway.com
SUMMARY:Fish Fry Friday
DESCRIPTION:Fish Fry Friday:\n \n   All you can eat fish fry – $18.99 \n   Fish Fry Basket – $14.99 \n   Fish & Shrimp Basket – $16.99 \n 
URL:https://kimmyzongreenway.com/event/fish-fry-friday/2027-07-23/
LOCATION:Kimmyz on Greenway\, 5930 W Greenway Rd\, Glendale\, AZ\, 85306\, United States
CATEGORIES:Food Specials
ATTACH;FMTTYPE=image/jpeg:https://kimmyzongreenway.com/wp-content/uploads/2025/02/davey-gravy-YpQGo0QTshE-unsplash-scaled.jpg
END:VEVENT
BEGIN:VEVENT
DTSTART;TZID=America/Denver:20270724T110000
DTEND;TZID=America/Denver:20270724T220000
DTSTAMP:20260423T075020
CREATED:20250213T175029Z
LAST-MODIFIED:20250213T213141Z
UID:10001962-1816426800-1816466400@kimmyzongreenway.com
SUMMARY:Reuben Sandwich Saturday
DESCRIPTION:Reuben sandwich served with French Fries.  \n 
URL:https://kimmyzongreenway.com/event/reuben-sandwich-saturday/2027-07-24/
LOCATION:Kimmyz on Greenway\, 5930 W Greenway Rd\, Glendale\, AZ\, 85306\, United States
CATEGORIES:Food Specials
ATTACH;FMTTYPE=image/png:https://kimmyzongreenway.com/wp-content/uploads/2025/02/Screenshot-2025-02-13-at-10.13.40 AM.png
END:VEVENT
BEGIN:VEVENT
DTSTART;TZID=America/Denver:20270725T110000
DTEND;TZID=America/Denver:20270725T210000
DTSTAMP:20260423T075020
CREATED:20250213T171734Z
LAST-MODIFIED:20250213T213655Z
UID:10003531-1816513200-1816549200@kimmyzongreenway.com
SUMMARY:French Dip Sunday
DESCRIPTION:French Dip sandwich served with French Fries
URL:https://kimmyzongreenway.com/event/french-dip-sunday/2027-07-25/
LOCATION:Kimmyz on Greenway\, 5930 W Greenway Rd\, Glendale\, AZ\, 85306\, United States
CATEGORIES:Food Specials
ATTACH;FMTTYPE=image/png:https://kimmyzongreenway.com/wp-content/uploads/2025/02/Screenshot-2025-02-13-at-10.14.27 AM.png
END:VEVENT
BEGIN:VEVENT
DTSTART;TZID=America/Denver:20270726T110000
DTEND;TZID=America/Denver:20270726T210000
DTSTAMP:20260423T075020
CREATED:20250808T205703Z
LAST-MODIFIED:20250808T205704Z
UID:10004259-1816599600-1816635600@kimmyzongreenway.com
SUMMARY:Meatloaf Monday
DESCRIPTION:Homemade meatloaf served with mashed potatoes\, gravy\, corn & a dinner roll.
URL:https://kimmyzongreenway.com/event/meatloaf-monday-2/2027-07-26/
LOCATION:Kimmyz on Greenway\, 5930 W Greenway Rd\, Glendale\, AZ\, 85306\, United States
CATEGORIES:Food Specials
ATTACH;FMTTYPE=image/png:https://kimmyzongreenway.com/wp-content/uploads/2025/02/Screenshot-2025-02-13-at-10.20.59 AM.png
END:VEVENT
BEGIN:VEVENT
DTSTART;TZID=America/Denver:20270726T190000
DTEND;TZID=America/Denver:20270726T220000
DTSTAMP:20260423T075020
CREATED:20250213T160657Z
LAST-MODIFIED:20250213T160657Z
UID:10000391-1816628400-1816639200@kimmyzongreenway.com
SUMMARY:Karaoke
DESCRIPTION:Pick a song\, grab the mic\, and show off your pipes! Join us for the best Karaoke in Glendale every Monday night.
URL:https://kimmyzongreenway.com/event/karaoke/2027-07-26/
LOCATION:Kimmyz on Greenway\, 5930 W Greenway Rd\, Glendale\, AZ\, 85306\, United States
CATEGORIES:Live Music
ATTACH;FMTTYPE=image/jpeg:https://kimmyzongreenway.com/wp-content/uploads/2025/02/microphone-4547633_1920.jpg
END:VEVENT
BEGIN:VEVENT
DTSTART;TZID=America/Denver:20270727T110000
DTEND;TZID=America/Denver:20270727T210000
DTSTAMP:20260423T075020
CREATED:20250213T172529Z
LAST-MODIFIED:20250213T213516Z
UID:10003007-1816686000-1816722000@kimmyzongreenway.com
SUMMARY:Taco Tuesday
DESCRIPTION:Three tacos (your choice of ground beef\, steak\, fish\, or chicken) served with fresh chips and salsa.  \n 
URL:https://kimmyzongreenway.com/event/taco-tuesday/2027-07-27/
LOCATION:Kimmyz on Greenway\, 5930 W Greenway Rd\, Glendale\, AZ\, 85306\, United States
CATEGORIES:Food Specials
ATTACH;FMTTYPE=image/jpeg:https://kimmyzongreenway.com/wp-content/uploads/2025/02/chantel-E2n6-GuBGYo-unsplash-scaled.jpg
END:VEVENT
BEGIN:VEVENT
DTSTART;TZID=America/Denver:20270727T190000
DTEND;TZID=America/Denver:20270727T220000
DTSTAMP:20260423T075020
CREATED:20250213T160301Z
LAST-MODIFIED:20250213T160301Z
UID:10000129-1816714800-1816725600@kimmyzongreenway.com
SUMMARY:Open Mic
DESCRIPTION:It’s your turn to take the stage! Bring your instrument(s) and showcase what you got every Tuesday at the home of the best live music in Glendale\, AZ.
URL:https://kimmyzongreenway.com/event/open-mic/2027-07-27/
LOCATION:Kimmyz on Greenway\, 5930 W Greenway Rd\, Glendale\, AZ\, 85306\, United States
CATEGORIES:Live Music
ATTACH;FMTTYPE=image/jpeg:https://kimmyzongreenway.com/wp-content/uploads/2025/02/audio-2941753_1920.jpg
END:VEVENT
BEGIN:VEVENT
DTSTART;TZID=America/Denver:20270728T110000
DTEND;TZID=America/Denver:20270728T210000
DTSTAMP:20260423T075020
CREATED:20250213T172729Z
LAST-MODIFIED:20250213T213423Z
UID:10002745-1816772400-1816808400@kimmyzongreenway.com
SUMMARY:Burger & Beer Wednesday
DESCRIPTION:Our classic juicy burger served with French Fries and a pint of domestic beer or soda. 
URL:https://kimmyzongreenway.com/event/burger-beer-wednesday/2027-07-28/
LOCATION:Kimmyz on Greenway\, 5930 W Greenway Rd\, Glendale\, AZ\, 85306\, United States
CATEGORIES:Food Specials
ATTACH;FMTTYPE=image/jpeg:https://kimmyzongreenway.com/wp-content/uploads/2025/02/3.jpg
END:VEVENT
BEGIN:VEVENT
DTSTART;VALUE=DATE:20270729
DTEND;VALUE=DATE:20270731
DTSTAMP:20260423T075020
CREATED:20250225T234027Z
LAST-MODIFIED:20250225T234027Z
UID:10003800-1816822800-1816909199@kimmyzongreenway.com
SUMMARY:Bike Night
DESCRIPTION:We are your premiere biker friendly bar! Join us for biker specials\, live music & events every Thursday. (Sponsored by Arrowhead Harley-Davidson)
URL:https://kimmyzongreenway.com/event/bike-night/2027-07-29/
LOCATION:Kimmyz on Greenway\, 5930 W Greenway Rd\, Glendale\, AZ\, 85306\, United States
CATEGORIES:Live Music,Special Events
ATTACH;FMTTYPE=image/jpeg:https://kimmyzongreenway.com/wp-content/uploads/2025/02/motorcycle-7539871_1280.jpg
END:VEVENT
BEGIN:VEVENT
DTSTART;TZID=America/Denver:20270729T110000
DTEND;TZID=America/Denver:20270729T210000
DTSTAMP:20260423T075020
CREATED:20250213T173133Z
LAST-MODIFIED:20250213T213309Z
UID:10002224-1816858800-1816894800@kimmyzongreenway.com
SUMMARY:Philly Thursday
DESCRIPTION:Philly cheese steak sandwich served with French Fries and a pint of domestic beer or soda.  \n 
URL:https://kimmyzongreenway.com/event/philly-thursday/2027-07-29/
LOCATION:Kimmyz on Greenway\, 5930 W Greenway Rd\, Glendale\, AZ\, 85306\, United States
CATEGORIES:Food Specials
ATTACH;FMTTYPE=image/jpeg:https://kimmyzongreenway.com/wp-content/uploads/2025/02/snappr-IKsF2Nfh9NY-unsplash-scaled.jpg
END:VEVENT
BEGIN:VEVENT
DTSTART;TZID=America/Denver:20270730T110000
DTEND;TZID=America/Denver:20270730T220000
DTSTAMP:20260423T075020
CREATED:20250213T173428Z
LAST-MODIFIED:20250213T213339Z
UID:10002484-1816945200-1816984800@kimmyzongreenway.com
SUMMARY:Fish Fry Friday
DESCRIPTION:Fish Fry Friday:\n \n   All you can eat fish fry – $18.99 \n   Fish Fry Basket – $14.99 \n   Fish & Shrimp Basket – $16.99 \n 
URL:https://kimmyzongreenway.com/event/fish-fry-friday/2027-07-30/
LOCATION:Kimmyz on Greenway\, 5930 W Greenway Rd\, Glendale\, AZ\, 85306\, United States
CATEGORIES:Food Specials
ATTACH;FMTTYPE=image/jpeg:https://kimmyzongreenway.com/wp-content/uploads/2025/02/davey-gravy-YpQGo0QTshE-unsplash-scaled.jpg
END:VEVENT
BEGIN:VEVENT
DTSTART;TZID=America/Denver:20270731T110000
DTEND;TZID=America/Denver:20270731T220000
DTSTAMP:20260423T075020
CREATED:20250213T175029Z
LAST-MODIFIED:20250213T213141Z
UID:10001963-1817031600-1817071200@kimmyzongreenway.com
SUMMARY:Reuben Sandwich Saturday
DESCRIPTION:Reuben sandwich served with French Fries.  \n 
URL:https://kimmyzongreenway.com/event/reuben-sandwich-saturday/2027-07-31/
LOCATION:Kimmyz on Greenway\, 5930 W Greenway Rd\, Glendale\, AZ\, 85306\, United States
CATEGORIES:Food Specials
ATTACH;FMTTYPE=image/png:https://kimmyzongreenway.com/wp-content/uploads/2025/02/Screenshot-2025-02-13-at-10.13.40 AM.png
END:VEVENT
BEGIN:VEVENT
DTSTART;TZID=America/Denver:20270801T110000
DTEND;TZID=America/Denver:20270801T210000
DTSTAMP:20260423T075020
CREATED:20250213T171734Z
LAST-MODIFIED:20250213T213655Z
UID:10003532-1817118000-1817154000@kimmyzongreenway.com
SUMMARY:French Dip Sunday
DESCRIPTION:French Dip sandwich served with French Fries
URL:https://kimmyzongreenway.com/event/french-dip-sunday/2027-08-01/
LOCATION:Kimmyz on Greenway\, 5930 W Greenway Rd\, Glendale\, AZ\, 85306\, United States
CATEGORIES:Food Specials
ATTACH;FMTTYPE=image/png:https://kimmyzongreenway.com/wp-content/uploads/2025/02/Screenshot-2025-02-13-at-10.14.27 AM.png
END:VEVENT
BEGIN:VEVENT
DTSTART;TZID=America/Denver:20270802T110000
DTEND;TZID=America/Denver:20270802T210000
DTSTAMP:20260423T075020
CREATED:20250808T205703Z
LAST-MODIFIED:20250808T205704Z
UID:10004260-1817204400-1817240400@kimmyzongreenway.com
SUMMARY:Meatloaf Monday
DESCRIPTION:Homemade meatloaf served with mashed potatoes\, gravy\, corn & a dinner roll.
URL:https://kimmyzongreenway.com/event/meatloaf-monday-2/2027-08-02/
LOCATION:Kimmyz on Greenway\, 5930 W Greenway Rd\, Glendale\, AZ\, 85306\, United States
CATEGORIES:Food Specials
ATTACH;FMTTYPE=image/png:https://kimmyzongreenway.com/wp-content/uploads/2025/02/Screenshot-2025-02-13-at-10.20.59 AM.png
END:VEVENT
BEGIN:VEVENT
DTSTART;TZID=America/Denver:20270802T190000
DTEND;TZID=America/Denver:20270802T220000
DTSTAMP:20260423T075020
CREATED:20250213T160657Z
LAST-MODIFIED:20250213T160657Z
UID:10000392-1817233200-1817244000@kimmyzongreenway.com
SUMMARY:Karaoke
DESCRIPTION:Pick a song\, grab the mic\, and show off your pipes! Join us for the best Karaoke in Glendale every Monday night.
URL:https://kimmyzongreenway.com/event/karaoke/2027-08-02/
LOCATION:Kimmyz on Greenway\, 5930 W Greenway Rd\, Glendale\, AZ\, 85306\, United States
CATEGORIES:Live Music
ATTACH;FMTTYPE=image/jpeg:https://kimmyzongreenway.com/wp-content/uploads/2025/02/microphone-4547633_1920.jpg
END:VEVENT
BEGIN:VEVENT
DTSTART;TZID=America/Denver:20270803T110000
DTEND;TZID=America/Denver:20270803T210000
DTSTAMP:20260423T075020
CREATED:20250213T172529Z
LAST-MODIFIED:20250213T213516Z
UID:10003008-1817290800-1817326800@kimmyzongreenway.com
SUMMARY:Taco Tuesday
DESCRIPTION:Three tacos (your choice of ground beef\, steak\, fish\, or chicken) served with fresh chips and salsa.  \n 
URL:https://kimmyzongreenway.com/event/taco-tuesday/2027-08-03/
LOCATION:Kimmyz on Greenway\, 5930 W Greenway Rd\, Glendale\, AZ\, 85306\, United States
CATEGORIES:Food Specials
ATTACH;FMTTYPE=image/jpeg:https://kimmyzongreenway.com/wp-content/uploads/2025/02/chantel-E2n6-GuBGYo-unsplash-scaled.jpg
END:VEVENT
BEGIN:VEVENT
DTSTART;TZID=America/Denver:20270803T190000
DTEND;TZID=America/Denver:20270803T220000
DTSTAMP:20260423T075020
CREATED:20250213T160301Z
LAST-MODIFIED:20250213T160301Z
UID:10000130-1817319600-1817330400@kimmyzongreenway.com
SUMMARY:Open Mic
DESCRIPTION:It’s your turn to take the stage! Bring your instrument(s) and showcase what you got every Tuesday at the home of the best live music in Glendale\, AZ.
URL:https://kimmyzongreenway.com/event/open-mic/2027-08-03/
LOCATION:Kimmyz on Greenway\, 5930 W Greenway Rd\, Glendale\, AZ\, 85306\, United States
CATEGORIES:Live Music
ATTACH;FMTTYPE=image/jpeg:https://kimmyzongreenway.com/wp-content/uploads/2025/02/audio-2941753_1920.jpg
END:VEVENT
BEGIN:VEVENT
DTSTART;TZID=America/Denver:20270804T110000
DTEND;TZID=America/Denver:20270804T210000
DTSTAMP:20260423T075020
CREATED:20250213T172729Z
LAST-MODIFIED:20250213T213423Z
UID:10002746-1817377200-1817413200@kimmyzongreenway.com
SUMMARY:Burger & Beer Wednesday
DESCRIPTION:Our classic juicy burger served with French Fries and a pint of domestic beer or soda. 
URL:https://kimmyzongreenway.com/event/burger-beer-wednesday/2027-08-04/
LOCATION:Kimmyz on Greenway\, 5930 W Greenway Rd\, Glendale\, AZ\, 85306\, United States
CATEGORIES:Food Specials
ATTACH;FMTTYPE=image/jpeg:https://kimmyzongreenway.com/wp-content/uploads/2025/02/3.jpg
END:VEVENT
BEGIN:VEVENT
DTSTART;VALUE=DATE:20270805
DTEND;VALUE=DATE:20270807
DTSTAMP:20260423T075020
CREATED:20250225T234027Z
LAST-MODIFIED:20250225T234027Z
UID:10003801-1817427600-1817513999@kimmyzongreenway.com
SUMMARY:Bike Night
DESCRIPTION:We are your premiere biker friendly bar! Join us for biker specials\, live music & events every Thursday. (Sponsored by Arrowhead Harley-Davidson)
URL:https://kimmyzongreenway.com/event/bike-night/2027-08-05/
LOCATION:Kimmyz on Greenway\, 5930 W Greenway Rd\, Glendale\, AZ\, 85306\, United States
CATEGORIES:Live Music,Special Events
ATTACH;FMTTYPE=image/jpeg:https://kimmyzongreenway.com/wp-content/uploads/2025/02/motorcycle-7539871_1280.jpg
END:VEVENT
BEGIN:VEVENT
DTSTART;TZID=America/Denver:20270805T110000
DTEND;TZID=America/Denver:20270805T210000
DTSTAMP:20260423T075020
CREATED:20250213T173133Z
LAST-MODIFIED:20250213T213309Z
UID:10002225-1817463600-1817499600@kimmyzongreenway.com
SUMMARY:Philly Thursday
DESCRIPTION:Philly cheese steak sandwich served with French Fries and a pint of domestic beer or soda.  \n 
URL:https://kimmyzongreenway.com/event/philly-thursday/2027-08-05/
LOCATION:Kimmyz on Greenway\, 5930 W Greenway Rd\, Glendale\, AZ\, 85306\, United States
CATEGORIES:Food Specials
ATTACH;FMTTYPE=image/jpeg:https://kimmyzongreenway.com/wp-content/uploads/2025/02/snappr-IKsF2Nfh9NY-unsplash-scaled.jpg
END:VEVENT
BEGIN:VEVENT
DTSTART;TZID=America/Denver:20270806T110000
DTEND;TZID=America/Denver:20270806T220000
DTSTAMP:20260423T075020
CREATED:20250213T173428Z
LAST-MODIFIED:20250213T213339Z
UID:10002485-1817550000-1817589600@kimmyzongreenway.com
SUMMARY:Fish Fry Friday
DESCRIPTION:Fish Fry Friday:\n \n   All you can eat fish fry – $18.99 \n   Fish Fry Basket – $14.99 \n   Fish & Shrimp Basket – $16.99 \n 
URL:https://kimmyzongreenway.com/event/fish-fry-friday/2027-08-06/
LOCATION:Kimmyz on Greenway\, 5930 W Greenway Rd\, Glendale\, AZ\, 85306\, United States
CATEGORIES:Food Specials
ATTACH;FMTTYPE=image/jpeg:https://kimmyzongreenway.com/wp-content/uploads/2025/02/davey-gravy-YpQGo0QTshE-unsplash-scaled.jpg
END:VEVENT
BEGIN:VEVENT
DTSTART;TZID=America/Denver:20270807T110000
DTEND;TZID=America/Denver:20270807T220000
DTSTAMP:20260423T075020
CREATED:20250213T175029Z
LAST-MODIFIED:20250213T213141Z
UID:10001964-1817636400-1817676000@kimmyzongreenway.com
SUMMARY:Reuben Sandwich Saturday
DESCRIPTION:Reuben sandwich served with French Fries.  \n 
URL:https://kimmyzongreenway.com/event/reuben-sandwich-saturday/2027-08-07/
LOCATION:Kimmyz on Greenway\, 5930 W Greenway Rd\, Glendale\, AZ\, 85306\, United States
CATEGORIES:Food Specials
ATTACH;FMTTYPE=image/png:https://kimmyzongreenway.com/wp-content/uploads/2025/02/Screenshot-2025-02-13-at-10.13.40 AM.png
END:VEVENT
BEGIN:VEVENT
DTSTART;TZID=America/Denver:20270808T110000
DTEND;TZID=America/Denver:20270808T210000
DTSTAMP:20260423T075020
CREATED:20250213T171734Z
LAST-MODIFIED:20250213T213655Z
UID:10003533-1817722800-1817758800@kimmyzongreenway.com
SUMMARY:French Dip Sunday
DESCRIPTION:French Dip sandwich served with French Fries
URL:https://kimmyzongreenway.com/event/french-dip-sunday/2027-08-08/
LOCATION:Kimmyz on Greenway\, 5930 W Greenway Rd\, Glendale\, AZ\, 85306\, United States
CATEGORIES:Food Specials
ATTACH;FMTTYPE=image/png:https://kimmyzongreenway.com/wp-content/uploads/2025/02/Screenshot-2025-02-13-at-10.14.27 AM.png
END:VEVENT
BEGIN:VEVENT
DTSTART;TZID=America/Denver:20270809T110000
DTEND;TZID=America/Denver:20270809T210000
DTSTAMP:20260423T075020
CREATED:20250808T205703Z
LAST-MODIFIED:20250808T205704Z
UID:10004261-1817809200-1817845200@kimmyzongreenway.com
SUMMARY:Meatloaf Monday
DESCRIPTION:Homemade meatloaf served with mashed potatoes\, gravy\, corn & a dinner roll.
URL:https://kimmyzongreenway.com/event/meatloaf-monday-2/2027-08-09/
LOCATION:Kimmyz on Greenway\, 5930 W Greenway Rd\, Glendale\, AZ\, 85306\, United States
CATEGORIES:Food Specials
ATTACH;FMTTYPE=image/png:https://kimmyzongreenway.com/wp-content/uploads/2025/02/Screenshot-2025-02-13-at-10.20.59 AM.png
END:VEVENT
BEGIN:VEVENT
DTSTART;TZID=America/Denver:20270809T190000
DTEND;TZID=America/Denver:20270809T220000
DTSTAMP:20260423T075020
CREATED:20250213T160657Z
LAST-MODIFIED:20250213T160657Z
UID:10000393-1817838000-1817848800@kimmyzongreenway.com
SUMMARY:Karaoke
DESCRIPTION:Pick a song\, grab the mic\, and show off your pipes! Join us for the best Karaoke in Glendale every Monday night.
URL:https://kimmyzongreenway.com/event/karaoke/2027-08-09/
LOCATION:Kimmyz on Greenway\, 5930 W Greenway Rd\, Glendale\, AZ\, 85306\, United States
CATEGORIES:Live Music
ATTACH;FMTTYPE=image/jpeg:https://kimmyzongreenway.com/wp-content/uploads/2025/02/microphone-4547633_1920.jpg
END:VEVENT
BEGIN:VEVENT
DTSTART;TZID=America/Denver:20270810T110000
DTEND;TZID=America/Denver:20270810T210000
DTSTAMP:20260423T075020
CREATED:20250213T172529Z
LAST-MODIFIED:20250213T213516Z
UID:10003009-1817895600-1817931600@kimmyzongreenway.com
SUMMARY:Taco Tuesday
DESCRIPTION:Three tacos (your choice of ground beef\, steak\, fish\, or chicken) served with fresh chips and salsa.  \n 
URL:https://kimmyzongreenway.com/event/taco-tuesday/2027-08-10/
LOCATION:Kimmyz on Greenway\, 5930 W Greenway Rd\, Glendale\, AZ\, 85306\, United States
CATEGORIES:Food Specials
ATTACH;FMTTYPE=image/jpeg:https://kimmyzongreenway.com/wp-content/uploads/2025/02/chantel-E2n6-GuBGYo-unsplash-scaled.jpg
END:VEVENT
BEGIN:VEVENT
DTSTART;TZID=America/Denver:20270810T190000
DTEND;TZID=America/Denver:20270810T220000
DTSTAMP:20260423T075020
CREATED:20250213T160301Z
LAST-MODIFIED:20250213T160301Z
UID:10000131-1817924400-1817935200@kimmyzongreenway.com
SUMMARY:Open Mic
DESCRIPTION:It’s your turn to take the stage! Bring your instrument(s) and showcase what you got every Tuesday at the home of the best live music in Glendale\, AZ.
URL:https://kimmyzongreenway.com/event/open-mic/2027-08-10/
LOCATION:Kimmyz on Greenway\, 5930 W Greenway Rd\, Glendale\, AZ\, 85306\, United States
CATEGORIES:Live Music
ATTACH;FMTTYPE=image/jpeg:https://kimmyzongreenway.com/wp-content/uploads/2025/02/audio-2941753_1920.jpg
END:VEVENT
BEGIN:VEVENT
DTSTART;TZID=America/Denver:20270811T110000
DTEND;TZID=America/Denver:20270811T210000
DTSTAMP:20260423T075020
CREATED:20250213T172729Z
LAST-MODIFIED:20250213T213423Z
UID:10002747-1817982000-1818018000@kimmyzongreenway.com
SUMMARY:Burger & Beer Wednesday
DESCRIPTION:Our classic juicy burger served with French Fries and a pint of domestic beer or soda. 
URL:https://kimmyzongreenway.com/event/burger-beer-wednesday/2027-08-11/
LOCATION:Kimmyz on Greenway\, 5930 W Greenway Rd\, Glendale\, AZ\, 85306\, United States
CATEGORIES:Food Specials
ATTACH;FMTTYPE=image/jpeg:https://kimmyzongreenway.com/wp-content/uploads/2025/02/3.jpg
END:VEVENT
BEGIN:VEVENT
DTSTART;VALUE=DATE:20270812
DTEND;VALUE=DATE:20270814
DTSTAMP:20260423T075020
CREATED:20250225T234027Z
LAST-MODIFIED:20250225T234027Z
UID:10003802-1818032400-1818118799@kimmyzongreenway.com
SUMMARY:Bike Night
DESCRIPTION:We are your premiere biker friendly bar! Join us for biker specials\, live music & events every Thursday. (Sponsored by Arrowhead Harley-Davidson)
URL:https://kimmyzongreenway.com/event/bike-night/2027-08-12/
LOCATION:Kimmyz on Greenway\, 5930 W Greenway Rd\, Glendale\, AZ\, 85306\, United States
CATEGORIES:Live Music,Special Events
ATTACH;FMTTYPE=image/jpeg:https://kimmyzongreenway.com/wp-content/uploads/2025/02/motorcycle-7539871_1280.jpg
END:VEVENT
END:VCALENDAR