BEGIN:VCALENDAR
VERSION:2.0
PRODID:-//Kimmyz on Greenway - ECPv6.15.20//NONSGML v1.0//EN
CALSCALE:GREGORIAN
METHOD:PUBLISH
X-WR-CALNAME:Kimmyz on Greenway
X-ORIGINAL-URL:https://kimmyzongreenway.com
X-WR-CALDESC:Events for Kimmyz on Greenway
REFRESH-INTERVAL;VALUE=DURATION:PT1H
X-Robots-Tag:noindex
X-PUBLISHED-TTL:PT1H
BEGIN:VTIMEZONE
TZID:America/Denver
BEGIN:DAYLIGHT
TZOFFSETFROM:-0700
TZOFFSETTO:-0600
TZNAME:MDT
DTSTART:20260308T090000
END:DAYLIGHT
BEGIN:STANDARD
TZOFFSETFROM:-0600
TZOFFSETTO:-0700
TZNAME:MST
DTSTART:20261101T080000
END:STANDARD
BEGIN:DAYLIGHT
TZOFFSETFROM:-0700
TZOFFSETTO:-0600
TZNAME:MDT
DTSTART:20270314T090000
END:DAYLIGHT
BEGIN:STANDARD
TZOFFSETFROM:-0600
TZOFFSETTO:-0700
TZNAME:MST
DTSTART:20271107T080000
END:STANDARD
BEGIN:DAYLIGHT
TZOFFSETFROM:-0700
TZOFFSETTO:-0600
TZNAME:MDT
DTSTART:20280312T090000
END:DAYLIGHT
BEGIN:STANDARD
TZOFFSETFROM:-0600
TZOFFSETTO:-0700
TZNAME:MST
DTSTART:20281105T080000
END:STANDARD
END:VTIMEZONE
BEGIN:VTIMEZONE
TZID:America/Phoenix
BEGIN:STANDARD
TZOFFSETFROM:-0700
TZOFFSETTO:-0700
TZNAME:MST
DTSTART:20260101T000000
END:STANDARD
END:VTIMEZONE
BEGIN:VEVENT
DTSTART;TZID=America/Denver:20270317T110000
DTEND;TZID=America/Denver:20270317T210000
DTSTAMP:20260422T082106
CREATED:20250213T172729Z
LAST-MODIFIED:20250213T213423Z
UID:10002726-1805281200-1805317200@kimmyzongreenway.com
SUMMARY:Burger & Beer Wednesday
DESCRIPTION:Our classic juicy burger served with French Fries and a pint of domestic beer or soda. 
URL:https://kimmyzongreenway.com/event/burger-beer-wednesday/2027-03-17/
LOCATION:Kimmyz on Greenway\, 5930 W Greenway Rd\, Glendale\, AZ\, 85306\, United States
CATEGORIES:Food Specials
ATTACH;FMTTYPE=image/jpeg:https://kimmyzongreenway.com/wp-content/uploads/2025/02/3.jpg
END:VEVENT
BEGIN:VEVENT
DTSTART;VALUE=DATE:20270318
DTEND;VALUE=DATE:20270320
DTSTAMP:20260422T082106
CREATED:20250225T234027Z
LAST-MODIFIED:20250225T234027Z
UID:10003781-1805331600-1805417999@kimmyzongreenway.com
SUMMARY:Bike Night
DESCRIPTION:We are your premiere biker friendly bar! Join us for biker specials\, live music & events every Thursday. (Sponsored by Arrowhead Harley-Davidson)
URL:https://kimmyzongreenway.com/event/bike-night/2027-03-18/
LOCATION:Kimmyz on Greenway\, 5930 W Greenway Rd\, Glendale\, AZ\, 85306\, United States
CATEGORIES:Live Music,Special Events
ATTACH;FMTTYPE=image/jpeg:https://kimmyzongreenway.com/wp-content/uploads/2025/02/motorcycle-7539871_1280.jpg
END:VEVENT
BEGIN:VEVENT
DTSTART;TZID=America/Denver:20270318T110000
DTEND;TZID=America/Denver:20270318T210000
DTSTAMP:20260422T082106
CREATED:20250213T173133Z
LAST-MODIFIED:20250213T213309Z
UID:10002205-1805367600-1805403600@kimmyzongreenway.com
SUMMARY:Philly Thursday
DESCRIPTION:Philly cheese steak sandwich served with French Fries and a pint of domestic beer or soda.  \n 
URL:https://kimmyzongreenway.com/event/philly-thursday/2027-03-18/
LOCATION:Kimmyz on Greenway\, 5930 W Greenway Rd\, Glendale\, AZ\, 85306\, United States
CATEGORIES:Food Specials
ATTACH;FMTTYPE=image/jpeg:https://kimmyzongreenway.com/wp-content/uploads/2025/02/snappr-IKsF2Nfh9NY-unsplash-scaled.jpg
END:VEVENT
BEGIN:VEVENT
DTSTART;TZID=America/Denver:20270319T110000
DTEND;TZID=America/Denver:20270319T220000
DTSTAMP:20260422T082106
CREATED:20250213T173428Z
LAST-MODIFIED:20250213T213339Z
UID:10002465-1805454000-1805493600@kimmyzongreenway.com
SUMMARY:Fish Fry Friday
DESCRIPTION:Fish Fry Friday:\n \n   All you can eat fish fry – $18.99 \n   Fish Fry Basket – $14.99 \n   Fish & Shrimp Basket – $16.99 \n 
URL:https://kimmyzongreenway.com/event/fish-fry-friday/2027-03-19/
LOCATION:Kimmyz on Greenway\, 5930 W Greenway Rd\, Glendale\, AZ\, 85306\, United States
CATEGORIES:Food Specials
ATTACH;FMTTYPE=image/jpeg:https://kimmyzongreenway.com/wp-content/uploads/2025/02/davey-gravy-YpQGo0QTshE-unsplash-scaled.jpg
END:VEVENT
BEGIN:VEVENT
DTSTART;TZID=America/Denver:20270320T110000
DTEND;TZID=America/Denver:20270320T220000
DTSTAMP:20260422T082106
CREATED:20250213T175029Z
LAST-MODIFIED:20250213T213141Z
UID:10001944-1805540400-1805580000@kimmyzongreenway.com
SUMMARY:Reuben Sandwich Saturday
DESCRIPTION:Reuben sandwich served with French Fries.  \n 
URL:https://kimmyzongreenway.com/event/reuben-sandwich-saturday/2027-03-20/
LOCATION:Kimmyz on Greenway\, 5930 W Greenway Rd\, Glendale\, AZ\, 85306\, United States
CATEGORIES:Food Specials
ATTACH;FMTTYPE=image/png:https://kimmyzongreenway.com/wp-content/uploads/2025/02/Screenshot-2025-02-13-at-10.13.40 AM.png
END:VEVENT
BEGIN:VEVENT
DTSTART;TZID=America/Denver:20270321T110000
DTEND;TZID=America/Denver:20270321T210000
DTSTAMP:20260422T082106
CREATED:20250213T171734Z
LAST-MODIFIED:20250213T213655Z
UID:10003513-1805626800-1805662800@kimmyzongreenway.com
SUMMARY:French Dip Sunday
DESCRIPTION:French Dip sandwich served with French Fries
URL:https://kimmyzongreenway.com/event/french-dip-sunday/2027-03-21/
LOCATION:Kimmyz on Greenway\, 5930 W Greenway Rd\, Glendale\, AZ\, 85306\, United States
CATEGORIES:Food Specials
ATTACH;FMTTYPE=image/png:https://kimmyzongreenway.com/wp-content/uploads/2025/02/Screenshot-2025-02-13-at-10.14.27 AM.png
END:VEVENT
BEGIN:VEVENT
DTSTART;TZID=America/Denver:20270322T110000
DTEND;TZID=America/Denver:20270322T210000
DTSTAMP:20260422T082106
CREATED:20250808T205703Z
LAST-MODIFIED:20250808T205704Z
UID:10004241-1805713200-1805749200@kimmyzongreenway.com
SUMMARY:Meatloaf Monday
DESCRIPTION:Homemade meatloaf served with mashed potatoes\, gravy\, corn & a dinner roll.
URL:https://kimmyzongreenway.com/event/meatloaf-monday-2/2027-03-22/
LOCATION:Kimmyz on Greenway\, 5930 W Greenway Rd\, Glendale\, AZ\, 85306\, United States
CATEGORIES:Food Specials
ATTACH;FMTTYPE=image/png:https://kimmyzongreenway.com/wp-content/uploads/2025/02/Screenshot-2025-02-13-at-10.20.59 AM.png
END:VEVENT
BEGIN:VEVENT
DTSTART;TZID=America/Denver:20270322T190000
DTEND;TZID=America/Denver:20270322T220000
DTSTAMP:20260422T082106
CREATED:20250213T160657Z
LAST-MODIFIED:20250213T160657Z
UID:10000373-1805742000-1805752800@kimmyzongreenway.com
SUMMARY:Karaoke
DESCRIPTION:Pick a song\, grab the mic\, and show off your pipes! Join us for the best Karaoke in Glendale every Monday night.
URL:https://kimmyzongreenway.com/event/karaoke/2027-03-22/
LOCATION:Kimmyz on Greenway\, 5930 W Greenway Rd\, Glendale\, AZ\, 85306\, United States
CATEGORIES:Live Music
ATTACH;FMTTYPE=image/jpeg:https://kimmyzongreenway.com/wp-content/uploads/2025/02/microphone-4547633_1920.jpg
END:VEVENT
BEGIN:VEVENT
DTSTART;TZID=America/Denver:20270323T110000
DTEND;TZID=America/Denver:20270323T210000
DTSTAMP:20260422T082106
CREATED:20250213T172529Z
LAST-MODIFIED:20250213T213516Z
UID:10002989-1805799600-1805835600@kimmyzongreenway.com
SUMMARY:Taco Tuesday
DESCRIPTION:Three tacos (your choice of ground beef\, steak\, fish\, or chicken) served with fresh chips and salsa.  \n 
URL:https://kimmyzongreenway.com/event/taco-tuesday/2027-03-23/
LOCATION:Kimmyz on Greenway\, 5930 W Greenway Rd\, Glendale\, AZ\, 85306\, United States
CATEGORIES:Food Specials
ATTACH;FMTTYPE=image/jpeg:https://kimmyzongreenway.com/wp-content/uploads/2025/02/chantel-E2n6-GuBGYo-unsplash-scaled.jpg
END:VEVENT
BEGIN:VEVENT
DTSTART;TZID=America/Denver:20270323T190000
DTEND;TZID=America/Denver:20270323T220000
DTSTAMP:20260422T082106
CREATED:20250213T160301Z
LAST-MODIFIED:20250213T160301Z
UID:10000111-1805828400-1805839200@kimmyzongreenway.com
SUMMARY:Open Mic
DESCRIPTION:It’s your turn to take the stage! Bring your instrument(s) and showcase what you got every Tuesday at the home of the best live music in Glendale\, AZ.
URL:https://kimmyzongreenway.com/event/open-mic/2027-03-23/
LOCATION:Kimmyz on Greenway\, 5930 W Greenway Rd\, Glendale\, AZ\, 85306\, United States
CATEGORIES:Live Music
ATTACH;FMTTYPE=image/jpeg:https://kimmyzongreenway.com/wp-content/uploads/2025/02/audio-2941753_1920.jpg
END:VEVENT
BEGIN:VEVENT
DTSTART;TZID=America/Denver:20270324T110000
DTEND;TZID=America/Denver:20270324T210000
DTSTAMP:20260422T082106
CREATED:20250213T172729Z
LAST-MODIFIED:20250213T213423Z
UID:10002727-1805886000-1805922000@kimmyzongreenway.com
SUMMARY:Burger & Beer Wednesday
DESCRIPTION:Our classic juicy burger served with French Fries and a pint of domestic beer or soda. 
URL:https://kimmyzongreenway.com/event/burger-beer-wednesday/2027-03-24/
LOCATION:Kimmyz on Greenway\, 5930 W Greenway Rd\, Glendale\, AZ\, 85306\, United States
CATEGORIES:Food Specials
ATTACH;FMTTYPE=image/jpeg:https://kimmyzongreenway.com/wp-content/uploads/2025/02/3.jpg
END:VEVENT
BEGIN:VEVENT
DTSTART;VALUE=DATE:20270325
DTEND;VALUE=DATE:20270327
DTSTAMP:20260422T082106
CREATED:20250225T234027Z
LAST-MODIFIED:20250225T234027Z
UID:10003782-1805936400-1806022799@kimmyzongreenway.com
SUMMARY:Bike Night
DESCRIPTION:We are your premiere biker friendly bar! Join us for biker specials\, live music & events every Thursday. (Sponsored by Arrowhead Harley-Davidson)
URL:https://kimmyzongreenway.com/event/bike-night/2027-03-25/
LOCATION:Kimmyz on Greenway\, 5930 W Greenway Rd\, Glendale\, AZ\, 85306\, United States
CATEGORIES:Live Music,Special Events
ATTACH;FMTTYPE=image/jpeg:https://kimmyzongreenway.com/wp-content/uploads/2025/02/motorcycle-7539871_1280.jpg
END:VEVENT
BEGIN:VEVENT
DTSTART;TZID=America/Denver:20270325T110000
DTEND;TZID=America/Denver:20270325T210000
DTSTAMP:20260422T082106
CREATED:20250213T173133Z
LAST-MODIFIED:20250213T213309Z
UID:10002206-1805972400-1806008400@kimmyzongreenway.com
SUMMARY:Philly Thursday
DESCRIPTION:Philly cheese steak sandwich served with French Fries and a pint of domestic beer or soda.  \n 
URL:https://kimmyzongreenway.com/event/philly-thursday/2027-03-25/
LOCATION:Kimmyz on Greenway\, 5930 W Greenway Rd\, Glendale\, AZ\, 85306\, United States
CATEGORIES:Food Specials
ATTACH;FMTTYPE=image/jpeg:https://kimmyzongreenway.com/wp-content/uploads/2025/02/snappr-IKsF2Nfh9NY-unsplash-scaled.jpg
END:VEVENT
BEGIN:VEVENT
DTSTART;TZID=America/Denver:20270326T110000
DTEND;TZID=America/Denver:20270326T220000
DTSTAMP:20260422T082106
CREATED:20250213T173428Z
LAST-MODIFIED:20250213T213339Z
UID:10002466-1806058800-1806098400@kimmyzongreenway.com
SUMMARY:Fish Fry Friday
DESCRIPTION:Fish Fry Friday:\n \n   All you can eat fish fry – $18.99 \n   Fish Fry Basket – $14.99 \n   Fish & Shrimp Basket – $16.99 \n 
URL:https://kimmyzongreenway.com/event/fish-fry-friday/2027-03-26/
LOCATION:Kimmyz on Greenway\, 5930 W Greenway Rd\, Glendale\, AZ\, 85306\, United States
CATEGORIES:Food Specials
ATTACH;FMTTYPE=image/jpeg:https://kimmyzongreenway.com/wp-content/uploads/2025/02/davey-gravy-YpQGo0QTshE-unsplash-scaled.jpg
END:VEVENT
BEGIN:VEVENT
DTSTART;TZID=America/Denver:20270327T110000
DTEND;TZID=America/Denver:20270327T220000
DTSTAMP:20260422T082106
CREATED:20250213T175029Z
LAST-MODIFIED:20250213T213141Z
UID:10001945-1806145200-1806184800@kimmyzongreenway.com
SUMMARY:Reuben Sandwich Saturday
DESCRIPTION:Reuben sandwich served with French Fries.  \n 
URL:https://kimmyzongreenway.com/event/reuben-sandwich-saturday/2027-03-27/
LOCATION:Kimmyz on Greenway\, 5930 W Greenway Rd\, Glendale\, AZ\, 85306\, United States
CATEGORIES:Food Specials
ATTACH;FMTTYPE=image/png:https://kimmyzongreenway.com/wp-content/uploads/2025/02/Screenshot-2025-02-13-at-10.13.40 AM.png
END:VEVENT
BEGIN:VEVENT
DTSTART;TZID=America/Denver:20270328T110000
DTEND;TZID=America/Denver:20270328T210000
DTSTAMP:20260422T082106
CREATED:20250213T171734Z
LAST-MODIFIED:20250213T213655Z
UID:10003514-1806231600-1806267600@kimmyzongreenway.com
SUMMARY:French Dip Sunday
DESCRIPTION:French Dip sandwich served with French Fries
URL:https://kimmyzongreenway.com/event/french-dip-sunday/2027-03-28/
LOCATION:Kimmyz on Greenway\, 5930 W Greenway Rd\, Glendale\, AZ\, 85306\, United States
CATEGORIES:Food Specials
ATTACH;FMTTYPE=image/png:https://kimmyzongreenway.com/wp-content/uploads/2025/02/Screenshot-2025-02-13-at-10.14.27 AM.png
END:VEVENT
BEGIN:VEVENT
DTSTART;TZID=America/Denver:20270329T110000
DTEND;TZID=America/Denver:20270329T210000
DTSTAMP:20260422T082106
CREATED:20250808T205703Z
LAST-MODIFIED:20250808T205704Z
UID:10004242-1806318000-1806354000@kimmyzongreenway.com
SUMMARY:Meatloaf Monday
DESCRIPTION:Homemade meatloaf served with mashed potatoes\, gravy\, corn & a dinner roll.
URL:https://kimmyzongreenway.com/event/meatloaf-monday-2/2027-03-29/
LOCATION:Kimmyz on Greenway\, 5930 W Greenway Rd\, Glendale\, AZ\, 85306\, United States
CATEGORIES:Food Specials
ATTACH;FMTTYPE=image/png:https://kimmyzongreenway.com/wp-content/uploads/2025/02/Screenshot-2025-02-13-at-10.20.59 AM.png
END:VEVENT
BEGIN:VEVENT
DTSTART;TZID=America/Denver:20270329T190000
DTEND;TZID=America/Denver:20270329T220000
DTSTAMP:20260422T082106
CREATED:20250213T160657Z
LAST-MODIFIED:20250213T160657Z
UID:10000374-1806346800-1806357600@kimmyzongreenway.com
SUMMARY:Karaoke
DESCRIPTION:Pick a song\, grab the mic\, and show off your pipes! Join us for the best Karaoke in Glendale every Monday night.
URL:https://kimmyzongreenway.com/event/karaoke/2027-03-29/
LOCATION:Kimmyz on Greenway\, 5930 W Greenway Rd\, Glendale\, AZ\, 85306\, United States
CATEGORIES:Live Music
ATTACH;FMTTYPE=image/jpeg:https://kimmyzongreenway.com/wp-content/uploads/2025/02/microphone-4547633_1920.jpg
END:VEVENT
BEGIN:VEVENT
DTSTART;TZID=America/Denver:20270330T110000
DTEND;TZID=America/Denver:20270330T210000
DTSTAMP:20260422T082106
CREATED:20250213T172529Z
LAST-MODIFIED:20250213T213516Z
UID:10002990-1806404400-1806440400@kimmyzongreenway.com
SUMMARY:Taco Tuesday
DESCRIPTION:Three tacos (your choice of ground beef\, steak\, fish\, or chicken) served with fresh chips and salsa.  \n 
URL:https://kimmyzongreenway.com/event/taco-tuesday/2027-03-30/
LOCATION:Kimmyz on Greenway\, 5930 W Greenway Rd\, Glendale\, AZ\, 85306\, United States
CATEGORIES:Food Specials
ATTACH;FMTTYPE=image/jpeg:https://kimmyzongreenway.com/wp-content/uploads/2025/02/chantel-E2n6-GuBGYo-unsplash-scaled.jpg
END:VEVENT
BEGIN:VEVENT
DTSTART;TZID=America/Denver:20270330T190000
DTEND;TZID=America/Denver:20270330T220000
DTSTAMP:20260422T082106
CREATED:20250213T160301Z
LAST-MODIFIED:20250213T160301Z
UID:10000112-1806433200-1806444000@kimmyzongreenway.com
SUMMARY:Open Mic
DESCRIPTION:It’s your turn to take the stage! Bring your instrument(s) and showcase what you got every Tuesday at the home of the best live music in Glendale\, AZ.
URL:https://kimmyzongreenway.com/event/open-mic/2027-03-30/
LOCATION:Kimmyz on Greenway\, 5930 W Greenway Rd\, Glendale\, AZ\, 85306\, United States
CATEGORIES:Live Music
ATTACH;FMTTYPE=image/jpeg:https://kimmyzongreenway.com/wp-content/uploads/2025/02/audio-2941753_1920.jpg
END:VEVENT
BEGIN:VEVENT
DTSTART;TZID=America/Denver:20270331T110000
DTEND;TZID=America/Denver:20270331T210000
DTSTAMP:20260422T082106
CREATED:20250213T172729Z
LAST-MODIFIED:20250213T213423Z
UID:10002728-1806490800-1806526800@kimmyzongreenway.com
SUMMARY:Burger & Beer Wednesday
DESCRIPTION:Our classic juicy burger served with French Fries and a pint of domestic beer or soda. 
URL:https://kimmyzongreenway.com/event/burger-beer-wednesday/2027-03-31/
LOCATION:Kimmyz on Greenway\, 5930 W Greenway Rd\, Glendale\, AZ\, 85306\, United States
CATEGORIES:Food Specials
ATTACH;FMTTYPE=image/jpeg:https://kimmyzongreenway.com/wp-content/uploads/2025/02/3.jpg
END:VEVENT
BEGIN:VEVENT
DTSTART;VALUE=DATE:20270401
DTEND;VALUE=DATE:20270403
DTSTAMP:20260422T082106
CREATED:20250225T234027Z
LAST-MODIFIED:20250225T234027Z
UID:10003783-1806541200-1806627599@kimmyzongreenway.com
SUMMARY:Bike Night
DESCRIPTION:We are your premiere biker friendly bar! Join us for biker specials\, live music & events every Thursday. (Sponsored by Arrowhead Harley-Davidson)
URL:https://kimmyzongreenway.com/event/bike-night/2027-04-01/
LOCATION:Kimmyz on Greenway\, 5930 W Greenway Rd\, Glendale\, AZ\, 85306\, United States
CATEGORIES:Live Music,Special Events
ATTACH;FMTTYPE=image/jpeg:https://kimmyzongreenway.com/wp-content/uploads/2025/02/motorcycle-7539871_1280.jpg
END:VEVENT
BEGIN:VEVENT
DTSTART;TZID=America/Denver:20270401T110000
DTEND;TZID=America/Denver:20270401T210000
DTSTAMP:20260422T082106
CREATED:20250213T173133Z
LAST-MODIFIED:20250213T213309Z
UID:10002207-1806577200-1806613200@kimmyzongreenway.com
SUMMARY:Philly Thursday
DESCRIPTION:Philly cheese steak sandwich served with French Fries and a pint of domestic beer or soda.  \n 
URL:https://kimmyzongreenway.com/event/philly-thursday/2027-04-01/
LOCATION:Kimmyz on Greenway\, 5930 W Greenway Rd\, Glendale\, AZ\, 85306\, United States
CATEGORIES:Food Specials
ATTACH;FMTTYPE=image/jpeg:https://kimmyzongreenway.com/wp-content/uploads/2025/02/snappr-IKsF2Nfh9NY-unsplash-scaled.jpg
END:VEVENT
BEGIN:VEVENT
DTSTART;TZID=America/Denver:20270402T110000
DTEND;TZID=America/Denver:20270402T220000
DTSTAMP:20260422T082106
CREATED:20250213T173428Z
LAST-MODIFIED:20250213T213339Z
UID:10002467-1806663600-1806703200@kimmyzongreenway.com
SUMMARY:Fish Fry Friday
DESCRIPTION:Fish Fry Friday:\n \n   All you can eat fish fry – $18.99 \n   Fish Fry Basket – $14.99 \n   Fish & Shrimp Basket – $16.99 \n 
URL:https://kimmyzongreenway.com/event/fish-fry-friday/2027-04-02/
LOCATION:Kimmyz on Greenway\, 5930 W Greenway Rd\, Glendale\, AZ\, 85306\, United States
CATEGORIES:Food Specials
ATTACH;FMTTYPE=image/jpeg:https://kimmyzongreenway.com/wp-content/uploads/2025/02/davey-gravy-YpQGo0QTshE-unsplash-scaled.jpg
END:VEVENT
BEGIN:VEVENT
DTSTART;TZID=America/Denver:20270403T110000
DTEND;TZID=America/Denver:20270403T220000
DTSTAMP:20260422T082106
CREATED:20250213T175029Z
LAST-MODIFIED:20250213T213141Z
UID:10001946-1806750000-1806789600@kimmyzongreenway.com
SUMMARY:Reuben Sandwich Saturday
DESCRIPTION:Reuben sandwich served with French Fries.  \n 
URL:https://kimmyzongreenway.com/event/reuben-sandwich-saturday/2027-04-03/
LOCATION:Kimmyz on Greenway\, 5930 W Greenway Rd\, Glendale\, AZ\, 85306\, United States
CATEGORIES:Food Specials
ATTACH;FMTTYPE=image/png:https://kimmyzongreenway.com/wp-content/uploads/2025/02/Screenshot-2025-02-13-at-10.13.40 AM.png
END:VEVENT
BEGIN:VEVENT
DTSTART;TZID=America/Denver:20270404T110000
DTEND;TZID=America/Denver:20270404T210000
DTSTAMP:20260422T082106
CREATED:20250213T171734Z
LAST-MODIFIED:20250213T213655Z
UID:10003515-1806836400-1806872400@kimmyzongreenway.com
SUMMARY:French Dip Sunday
DESCRIPTION:French Dip sandwich served with French Fries
URL:https://kimmyzongreenway.com/event/french-dip-sunday/2027-04-04/
LOCATION:Kimmyz on Greenway\, 5930 W Greenway Rd\, Glendale\, AZ\, 85306\, United States
CATEGORIES:Food Specials
ATTACH;FMTTYPE=image/png:https://kimmyzongreenway.com/wp-content/uploads/2025/02/Screenshot-2025-02-13-at-10.14.27 AM.png
END:VEVENT
BEGIN:VEVENT
DTSTART;TZID=America/Denver:20270405T110000
DTEND;TZID=America/Denver:20270405T210000
DTSTAMP:20260422T082106
CREATED:20250808T205703Z
LAST-MODIFIED:20250808T205704Z
UID:10004243-1806922800-1806958800@kimmyzongreenway.com
SUMMARY:Meatloaf Monday
DESCRIPTION:Homemade meatloaf served with mashed potatoes\, gravy\, corn & a dinner roll.
URL:https://kimmyzongreenway.com/event/meatloaf-monday-2/2027-04-05/
LOCATION:Kimmyz on Greenway\, 5930 W Greenway Rd\, Glendale\, AZ\, 85306\, United States
CATEGORIES:Food Specials
ATTACH;FMTTYPE=image/png:https://kimmyzongreenway.com/wp-content/uploads/2025/02/Screenshot-2025-02-13-at-10.20.59 AM.png
END:VEVENT
BEGIN:VEVENT
DTSTART;TZID=America/Denver:20270405T190000
DTEND;TZID=America/Denver:20270405T220000
DTSTAMP:20260422T082106
CREATED:20250213T160657Z
LAST-MODIFIED:20250213T160657Z
UID:10000375-1806951600-1806962400@kimmyzongreenway.com
SUMMARY:Karaoke
DESCRIPTION:Pick a song\, grab the mic\, and show off your pipes! Join us for the best Karaoke in Glendale every Monday night.
URL:https://kimmyzongreenway.com/event/karaoke/2027-04-05/
LOCATION:Kimmyz on Greenway\, 5930 W Greenway Rd\, Glendale\, AZ\, 85306\, United States
CATEGORIES:Live Music
ATTACH;FMTTYPE=image/jpeg:https://kimmyzongreenway.com/wp-content/uploads/2025/02/microphone-4547633_1920.jpg
END:VEVENT
BEGIN:VEVENT
DTSTART;TZID=America/Denver:20270406T110000
DTEND;TZID=America/Denver:20270406T210000
DTSTAMP:20260422T082106
CREATED:20250213T172529Z
LAST-MODIFIED:20250213T213516Z
UID:10002991-1807009200-1807045200@kimmyzongreenway.com
SUMMARY:Taco Tuesday
DESCRIPTION:Three tacos (your choice of ground beef\, steak\, fish\, or chicken) served with fresh chips and salsa.  \n 
URL:https://kimmyzongreenway.com/event/taco-tuesday/2027-04-06/
LOCATION:Kimmyz on Greenway\, 5930 W Greenway Rd\, Glendale\, AZ\, 85306\, United States
CATEGORIES:Food Specials
ATTACH;FMTTYPE=image/jpeg:https://kimmyzongreenway.com/wp-content/uploads/2025/02/chantel-E2n6-GuBGYo-unsplash-scaled.jpg
END:VEVENT
BEGIN:VEVENT
DTSTART;TZID=America/Denver:20270406T190000
DTEND;TZID=America/Denver:20270406T220000
DTSTAMP:20260422T082106
CREATED:20250213T160301Z
LAST-MODIFIED:20250213T160301Z
UID:10000113-1807038000-1807048800@kimmyzongreenway.com
SUMMARY:Open Mic
DESCRIPTION:It’s your turn to take the stage! Bring your instrument(s) and showcase what you got every Tuesday at the home of the best live music in Glendale\, AZ.
URL:https://kimmyzongreenway.com/event/open-mic/2027-04-06/
LOCATION:Kimmyz on Greenway\, 5930 W Greenway Rd\, Glendale\, AZ\, 85306\, United States
CATEGORIES:Live Music
ATTACH;FMTTYPE=image/jpeg:https://kimmyzongreenway.com/wp-content/uploads/2025/02/audio-2941753_1920.jpg
END:VEVENT
END:VCALENDAR