BEGIN:VCALENDAR
VERSION:2.0
PRODID:-//Kimmyz on Greenway - ECPv6.15.20//NONSGML v1.0//EN
CALSCALE:GREGORIAN
METHOD:PUBLISH
X-WR-CALNAME:Kimmyz on Greenway
X-ORIGINAL-URL:https://kimmyzongreenway.com
X-WR-CALDESC:Events for Kimmyz on Greenway
REFRESH-INTERVAL;VALUE=DURATION:PT1H
X-Robots-Tag:noindex
X-PUBLISHED-TTL:PT1H
BEGIN:VTIMEZONE
TZID:America/Phoenix
BEGIN:STANDARD
TZOFFSETFROM:-0700
TZOFFSETTO:-0700
TZNAME:MST
DTSTART:20240101T000000
END:STANDARD
END:VTIMEZONE
BEGIN:VTIMEZONE
TZID:America/Denver
BEGIN:DAYLIGHT
TZOFFSETFROM:-0700
TZOFFSETTO:-0600
TZNAME:MDT
DTSTART:20240310T090000
END:DAYLIGHT
BEGIN:STANDARD
TZOFFSETFROM:-0600
TZOFFSETTO:-0700
TZNAME:MST
DTSTART:20241103T080000
END:STANDARD
BEGIN:DAYLIGHT
TZOFFSETFROM:-0700
TZOFFSETTO:-0600
TZNAME:MDT
DTSTART:20250309T090000
END:DAYLIGHT
BEGIN:STANDARD
TZOFFSETFROM:-0600
TZOFFSETTO:-0700
TZNAME:MST
DTSTART:20251102T080000
END:STANDARD
BEGIN:DAYLIGHT
TZOFFSETFROM:-0700
TZOFFSETTO:-0600
TZNAME:MDT
DTSTART:20260308T090000
END:DAYLIGHT
BEGIN:STANDARD
TZOFFSETFROM:-0600
TZOFFSETTO:-0700
TZNAME:MST
DTSTART:20261101T080000
END:STANDARD
END:VTIMEZONE
BEGIN:VEVENT
DTSTART;VALUE=DATE:20250313
DTEND;VALUE=DATE:20250315
DTSTAMP:20260423T090138
CREATED:20250225T234027Z
LAST-MODIFIED:20250225T234027Z
UID:10003676-1741827600-1741913999@kimmyzongreenway.com
SUMMARY:Bike Night
DESCRIPTION:We are your premiere biker friendly bar! Join us for biker specials\, live music & events every Thursday. (Sponsored by Arrowhead Harley-Davidson)
URL:https://kimmyzongreenway.com/event/bike-night/2025-03-13/
LOCATION:Kimmyz on Greenway\, 5930 W Greenway Rd\, Glendale\, AZ\, 85306\, United States
CATEGORIES:Live Music,Special Events
ATTACH;FMTTYPE=image/jpeg:https://kimmyzongreenway.com/wp-content/uploads/2025/02/motorcycle-7539871_1280.jpg
END:VEVENT
BEGIN:VEVENT
DTSTART;TZID=America/Phoenix:20250312T190000
DTEND;TZID=America/Phoenix:20250312T220000
DTSTAMP:20260423T090138
CREATED:20250226T002752Z
LAST-MODIFIED:20260204T010006Z
UID:10004007-1741806000-1741816800@kimmyzongreenway.com
SUMMARY:Dakoda Crockett
DESCRIPTION:Join us for the best live music in Glendale as Dakoda Crockett takes the stage.  \n 
URL:https://kimmyzongreenway.com/event/dakodacrockett/2025-03-12/
LOCATION:Kimmyz on Greenway\, 5930 W Greenway Rd\, Glendale\, AZ\, 85306\, United States
CATEGORIES:Live Music
ATTACH;FMTTYPE=image/jpeg:https://kimmyzongreenway.com/wp-content/uploads/2025/02/434397398_1353184725491292_9097487212861392261_n.jpg
END:VEVENT
BEGIN:VEVENT
DTSTART;TZID=America/Denver:20250312T110000
DTEND;TZID=America/Denver:20250312T210000
DTSTAMP:20260423T090138
CREATED:20250213T172729Z
LAST-MODIFIED:20250213T213423Z
UID:10002621-1741777200-1741813200@kimmyzongreenway.com
SUMMARY:Burger & Beer Wednesday
DESCRIPTION:Our classic juicy burger served with French Fries and a pint of domestic beer or soda. 
URL:https://kimmyzongreenway.com/event/burger-beer-wednesday/2025-03-12/
LOCATION:Kimmyz on Greenway\, 5930 W Greenway Rd\, Glendale\, AZ\, 85306\, United States
CATEGORIES:Food Specials
ATTACH;FMTTYPE=image/jpeg:https://kimmyzongreenway.com/wp-content/uploads/2025/02/3.jpg
END:VEVENT
BEGIN:VEVENT
DTSTART;TZID=America/Denver:20250311T190000
DTEND;TZID=America/Denver:20250311T220000
DTSTAMP:20260423T090138
CREATED:20250213T160301Z
LAST-MODIFIED:20250213T160301Z
UID:10000005-1741719600-1741730400@kimmyzongreenway.com
SUMMARY:Open Mic
DESCRIPTION:It’s your turn to take the stage! Bring your instrument(s) and showcase what you got every Tuesday at the home of the best live music in Glendale\, AZ.
URL:https://kimmyzongreenway.com/event/open-mic/2025-03-11/
LOCATION:Kimmyz on Greenway\, 5930 W Greenway Rd\, Glendale\, AZ\, 85306\, United States
CATEGORIES:Live Music
ATTACH;FMTTYPE=image/jpeg:https://kimmyzongreenway.com/wp-content/uploads/2025/02/audio-2941753_1920.jpg
END:VEVENT
BEGIN:VEVENT
DTSTART;TZID=America/Denver:20250311T110000
DTEND;TZID=America/Denver:20250311T210000
DTSTAMP:20260423T090138
CREATED:20250213T172529Z
LAST-MODIFIED:20250213T213516Z
UID:10002883-1741690800-1741726800@kimmyzongreenway.com
SUMMARY:Taco Tuesday
DESCRIPTION:Three tacos (your choice of ground beef\, steak\, fish\, or chicken) served with fresh chips and salsa.  \n 
URL:https://kimmyzongreenway.com/event/taco-tuesday/2025-03-11/
LOCATION:Kimmyz on Greenway\, 5930 W Greenway Rd\, Glendale\, AZ\, 85306\, United States
CATEGORIES:Food Specials
ATTACH;FMTTYPE=image/jpeg:https://kimmyzongreenway.com/wp-content/uploads/2025/02/chantel-E2n6-GuBGYo-unsplash-scaled.jpg
END:VEVENT
BEGIN:VEVENT
DTSTART;TZID=America/Denver:20250310T190000
DTEND;TZID=America/Denver:20250310T220000
DTSTAMP:20260423T090138
CREATED:20250213T160657Z
LAST-MODIFIED:20250213T160657Z
UID:10000267-1741633200-1741644000@kimmyzongreenway.com
SUMMARY:Karaoke
DESCRIPTION:Pick a song\, grab the mic\, and show off your pipes! Join us for the best Karaoke in Glendale every Monday night.
URL:https://kimmyzongreenway.com/event/karaoke/2025-03-10/
LOCATION:Kimmyz on Greenway\, 5930 W Greenway Rd\, Glendale\, AZ\, 85306\, United States
CATEGORIES:Live Music
ATTACH;FMTTYPE=image/jpeg:https://kimmyzongreenway.com/wp-content/uploads/2025/02/microphone-4547633_1920.jpg
END:VEVENT
BEGIN:VEVENT
DTSTART;TZID=America/Phoenix:20250309T150000
DTEND;TZID=America/Phoenix:20250309T180000
DTSTAMP:20260423T090138
CREATED:20250226T002256Z
LAST-MODIFIED:20260327T011107Z
UID:10004005-1741532400-1741543200@kimmyzongreenway.com
SUMMARY:Chuck & Michael
DESCRIPTION:Join us for the best live music in Glendale as Chuck & Michael take the stage.  \n 
URL:https://kimmyzongreenway.com/event/chuck-michael/2025-03-09/
LOCATION:Kimmyz on Greenway\, 5930 W Greenway Rd\, Glendale\, AZ\, 85306\, United States
CATEGORIES:Live Music
ATTACH;FMTTYPE=image/jpeg:https://kimmyzongreenway.com/wp-content/uploads/2025/02/2874678976889988305.jpg
END:VEVENT
BEGIN:VEVENT
DTSTART;TZID=America/Denver:20250309T110000
DTEND;TZID=America/Denver:20250309T210000
DTSTAMP:20260423T090138
CREATED:20250213T172225Z
LAST-MODIFIED:20250213T213552Z
UID:10003145-1741518000-1741554000@kimmyzongreenway.com
SUMMARY:Meatloaf Monday
DESCRIPTION:Homemade meatloaf served with mashed potatoes\, gravy\, corn & a dinner roll.
URL:https://kimmyzongreenway.com/event/meatloaf-monday/2025-03-09/
LOCATION:Kimmyz on Greenway\, 5930 W Greenway Rd\, Glendale\, AZ\, 85306\, United States
CATEGORIES:Food Specials
ATTACH;FMTTYPE=image/png:https://kimmyzongreenway.com/wp-content/uploads/2025/02/Screenshot-2025-02-13-at-10.20.59 AM.png
END:VEVENT
BEGIN:VEVENT
DTSTART;TZID=America/Denver:20250309T110000
DTEND;TZID=America/Denver:20250309T210000
DTSTAMP:20260423T090138
CREATED:20250213T171734Z
LAST-MODIFIED:20250213T213655Z
UID:10003407-1741518000-1741554000@kimmyzongreenway.com
SUMMARY:French Dip Sunday
DESCRIPTION:French Dip sandwich served with French Fries
URL:https://kimmyzongreenway.com/event/french-dip-sunday/2025-03-09/
LOCATION:Kimmyz on Greenway\, 5930 W Greenway Rd\, Glendale\, AZ\, 85306\, United States
CATEGORIES:Food Specials
ATTACH;FMTTYPE=image/png:https://kimmyzongreenway.com/wp-content/uploads/2025/02/Screenshot-2025-02-13-at-10.14.27 AM.png
END:VEVENT
BEGIN:VEVENT
DTSTART;TZID=America/Phoenix:20250308T200000
DTEND;TZID=America/Phoenix:20250309T000000
DTSTAMP:20260423T090138
CREATED:20250226T001612Z
LAST-MODIFIED:20250226T001612Z
UID:10004004-1741464000-1741478400@kimmyzongreenway.com
SUMMARY:Doubleshot
DESCRIPTION:Join us for the best live music in Glendale as Doubleshot takes the stage.
URL:https://kimmyzongreenway.com/event/doubleshot/
LOCATION:Kimmyz on Greenway\, 5930 W Greenway Rd\, Glendale\, AZ\, 85306\, United States
CATEGORIES:Live Music
ATTACH;FMTTYPE=image/png:https://kimmyzongreenway.com/wp-content/uploads/2025/02/Screenshot-2025-02-25-at-5.15.33 PM.png
END:VEVENT
BEGIN:VEVENT
DTSTART;TZID=America/Denver:20250308T110000
DTEND;TZID=America/Denver:20250308T220000
DTSTAMP:20260423T090138
CREATED:20250213T175029Z
LAST-MODIFIED:20250213T213141Z
UID:10001838-1741431600-1741471200@kimmyzongreenway.com
SUMMARY:Reuben Sandwich Saturday
DESCRIPTION:Reuben sandwich served with French Fries.  \n 
URL:https://kimmyzongreenway.com/event/reuben-sandwich-saturday/2025-03-08/
LOCATION:Kimmyz on Greenway\, 5930 W Greenway Rd\, Glendale\, AZ\, 85306\, United States
CATEGORIES:Food Specials
ATTACH;FMTTYPE=image/png:https://kimmyzongreenway.com/wp-content/uploads/2025/02/Screenshot-2025-02-13-at-10.13.40 AM.png
END:VEVENT
BEGIN:VEVENT
DTSTART;TZID=America/Phoenix:20250307T200000
DTEND;TZID=America/Phoenix:20250308T000000
DTSTAMP:20260423T090138
CREATED:20250226T001119Z
LAST-MODIFIED:20251128T234158Z
UID:10004003-1741377600-1741392000@kimmyzongreenway.com
SUMMARY:Miss Conduct
DESCRIPTION:Join us for the best live music in Glendale as Miss Conduct takes the stage.
URL:https://kimmyzongreenway.com/event/miss-conduct/2025-03-07/
LOCATION:Kimmyz on Greenway\, 5930 W Greenway Rd\, Glendale\, AZ\, 85306\, United States
CATEGORIES:Live Music
ATTACH;FMTTYPE=image/png:https://kimmyzongreenway.com/wp-content/uploads/2025/02/Screenshot-2025-02-25-at-5.09.37 PM.png
END:VEVENT
BEGIN:VEVENT
DTSTART;TZID=America/Denver:20250307T110000
DTEND;TZID=America/Denver:20250307T220000
DTSTAMP:20260423T090138
CREATED:20250213T173428Z
LAST-MODIFIED:20250213T213339Z
UID:10002359-1741345200-1741384800@kimmyzongreenway.com
SUMMARY:Fish Fry Friday
DESCRIPTION:Fish Fry Friday:\n \n   All you can eat fish fry – $18.99 \n   Fish Fry Basket – $14.99 \n   Fish & Shrimp Basket – $16.99 \n 
URL:https://kimmyzongreenway.com/event/fish-fry-friday/2025-03-07/
LOCATION:Kimmyz on Greenway\, 5930 W Greenway Rd\, Glendale\, AZ\, 85306\, United States
CATEGORIES:Food Specials
ATTACH;FMTTYPE=image/jpeg:https://kimmyzongreenway.com/wp-content/uploads/2025/02/davey-gravy-YpQGo0QTshE-unsplash-scaled.jpg
END:VEVENT
BEGIN:VEVENT
DTSTART;TZID=America/Phoenix:20250306T190000
DTEND;TZID=America/Phoenix:20250306T220000
DTSTAMP:20260423T090138
CREATED:20250226T000841Z
LAST-MODIFIED:20250226T000841Z
UID:10004002-1741287600-1741298400@kimmyzongreenway.com
SUMMARY:Gigi & Kristin
DESCRIPTION:Join us for the best live music in Glendale as Gigi & Kristin take the stage.  \n 
URL:https://kimmyzongreenway.com/event/gigi-kristin/
LOCATION:Kimmyz on Greenway\, 5930 W Greenway Rd\, Glendale\, AZ\, 85306\, United States
CATEGORIES:Live Music
ATTACH;FMTTYPE=image/jpeg:https://kimmyzongreenway.com/wp-content/uploads/2025/02/guitar-case-485112_1280.jpg
END:VEVENT
BEGIN:VEVENT
DTSTART;TZID=America/Denver:20250306T110000
DTEND;TZID=America/Denver:20250306T210000
DTSTAMP:20260423T090138
CREATED:20250213T173133Z
LAST-MODIFIED:20250213T213309Z
UID:10002099-1741258800-1741294800@kimmyzongreenway.com
SUMMARY:Philly Thursday
DESCRIPTION:Philly cheese steak sandwich served with French Fries and a pint of domestic beer or soda.  \n 
URL:https://kimmyzongreenway.com/event/philly-thursday/2025-03-06/
LOCATION:Kimmyz on Greenway\, 5930 W Greenway Rd\, Glendale\, AZ\, 85306\, United States
CATEGORIES:Food Specials
ATTACH;FMTTYPE=image/jpeg:https://kimmyzongreenway.com/wp-content/uploads/2025/02/snappr-IKsF2Nfh9NY-unsplash-scaled.jpg
END:VEVENT
BEGIN:VEVENT
DTSTART;VALUE=DATE:20250306
DTEND;VALUE=DATE:20250308
DTSTAMP:20260423T090138
CREATED:20250225T234027Z
LAST-MODIFIED:20250225T234027Z
UID:10003675-1741222800-1741309199@kimmyzongreenway.com
SUMMARY:Bike Night
DESCRIPTION:We are your premiere biker friendly bar! Join us for biker specials\, live music & events every Thursday. (Sponsored by Arrowhead Harley-Davidson)
URL:https://kimmyzongreenway.com/event/bike-night/2025-03-06/
LOCATION:Kimmyz on Greenway\, 5930 W Greenway Rd\, Glendale\, AZ\, 85306\, United States
CATEGORIES:Live Music,Special Events
ATTACH;FMTTYPE=image/jpeg:https://kimmyzongreenway.com/wp-content/uploads/2025/02/motorcycle-7539871_1280.jpg
END:VEVENT
BEGIN:VEVENT
DTSTART;TZID=America/Phoenix:20250305T190000
DTEND;TZID=America/Phoenix:20250305T220000
DTSTAMP:20260423T090138
CREATED:20250225T235200Z
LAST-MODIFIED:20250225T235200Z
UID:10003936-1741201200-1741212000@kimmyzongreenway.com
SUMMARY:Ronnie Winters & Dave Libman
DESCRIPTION:Join us for the best live music in Glendale as Ronnie Winters & David Libman take the stage for a unique duo.  \n 
URL:https://kimmyzongreenway.com/event/ronnie-winters-dave-libman/
LOCATION:Kimmyz on Greenway\, 5930 W Greenway Rd\, Glendale\, AZ\, 85306\, United States
CATEGORIES:Live Music
ATTACH;FMTTYPE=image/png:https://kimmyzongreenway.com/wp-content/uploads/2025/02/Screenshot-2025-02-25-at-4.50.20 PM.png
END:VEVENT
BEGIN:VEVENT
DTSTART;TZID=America/Denver:20250305T110000
DTEND;TZID=America/Denver:20250305T210000
DTSTAMP:20260423T090138
CREATED:20250213T172729Z
LAST-MODIFIED:20250213T213423Z
UID:10002620-1741172400-1741208400@kimmyzongreenway.com
SUMMARY:Burger & Beer Wednesday
DESCRIPTION:Our classic juicy burger served with French Fries and a pint of domestic beer or soda. 
URL:https://kimmyzongreenway.com/event/burger-beer-wednesday/2025-03-05/
LOCATION:Kimmyz on Greenway\, 5930 W Greenway Rd\, Glendale\, AZ\, 85306\, United States
CATEGORIES:Food Specials
ATTACH;FMTTYPE=image/jpeg:https://kimmyzongreenway.com/wp-content/uploads/2025/02/3.jpg
END:VEVENT
BEGIN:VEVENT
DTSTART;TZID=America/Denver:20250304T190000
DTEND;TZID=America/Denver:20250304T220000
DTSTAMP:20260423T090138
CREATED:20250213T160301Z
LAST-MODIFIED:20250213T160301Z
UID:10000004-1741114800-1741125600@kimmyzongreenway.com
SUMMARY:Open Mic
DESCRIPTION:It’s your turn to take the stage! Bring your instrument(s) and showcase what you got every Tuesday at the home of the best live music in Glendale\, AZ.
URL:https://kimmyzongreenway.com/event/open-mic/2025-03-04/
LOCATION:Kimmyz on Greenway\, 5930 W Greenway Rd\, Glendale\, AZ\, 85306\, United States
CATEGORIES:Live Music
ATTACH;FMTTYPE=image/jpeg:https://kimmyzongreenway.com/wp-content/uploads/2025/02/audio-2941753_1920.jpg
END:VEVENT
BEGIN:VEVENT
DTSTART;TZID=America/Denver:20250304T110000
DTEND;TZID=America/Denver:20250304T210000
DTSTAMP:20260423T090138
CREATED:20250213T172529Z
LAST-MODIFIED:20250213T213516Z
UID:10002882-1741086000-1741122000@kimmyzongreenway.com
SUMMARY:Taco Tuesday
DESCRIPTION:Three tacos (your choice of ground beef\, steak\, fish\, or chicken) served with fresh chips and salsa.  \n 
URL:https://kimmyzongreenway.com/event/taco-tuesday/2025-03-04/
LOCATION:Kimmyz on Greenway\, 5930 W Greenway Rd\, Glendale\, AZ\, 85306\, United States
CATEGORIES:Food Specials
ATTACH;FMTTYPE=image/jpeg:https://kimmyzongreenway.com/wp-content/uploads/2025/02/chantel-E2n6-GuBGYo-unsplash-scaled.jpg
END:VEVENT
BEGIN:VEVENT
DTSTART;TZID=America/Denver:20250303T190000
DTEND;TZID=America/Denver:20250303T220000
DTSTAMP:20260423T090138
CREATED:20250213T160657Z
LAST-MODIFIED:20250213T160657Z
UID:10000266-1741028400-1741039200@kimmyzongreenway.com
SUMMARY:Karaoke
DESCRIPTION:Pick a song\, grab the mic\, and show off your pipes! Join us for the best Karaoke in Glendale every Monday night.
URL:https://kimmyzongreenway.com/event/karaoke/2025-03-03/
LOCATION:Kimmyz on Greenway\, 5930 W Greenway Rd\, Glendale\, AZ\, 85306\, United States
CATEGORIES:Live Music
ATTACH;FMTTYPE=image/jpeg:https://kimmyzongreenway.com/wp-content/uploads/2025/02/microphone-4547633_1920.jpg
END:VEVENT
BEGIN:VEVENT
DTSTART;TZID=America/Denver:20250302T110000
DTEND;TZID=America/Denver:20250302T210000
DTSTAMP:20260423T090138
CREATED:20250213T172225Z
LAST-MODIFIED:20250213T213552Z
UID:10003144-1740913200-1740949200@kimmyzongreenway.com
SUMMARY:Meatloaf Monday
DESCRIPTION:Homemade meatloaf served with mashed potatoes\, gravy\, corn & a dinner roll.
URL:https://kimmyzongreenway.com/event/meatloaf-monday/2025-03-02/
LOCATION:Kimmyz on Greenway\, 5930 W Greenway Rd\, Glendale\, AZ\, 85306\, United States
CATEGORIES:Food Specials
ATTACH;FMTTYPE=image/png:https://kimmyzongreenway.com/wp-content/uploads/2025/02/Screenshot-2025-02-13-at-10.20.59 AM.png
END:VEVENT
BEGIN:VEVENT
DTSTART;TZID=America/Denver:20250302T110000
DTEND;TZID=America/Denver:20250302T210000
DTSTAMP:20260423T090138
CREATED:20250213T171734Z
LAST-MODIFIED:20250213T213655Z
UID:10003406-1740913200-1740949200@kimmyzongreenway.com
SUMMARY:French Dip Sunday
DESCRIPTION:French Dip sandwich served with French Fries
URL:https://kimmyzongreenway.com/event/french-dip-sunday/2025-03-02/
LOCATION:Kimmyz on Greenway\, 5930 W Greenway Rd\, Glendale\, AZ\, 85306\, United States
CATEGORIES:Food Specials
ATTACH;FMTTYPE=image/png:https://kimmyzongreenway.com/wp-content/uploads/2025/02/Screenshot-2025-02-13-at-10.14.27 AM.png
END:VEVENT
BEGIN:VEVENT
DTSTART;TZID=America/Phoenix:20250301T200000
DTEND;TZID=America/Phoenix:20250302T000000
DTSTAMP:20260423T090138
CREATED:20250225T234622Z
LAST-MODIFIED:20250601T005133Z
UID:10003935-1740859200-1740873600@kimmyzongreenway.com
SUMMARY:Menace Mary
DESCRIPTION:Join us for the best live music in Glendale as Band of Fools takes the stage followed by the Menace Mary.  \n 
URL:https://kimmyzongreenway.com/event/menace-mary-band-of-fools/2025-03-01/
LOCATION:Kimmyz on Greenway\, 5930 W Greenway Rd\, Glendale\, AZ\, 85306\, United States
CATEGORIES:Live Music
ATTACH;FMTTYPE=image/jpeg:https://kimmyzongreenway.com/wp-content/uploads/2025/02/461187052_122167905374176455_6142555566053957499_n.jpg
END:VEVENT
BEGIN:VEVENT
DTSTART;TZID=America/Denver:20250301T110000
DTEND;TZID=America/Denver:20250301T220000
DTSTAMP:20260423T090138
CREATED:20250213T175029Z
LAST-MODIFIED:20250213T213141Z
UID:10001837-1740826800-1740866400@kimmyzongreenway.com
SUMMARY:Reuben Sandwich Saturday
DESCRIPTION:Reuben sandwich served with French Fries.  \n 
URL:https://kimmyzongreenway.com/event/reuben-sandwich-saturday/2025-03-01/
LOCATION:Kimmyz on Greenway\, 5930 W Greenway Rd\, Glendale\, AZ\, 85306\, United States
CATEGORIES:Food Specials
ATTACH;FMTTYPE=image/png:https://kimmyzongreenway.com/wp-content/uploads/2025/02/Screenshot-2025-02-13-at-10.13.40 AM.png
END:VEVENT
BEGIN:VEVENT
DTSTART;TZID=America/Phoenix:20250228T200000
DTEND;TZID=America/Phoenix:20250301T000000
DTSTAMP:20260423T090138
CREATED:20250215T005319Z
LAST-MODIFIED:20250215T005319Z
UID:10003671-1740772800-1740787200@kimmyzongreenway.com
SUMMARY:AZ/DZ (the ultimate AC/DC experience)
DESCRIPTION:Join us for the best live music in Glendale as AZ/DZ takes the stage. AZ/DZ has been Billed as one of The World’s Top Tributes to the greatest Rock and Roll Band of all time.
URL:https://kimmyzongreenway.com/event/az-dz/
LOCATION:Kimmyz on Greenway\, 5930 W Greenway Rd\, Glendale\, AZ\, 85306\, United States
CATEGORIES:Live Music
ATTACH;FMTTYPE=image/jpeg:https://kimmyzongreenway.com/wp-content/uploads/2025/02/475440431_1410978836983221_7101364931915546693_n.jpg
END:VEVENT
BEGIN:VEVENT
DTSTART;TZID=America/Denver:20250228T110000
DTEND;TZID=America/Denver:20250228T220000
DTSTAMP:20260423T090138
CREATED:20250213T173428Z
LAST-MODIFIED:20250213T213339Z
UID:10002358-1740740400-1740780000@kimmyzongreenway.com
SUMMARY:Fish Fry Friday
DESCRIPTION:Fish Fry Friday:\n \n   All you can eat fish fry – $18.99 \n   Fish Fry Basket – $14.99 \n   Fish & Shrimp Basket – $16.99 \n 
URL:https://kimmyzongreenway.com/event/fish-fry-friday/2025-02-28/
LOCATION:Kimmyz on Greenway\, 5930 W Greenway Rd\, Glendale\, AZ\, 85306\, United States
CATEGORIES:Food Specials
ATTACH;FMTTYPE=image/jpeg:https://kimmyzongreenway.com/wp-content/uploads/2025/02/davey-gravy-YpQGo0QTshE-unsplash-scaled.jpg
END:VEVENT
BEGIN:VEVENT
DTSTART;TZID=America/Phoenix:20250227T190000
DTEND;TZID=America/Phoenix:20250227T220000
DTSTAMP:20260423T090138
CREATED:20250225T235515Z
LAST-MODIFIED:20250225T235515Z
UID:10003937-1740682800-1740693600@kimmyzongreenway.com
SUMMARY:Velvet Crush Duo
DESCRIPTION:Join us for the best live music in Glendale as the Velvet Crush Duo takes the stage.  \n 
URL:https://kimmyzongreenway.com/event/velvet-crush-duo/2025-02-27/
LOCATION:Kimmyz on Greenway\, 5930 W Greenway Rd\, Glendale\, AZ\, 85306\, United States
CATEGORIES:Live Music
ATTACH;FMTTYPE=image/png:https://kimmyzongreenway.com/wp-content/uploads/2025/02/Screenshot-2025-02-25-at-4.53.06 PM.png
END:VEVENT
BEGIN:VEVENT
DTSTART;TZID=America/Denver:20250227T110000
DTEND;TZID=America/Denver:20250227T210000
DTSTAMP:20260423T090138
CREATED:20250213T173133Z
LAST-MODIFIED:20250213T213309Z
UID:10002098-1740654000-1740690000@kimmyzongreenway.com
SUMMARY:Philly Thursday
DESCRIPTION:Philly cheese steak sandwich served with French Fries and a pint of domestic beer or soda.  \n 
URL:https://kimmyzongreenway.com/event/philly-thursday/2025-02-27/
LOCATION:Kimmyz on Greenway\, 5930 W Greenway Rd\, Glendale\, AZ\, 85306\, United States
CATEGORIES:Food Specials
ATTACH;FMTTYPE=image/jpeg:https://kimmyzongreenway.com/wp-content/uploads/2025/02/snappr-IKsF2Nfh9NY-unsplash-scaled.jpg
END:VEVENT
BEGIN:VEVENT
DTSTART;VALUE=DATE:20250227
DTEND;VALUE=DATE:20250301
DTSTAMP:20260423T090138
CREATED:20250225T234027Z
LAST-MODIFIED:20250225T234027Z
UID:10003674-1740618000-1740704399@kimmyzongreenway.com
SUMMARY:Bike Night
DESCRIPTION:We are your premiere biker friendly bar! Join us for biker specials\, live music & events every Thursday. (Sponsored by Arrowhead Harley-Davidson)
URL:https://kimmyzongreenway.com/event/bike-night/2025-02-27/
LOCATION:Kimmyz on Greenway\, 5930 W Greenway Rd\, Glendale\, AZ\, 85306\, United States
CATEGORIES:Live Music,Special Events
ATTACH;FMTTYPE=image/jpeg:https://kimmyzongreenway.com/wp-content/uploads/2025/02/motorcycle-7539871_1280.jpg
END:VEVENT
END:VCALENDAR