BEGIN:VCALENDAR
VERSION:2.0
PRODID:-//Kimmyz on Greenway - ECPv6.15.20//NONSGML v1.0//EN
CALSCALE:GREGORIAN
METHOD:PUBLISH
X-WR-CALNAME:Kimmyz on Greenway
X-ORIGINAL-URL:https://kimmyzongreenway.com
X-WR-CALDESC:Events for Kimmyz on Greenway
REFRESH-INTERVAL;VALUE=DURATION:PT1H
X-Robots-Tag:noindex
X-PUBLISHED-TTL:PT1H
BEGIN:VTIMEZONE
TZID:America/Denver
BEGIN:DAYLIGHT
TZOFFSETFROM:-0700
TZOFFSETTO:-0600
TZNAME:MDT
DTSTART:20240310T090000
END:DAYLIGHT
BEGIN:STANDARD
TZOFFSETFROM:-0600
TZOFFSETTO:-0700
TZNAME:MST
DTSTART:20241103T080000
END:STANDARD
BEGIN:DAYLIGHT
TZOFFSETFROM:-0700
TZOFFSETTO:-0600
TZNAME:MDT
DTSTART:20250309T090000
END:DAYLIGHT
BEGIN:STANDARD
TZOFFSETFROM:-0600
TZOFFSETTO:-0700
TZNAME:MST
DTSTART:20251102T080000
END:STANDARD
BEGIN:DAYLIGHT
TZOFFSETFROM:-0700
TZOFFSETTO:-0600
TZNAME:MDT
DTSTART:20260308T090000
END:DAYLIGHT
BEGIN:STANDARD
TZOFFSETFROM:-0600
TZOFFSETTO:-0700
TZNAME:MST
DTSTART:20261101T080000
END:STANDARD
END:VTIMEZONE
BEGIN:VTIMEZONE
TZID:America/Phoenix
BEGIN:STANDARD
TZOFFSETFROM:-0700
TZOFFSETTO:-0700
TZNAME:MST
DTSTART:20240101T000000
END:STANDARD
END:VTIMEZONE
BEGIN:VEVENT
DTSTART;TZID=America/Denver:20250727T110000
DTEND;TZID=America/Denver:20250727T210000
DTSTAMP:20260419T224518
CREATED:20250213T172225Z
LAST-MODIFIED:20250213T213552Z
UID:10003165-1753614000-1753650000@kimmyzongreenway.com
SUMMARY:Meatloaf Monday
DESCRIPTION:Homemade meatloaf served with mashed potatoes\, gravy\, corn & a dinner roll.
URL:https://kimmyzongreenway.com/event/meatloaf-monday/2025-07-27/
LOCATION:Kimmyz on Greenway\, 5930 W Greenway Rd\, Glendale\, AZ\, 85306\, United States
CATEGORIES:Food Specials
ATTACH;FMTTYPE=image/png:https://kimmyzongreenway.com/wp-content/uploads/2025/02/Screenshot-2025-02-13-at-10.20.59 AM.png
END:VEVENT
BEGIN:VEVENT
DTSTART;TZID=America/Denver:20250727T110000
DTEND;TZID=America/Denver:20250727T210000
DTSTAMP:20260419T224518
CREATED:20250213T171734Z
LAST-MODIFIED:20250213T213655Z
UID:10003427-1753614000-1753650000@kimmyzongreenway.com
SUMMARY:French Dip Sunday
DESCRIPTION:French Dip sandwich served with French Fries
URL:https://kimmyzongreenway.com/event/french-dip-sunday/2025-07-27/
LOCATION:Kimmyz on Greenway\, 5930 W Greenway Rd\, Glendale\, AZ\, 85306\, United States
CATEGORIES:Food Specials
ATTACH;FMTTYPE=image/png:https://kimmyzongreenway.com/wp-content/uploads/2025/02/Screenshot-2025-02-13-at-10.14.27 AM.png
END:VEVENT
BEGIN:VEVENT
DTSTART;TZID=America/Phoenix:20250726T200000
DTEND;TZID=America/Phoenix:20250727T000000
DTSTAMP:20260419T224518
CREATED:20250215T002907Z
LAST-MODIFIED:20260206T044909Z
UID:10004141-1753560000-1753574400@kimmyzongreenway.com
SUMMARY:Salt River Steel
DESCRIPTION:Join us for the best live music in Glendale as Salt River Steel takes the stage.  \n 
URL:https://kimmyzongreenway.com/event/salt-river-steel/2025-07-26/
LOCATION:Kimmyz on Greenway\, 5930 W Greenway Rd\, Glendale\, AZ\, 85306\, United States
CATEGORIES:Live Music
ATTACH;FMTTYPE=image/png:https://kimmyzongreenway.com/wp-content/uploads/2025/02/Screenshot-2025-02-14-at-4.49.40 PM.png
END:VEVENT
BEGIN:VEVENT
DTSTART;TZID=America/Denver:20250726T110000
DTEND;TZID=America/Denver:20250726T220000
DTSTAMP:20260419T224518
CREATED:20250213T175029Z
LAST-MODIFIED:20250213T213141Z
UID:10001858-1753527600-1753567200@kimmyzongreenway.com
SUMMARY:Reuben Sandwich Saturday
DESCRIPTION:Reuben sandwich served with French Fries.  \n 
URL:https://kimmyzongreenway.com/event/reuben-sandwich-saturday/2025-07-26/
LOCATION:Kimmyz on Greenway\, 5930 W Greenway Rd\, Glendale\, AZ\, 85306\, United States
CATEGORIES:Food Specials
ATTACH;FMTTYPE=image/png:https://kimmyzongreenway.com/wp-content/uploads/2025/02/Screenshot-2025-02-13-at-10.13.40 AM.png
END:VEVENT
BEGIN:VEVENT
DTSTART;TZID=America/Phoenix:20250725T200000
DTEND;TZID=America/Phoenix:20250726T000000
DTSTAMP:20260419T224518
CREATED:20250226T004305Z
LAST-MODIFIED:20260102T044613Z
UID:10004129-1753473600-1753488000@kimmyzongreenway.com
SUMMARY:On the Rocks
DESCRIPTION:Join us for the best live music in Glendale as On the Rocks takes the stage.  \n 
URL:https://kimmyzongreenway.com/event/on-the-rocks/2025-07-25/
LOCATION:Kimmyz on Greenway\, 5930 W Greenway Rd\, Glendale\, AZ\, 85306\, United States
CATEGORIES:Live Music
ATTACH;FMTTYPE=image/png:https://kimmyzongreenway.com/wp-content/uploads/2025/02/Screenshot-2025-02-25-at-5.40.57 PM.png
END:VEVENT
BEGIN:VEVENT
DTSTART;TZID=America/Denver:20250725T110000
DTEND;TZID=America/Denver:20250725T220000
DTSTAMP:20260419T224518
CREATED:20250213T173428Z
LAST-MODIFIED:20250213T213339Z
UID:10002379-1753441200-1753480800@kimmyzongreenway.com
SUMMARY:Fish Fry Friday
DESCRIPTION:Fish Fry Friday:\n \n   All you can eat fish fry – $18.99 \n   Fish Fry Basket – $14.99 \n   Fish & Shrimp Basket – $16.99 \n 
URL:https://kimmyzongreenway.com/event/fish-fry-friday/2025-07-25/
LOCATION:Kimmyz on Greenway\, 5930 W Greenway Rd\, Glendale\, AZ\, 85306\, United States
CATEGORIES:Food Specials
ATTACH;FMTTYPE=image/jpeg:https://kimmyzongreenway.com/wp-content/uploads/2025/02/davey-gravy-YpQGo0QTshE-unsplash-scaled.jpg
END:VEVENT
BEGIN:VEVENT
DTSTART;TZID=America/Phoenix:20250724T190000
DTEND;TZID=America/Phoenix:20250724T220000
DTSTAMP:20260419T224518
CREATED:20250701T041553Z
LAST-MODIFIED:20260327T010506Z
UID:10004125-1753383600-1753394400@kimmyzongreenway.com
SUMMARY:Live Music (Artist Information Coming Soon)
DESCRIPTION:Check back to see who will take the stage at the home of the best live music in Glendale.
URL:https://kimmyzongreenway.com/event/live-music-artist-information-coming-soon/2025-07-24/
LOCATION:Kimmyz on Greenway\, 5930 W Greenway Rd\, Glendale\, AZ\, 85306\, United States
CATEGORIES:Live Music
ATTACH;FMTTYPE=image/jpeg:https://kimmyzongreenway.com/wp-content/uploads/2025/06/LiveMusicTBD_01-1.jpg
END:VEVENT
BEGIN:VEVENT
DTSTART;TZID=America/Denver:20250724T110000
DTEND;TZID=America/Denver:20250724T210000
DTSTAMP:20260419T224518
CREATED:20250213T173133Z
LAST-MODIFIED:20250213T213309Z
UID:10002119-1753354800-1753390800@kimmyzongreenway.com
SUMMARY:Philly Thursday
DESCRIPTION:Philly cheese steak sandwich served with French Fries and a pint of domestic beer or soda.  \n 
URL:https://kimmyzongreenway.com/event/philly-thursday/2025-07-24/
LOCATION:Kimmyz on Greenway\, 5930 W Greenway Rd\, Glendale\, AZ\, 85306\, United States
CATEGORIES:Food Specials
ATTACH;FMTTYPE=image/jpeg:https://kimmyzongreenway.com/wp-content/uploads/2025/02/snappr-IKsF2Nfh9NY-unsplash-scaled.jpg
END:VEVENT
BEGIN:VEVENT
DTSTART;VALUE=DATE:20250724
DTEND;VALUE=DATE:20250726
DTSTAMP:20260419T224518
CREATED:20250225T234027Z
LAST-MODIFIED:20250225T234027Z
UID:10003695-1753318800-1753405199@kimmyzongreenway.com
SUMMARY:Bike Night
DESCRIPTION:We are your premiere biker friendly bar! Join us for biker specials\, live music & events every Thursday. (Sponsored by Arrowhead Harley-Davidson)
URL:https://kimmyzongreenway.com/event/bike-night/2025-07-24/
LOCATION:Kimmyz on Greenway\, 5930 W Greenway Rd\, Glendale\, AZ\, 85306\, United States
CATEGORIES:Live Music,Special Events
ATTACH;FMTTYPE=image/jpeg:https://kimmyzongreenway.com/wp-content/uploads/2025/02/motorcycle-7539871_1280.jpg
END:VEVENT
BEGIN:VEVENT
DTSTART;TZID=America/Phoenix:20250723T190000
DTEND;TZID=America/Phoenix:20250723T220000
DTSTAMP:20260419T224518
CREATED:20250225T233159Z
LAST-MODIFIED:20260327T010738Z
UID:10004140-1753297200-1753308000@kimmyzongreenway.com
SUMMARY:Bill Gower & Ethan Foxx
DESCRIPTION:Join us for the best live music in Glendale as Bill & Ethan take the stage. Ethan is the lead singer of Tripwire. Come catch this acoustic performance.
URL:https://kimmyzongreenway.com/event/bill-ethan/2025-07-23/
LOCATION:Kimmyz on Greenway\, 5930 W Greenway Rd\, Glendale\, AZ\, 85306\, United States
CATEGORIES:Live Music
ATTACH;FMTTYPE=image/png:https://kimmyzongreenway.com/wp-content/uploads/2025/02/Screenshot-2025-02-25-at-4.01.41 PM.png
END:VEVENT
BEGIN:VEVENT
DTSTART;TZID=America/Denver:20250723T110000
DTEND;TZID=America/Denver:20250723T210000
DTSTAMP:20260419T224518
CREATED:20250213T172729Z
LAST-MODIFIED:20250213T213423Z
UID:10002640-1753268400-1753304400@kimmyzongreenway.com
SUMMARY:Burger & Beer Wednesday
DESCRIPTION:Our classic juicy burger served with French Fries and a pint of domestic beer or soda. 
URL:https://kimmyzongreenway.com/event/burger-beer-wednesday/2025-07-23/
LOCATION:Kimmyz on Greenway\, 5930 W Greenway Rd\, Glendale\, AZ\, 85306\, United States
CATEGORIES:Food Specials
ATTACH;FMTTYPE=image/jpeg:https://kimmyzongreenway.com/wp-content/uploads/2025/02/3.jpg
END:VEVENT
BEGIN:VEVENT
DTSTART;TZID=America/Denver:20250722T190000
DTEND;TZID=America/Denver:20250722T220000
DTSTAMP:20260419T224518
CREATED:20250213T160301Z
LAST-MODIFIED:20250213T160301Z
UID:10000024-1753210800-1753221600@kimmyzongreenway.com
SUMMARY:Open Mic
DESCRIPTION:It’s your turn to take the stage! Bring your instrument(s) and showcase what you got every Tuesday at the home of the best live music in Glendale\, AZ.
URL:https://kimmyzongreenway.com/event/open-mic/2025-07-22/
LOCATION:Kimmyz on Greenway\, 5930 W Greenway Rd\, Glendale\, AZ\, 85306\, United States
CATEGORIES:Live Music
ATTACH;FMTTYPE=image/jpeg:https://kimmyzongreenway.com/wp-content/uploads/2025/02/audio-2941753_1920.jpg
END:VEVENT
BEGIN:VEVENT
DTSTART;TZID=America/Denver:20250722T110000
DTEND;TZID=America/Denver:20250722T210000
DTSTAMP:20260419T224518
CREATED:20250213T172529Z
LAST-MODIFIED:20250213T213516Z
UID:10002902-1753182000-1753218000@kimmyzongreenway.com
SUMMARY:Taco Tuesday
DESCRIPTION:Three tacos (your choice of ground beef\, steak\, fish\, or chicken) served with fresh chips and salsa.  \n 
URL:https://kimmyzongreenway.com/event/taco-tuesday/2025-07-22/
LOCATION:Kimmyz on Greenway\, 5930 W Greenway Rd\, Glendale\, AZ\, 85306\, United States
CATEGORIES:Food Specials
ATTACH;FMTTYPE=image/jpeg:https://kimmyzongreenway.com/wp-content/uploads/2025/02/chantel-E2n6-GuBGYo-unsplash-scaled.jpg
END:VEVENT
BEGIN:VEVENT
DTSTART;TZID=America/Denver:20250721T190000
DTEND;TZID=America/Denver:20250721T220000
DTSTAMP:20260419T224518
CREATED:20250213T160657Z
LAST-MODIFIED:20250213T160657Z
UID:10000286-1753124400-1753135200@kimmyzongreenway.com
SUMMARY:Karaoke
DESCRIPTION:Pick a song\, grab the mic\, and show off your pipes! Join us for the best Karaoke in Glendale every Monday night.
URL:https://kimmyzongreenway.com/event/karaoke/2025-07-21/
LOCATION:Kimmyz on Greenway\, 5930 W Greenway Rd\, Glendale\, AZ\, 85306\, United States
CATEGORIES:Live Music
ATTACH;FMTTYPE=image/jpeg:https://kimmyzongreenway.com/wp-content/uploads/2025/02/microphone-4547633_1920.jpg
END:VEVENT
BEGIN:VEVENT
DTSTART;TZID=America/Denver:20250720T110000
DTEND;TZID=America/Denver:20250720T210000
DTSTAMP:20260419T224518
CREATED:20250213T172225Z
LAST-MODIFIED:20250213T213552Z
UID:10003164-1753009200-1753045200@kimmyzongreenway.com
SUMMARY:Meatloaf Monday
DESCRIPTION:Homemade meatloaf served with mashed potatoes\, gravy\, corn & a dinner roll.
URL:https://kimmyzongreenway.com/event/meatloaf-monday/2025-07-20/
LOCATION:Kimmyz on Greenway\, 5930 W Greenway Rd\, Glendale\, AZ\, 85306\, United States
CATEGORIES:Food Specials
ATTACH;FMTTYPE=image/png:https://kimmyzongreenway.com/wp-content/uploads/2025/02/Screenshot-2025-02-13-at-10.20.59 AM.png
END:VEVENT
BEGIN:VEVENT
DTSTART;TZID=America/Denver:20250720T110000
DTEND;TZID=America/Denver:20250720T210000
DTSTAMP:20260419T224518
CREATED:20250213T171734Z
LAST-MODIFIED:20250213T213655Z
UID:10003426-1753009200-1753045200@kimmyzongreenway.com
SUMMARY:French Dip Sunday
DESCRIPTION:French Dip sandwich served with French Fries
URL:https://kimmyzongreenway.com/event/french-dip-sunday/2025-07-20/
LOCATION:Kimmyz on Greenway\, 5930 W Greenway Rd\, Glendale\, AZ\, 85306\, United States
CATEGORIES:Food Specials
ATTACH;FMTTYPE=image/png:https://kimmyzongreenway.com/wp-content/uploads/2025/02/Screenshot-2025-02-13-at-10.14.27 AM.png
END:VEVENT
BEGIN:VEVENT
DTSTART;TZID=America/Phoenix:20250719T200000
DTEND;TZID=America/Phoenix:20250720T000000
DTSTAMP:20260419T224518
CREATED:20250701T052359Z
LAST-MODIFIED:20250718T001241Z
UID:10004144-1752955200-1752969600@kimmyzongreenway.com
SUMMARY:Liars Who Lie
DESCRIPTION:Join us for the best live music in Glendale as the #BestBandInPhoenix heads a bit west to take the stage. You don’t want to miss them as they play all the songs you want to hear. #LiarsWhoLie
URL:https://kimmyzongreenway.com/event/liars-who-lie/2025-07-19/
LOCATION:Kimmyz on Greenway\, 5930 W Greenway Rd\, Glendale\, AZ\, 85306\, United States
CATEGORIES:Live Music
ATTACH;FMTTYPE=image/jpeg:https://kimmyzongreenway.com/wp-content/uploads/2025/06/LWL-FB-Profile-2025_01.jpg
END:VEVENT
BEGIN:VEVENT
DTSTART;TZID=America/Denver:20250719T110000
DTEND;TZID=America/Denver:20250719T220000
DTSTAMP:20260419T224518
CREATED:20250213T175029Z
LAST-MODIFIED:20250213T213141Z
UID:10001857-1752922800-1752962400@kimmyzongreenway.com
SUMMARY:Reuben Sandwich Saturday
DESCRIPTION:Reuben sandwich served with French Fries.  \n 
URL:https://kimmyzongreenway.com/event/reuben-sandwich-saturday/2025-07-19/
LOCATION:Kimmyz on Greenway\, 5930 W Greenway Rd\, Glendale\, AZ\, 85306\, United States
CATEGORIES:Food Specials
ATTACH;FMTTYPE=image/png:https://kimmyzongreenway.com/wp-content/uploads/2025/02/Screenshot-2025-02-13-at-10.13.40 AM.png
END:VEVENT
BEGIN:VEVENT
DTSTART;TZID=America/Phoenix:20250718T200000
DTEND;TZID=America/Phoenix:20250719T000000
DTSTAMP:20260419T224518
CREATED:20250718T212251Z
LAST-MODIFIED:20260206T043706Z
UID:10004145-1752868800-1752883200@kimmyzongreenway.com
SUMMARY:Hard and Heavy
DESCRIPTION:Join us for the best live music in Glendale as Hard & Heavy takes the stage! They are comprised of elite valley musicians. On Vocals: Ethan Foxx (Imaginal Cells\, Tripwire\, Deeply Purple\, KansAZ); On Lead Guitar: Bent Barker (Sweet FA\, Book of Numbers\, I Don’t Know\, Deeply Purple); On Bass: Dennis Hayes (Iced Earth\, Deeply Purple); On Drums: Karl Unger (Tripwire\, Deeply Purple).
URL:https://kimmyzongreenway.com/event/hard-and-heavy/2025-07-18/
LOCATION:Kimmyz on Greenway\, 5930 W Greenway Rd\, Glendale\, AZ\, 85306\, United States
CATEGORIES:Live Music
ATTACH;FMTTYPE=image/png:https://kimmyzongreenway.com/wp-content/uploads/2025/07/Screenshot-2025-07-18-at-2.20.15 PM.png
END:VEVENT
BEGIN:VEVENT
DTSTART;TZID=America/Denver:20250718T110000
DTEND;TZID=America/Denver:20250718T220000
DTSTAMP:20260419T224518
CREATED:20250213T173428Z
LAST-MODIFIED:20250213T213339Z
UID:10002378-1752836400-1752876000@kimmyzongreenway.com
SUMMARY:Fish Fry Friday
DESCRIPTION:Fish Fry Friday:\n \n   All you can eat fish fry – $18.99 \n   Fish Fry Basket – $14.99 \n   Fish & Shrimp Basket – $16.99 \n 
URL:https://kimmyzongreenway.com/event/fish-fry-friday/2025-07-18/
LOCATION:Kimmyz on Greenway\, 5930 W Greenway Rd\, Glendale\, AZ\, 85306\, United States
CATEGORIES:Food Specials
ATTACH;FMTTYPE=image/jpeg:https://kimmyzongreenway.com/wp-content/uploads/2025/02/davey-gravy-YpQGo0QTshE-unsplash-scaled.jpg
END:VEVENT
BEGIN:VEVENT
DTSTART;TZID=America/Phoenix:20250717T190000
DTEND;TZID=America/Phoenix:20250717T220000
DTSTAMP:20260419T224518
CREATED:20250225T233159Z
LAST-MODIFIED:20260327T010738Z
UID:10004139-1752778800-1752789600@kimmyzongreenway.com
SUMMARY:Bill Gower & Ethan Foxx
DESCRIPTION:Join us for the best live music in Glendale as Bill & Ethan take the stage. Ethan is the lead singer of Tripwire. Come catch this acoustic performance.
URL:https://kimmyzongreenway.com/event/bill-ethan/2025-07-17/
LOCATION:Kimmyz on Greenway\, 5930 W Greenway Rd\, Glendale\, AZ\, 85306\, United States
CATEGORIES:Live Music
ATTACH;FMTTYPE=image/png:https://kimmyzongreenway.com/wp-content/uploads/2025/02/Screenshot-2025-02-25-at-4.01.41 PM.png
END:VEVENT
BEGIN:VEVENT
DTSTART;TZID=America/Denver:20250717T110000
DTEND;TZID=America/Denver:20250717T210000
DTSTAMP:20260419T224518
CREATED:20250213T173133Z
LAST-MODIFIED:20250213T213309Z
UID:10002118-1752750000-1752786000@kimmyzongreenway.com
SUMMARY:Philly Thursday
DESCRIPTION:Philly cheese steak sandwich served with French Fries and a pint of domestic beer or soda.  \n 
URL:https://kimmyzongreenway.com/event/philly-thursday/2025-07-17/
LOCATION:Kimmyz on Greenway\, 5930 W Greenway Rd\, Glendale\, AZ\, 85306\, United States
CATEGORIES:Food Specials
ATTACH;FMTTYPE=image/jpeg:https://kimmyzongreenway.com/wp-content/uploads/2025/02/snappr-IKsF2Nfh9NY-unsplash-scaled.jpg
END:VEVENT
BEGIN:VEVENT
DTSTART;VALUE=DATE:20250717
DTEND;VALUE=DATE:20250719
DTSTAMP:20260419T224518
CREATED:20250225T234027Z
LAST-MODIFIED:20250225T234027Z
UID:10003694-1752714000-1752800399@kimmyzongreenway.com
SUMMARY:Bike Night
DESCRIPTION:We are your premiere biker friendly bar! Join us for biker specials\, live music & events every Thursday. (Sponsored by Arrowhead Harley-Davidson)
URL:https://kimmyzongreenway.com/event/bike-night/2025-07-17/
LOCATION:Kimmyz on Greenway\, 5930 W Greenway Rd\, Glendale\, AZ\, 85306\, United States
CATEGORIES:Live Music,Special Events
ATTACH;FMTTYPE=image/jpeg:https://kimmyzongreenway.com/wp-content/uploads/2025/02/motorcycle-7539871_1280.jpg
END:VEVENT
BEGIN:VEVENT
DTSTART;TZID=America/Phoenix:20250716T190000
DTEND;TZID=America/Phoenix:20250716T220000
DTSTAMP:20260419T224518
CREATED:20250405T011024Z
LAST-MODIFIED:20260204T180535Z
UID:10004136-1752692400-1752703200@kimmyzongreenway.com
SUMMARY:Ben Chapman
DESCRIPTION:Join us for the best live music in Glendale as Ben Chapman takes the stage.  \n 
URL:https://kimmyzongreenway.com/event/ben-chapman/2025-07-16/
LOCATION:Kimmyz on Greenway\, 5930 W Greenway Rd\, Glendale\, AZ\, 85306\, United States
CATEGORIES:Live Music
ATTACH;FMTTYPE=image/png:https://kimmyzongreenway.com/wp-content/uploads/2025/04/Screenshot-2025-04-04-at-6.06.58 PM.png
END:VEVENT
BEGIN:VEVENT
DTSTART;TZID=America/Denver:20250716T110000
DTEND;TZID=America/Denver:20250716T210000
DTSTAMP:20260419T224518
CREATED:20250213T172729Z
LAST-MODIFIED:20250213T213423Z
UID:10002639-1752663600-1752699600@kimmyzongreenway.com
SUMMARY:Burger & Beer Wednesday
DESCRIPTION:Our classic juicy burger served with French Fries and a pint of domestic beer or soda. 
URL:https://kimmyzongreenway.com/event/burger-beer-wednesday/2025-07-16/
LOCATION:Kimmyz on Greenway\, 5930 W Greenway Rd\, Glendale\, AZ\, 85306\, United States
CATEGORIES:Food Specials
ATTACH;FMTTYPE=image/jpeg:https://kimmyzongreenway.com/wp-content/uploads/2025/02/3.jpg
END:VEVENT
BEGIN:VEVENT
DTSTART;TZID=America/Denver:20250715T190000
DTEND;TZID=America/Denver:20250715T220000
DTSTAMP:20260419T224518
CREATED:20250213T160301Z
LAST-MODIFIED:20250213T160301Z
UID:10000023-1752606000-1752616800@kimmyzongreenway.com
SUMMARY:Open Mic
DESCRIPTION:It’s your turn to take the stage! Bring your instrument(s) and showcase what you got every Tuesday at the home of the best live music in Glendale\, AZ.
URL:https://kimmyzongreenway.com/event/open-mic/2025-07-15/
LOCATION:Kimmyz on Greenway\, 5930 W Greenway Rd\, Glendale\, AZ\, 85306\, United States
CATEGORIES:Live Music
ATTACH;FMTTYPE=image/jpeg:https://kimmyzongreenway.com/wp-content/uploads/2025/02/audio-2941753_1920.jpg
END:VEVENT
BEGIN:VEVENT
DTSTART;TZID=America/Denver:20250715T110000
DTEND;TZID=America/Denver:20250715T210000
DTSTAMP:20260419T224518
CREATED:20250213T172529Z
LAST-MODIFIED:20250213T213516Z
UID:10002901-1752577200-1752613200@kimmyzongreenway.com
SUMMARY:Taco Tuesday
DESCRIPTION:Three tacos (your choice of ground beef\, steak\, fish\, or chicken) served with fresh chips and salsa.  \n 
URL:https://kimmyzongreenway.com/event/taco-tuesday/2025-07-15/
LOCATION:Kimmyz on Greenway\, 5930 W Greenway Rd\, Glendale\, AZ\, 85306\, United States
CATEGORIES:Food Specials
ATTACH;FMTTYPE=image/jpeg:https://kimmyzongreenway.com/wp-content/uploads/2025/02/chantel-E2n6-GuBGYo-unsplash-scaled.jpg
END:VEVENT
BEGIN:VEVENT
DTSTART;TZID=America/Denver:20250714T190000
DTEND;TZID=America/Denver:20250714T220000
DTSTAMP:20260419T224518
CREATED:20250213T160657Z
LAST-MODIFIED:20250213T160657Z
UID:10000285-1752519600-1752530400@kimmyzongreenway.com
SUMMARY:Karaoke
DESCRIPTION:Pick a song\, grab the mic\, and show off your pipes! Join us for the best Karaoke in Glendale every Monday night.
URL:https://kimmyzongreenway.com/event/karaoke/2025-07-14/
LOCATION:Kimmyz on Greenway\, 5930 W Greenway Rd\, Glendale\, AZ\, 85306\, United States
CATEGORIES:Live Music
ATTACH;FMTTYPE=image/jpeg:https://kimmyzongreenway.com/wp-content/uploads/2025/02/microphone-4547633_1920.jpg
END:VEVENT
BEGIN:VEVENT
DTSTART;TZID=America/Denver:20250713T110000
DTEND;TZID=America/Denver:20250713T210000
DTSTAMP:20260419T224518
CREATED:20250213T172225Z
LAST-MODIFIED:20250213T213552Z
UID:10003163-1752404400-1752440400@kimmyzongreenway.com
SUMMARY:Meatloaf Monday
DESCRIPTION:Homemade meatloaf served with mashed potatoes\, gravy\, corn & a dinner roll.
URL:https://kimmyzongreenway.com/event/meatloaf-monday/2025-07-13/
LOCATION:Kimmyz on Greenway\, 5930 W Greenway Rd\, Glendale\, AZ\, 85306\, United States
CATEGORIES:Food Specials
ATTACH;FMTTYPE=image/png:https://kimmyzongreenway.com/wp-content/uploads/2025/02/Screenshot-2025-02-13-at-10.20.59 AM.png
END:VEVENT
BEGIN:VEVENT
DTSTART;TZID=America/Denver:20250713T110000
DTEND;TZID=America/Denver:20250713T210000
DTSTAMP:20260419T224518
CREATED:20250213T171734Z
LAST-MODIFIED:20250213T213655Z
UID:10003425-1752404400-1752440400@kimmyzongreenway.com
SUMMARY:French Dip Sunday
DESCRIPTION:French Dip sandwich served with French Fries
URL:https://kimmyzongreenway.com/event/french-dip-sunday/2025-07-13/
LOCATION:Kimmyz on Greenway\, 5930 W Greenway Rd\, Glendale\, AZ\, 85306\, United States
CATEGORIES:Food Specials
ATTACH;FMTTYPE=image/png:https://kimmyzongreenway.com/wp-content/uploads/2025/02/Screenshot-2025-02-13-at-10.14.27 AM.png
END:VEVENT
END:VCALENDAR