BEGIN:VCALENDAR
VERSION:2.0
PRODID:-//Kimmyz on Greenway - ECPv6.15.20//NONSGML v1.0//EN
CALSCALE:GREGORIAN
METHOD:PUBLISH
X-WR-CALNAME:Kimmyz on Greenway
X-ORIGINAL-URL:https://kimmyzongreenway.com
X-WR-CALDESC:Events for Kimmyz on Greenway
REFRESH-INTERVAL;VALUE=DURATION:PT1H
X-Robots-Tag:noindex
X-PUBLISHED-TTL:PT1H
BEGIN:VTIMEZONE
TZID:America/Phoenix
BEGIN:STANDARD
TZOFFSETFROM:-0700
TZOFFSETTO:-0700
TZNAME:MST
DTSTART:20240101T000000
END:STANDARD
END:VTIMEZONE
BEGIN:VTIMEZONE
TZID:America/Denver
BEGIN:DAYLIGHT
TZOFFSETFROM:-0700
TZOFFSETTO:-0600
TZNAME:MDT
DTSTART:20240310T090000
END:DAYLIGHT
BEGIN:STANDARD
TZOFFSETFROM:-0600
TZOFFSETTO:-0700
TZNAME:MST
DTSTART:20241103T080000
END:STANDARD
BEGIN:DAYLIGHT
TZOFFSETFROM:-0700
TZOFFSETTO:-0600
TZNAME:MDT
DTSTART:20250309T090000
END:DAYLIGHT
BEGIN:STANDARD
TZOFFSETFROM:-0600
TZOFFSETTO:-0700
TZNAME:MST
DTSTART:20251102T080000
END:STANDARD
BEGIN:DAYLIGHT
TZOFFSETFROM:-0700
TZOFFSETTO:-0600
TZNAME:MDT
DTSTART:20260308T090000
END:DAYLIGHT
BEGIN:STANDARD
TZOFFSETFROM:-0600
TZOFFSETTO:-0700
TZNAME:MST
DTSTART:20261101T080000
END:STANDARD
END:VTIMEZONE
BEGIN:VEVENT
DTSTART;TZID=America/Phoenix:20250418T200000
DTEND;TZID=America/Phoenix:20250419T000000
DTSTAMP:20260422T233135
CREATED:20250405T011307Z
LAST-MODIFIED:20260206T044026Z
UID:10004085-1745006400-1745020800@kimmyzongreenway.com
SUMMARY:Delirium
DESCRIPTION:Join us for the best live music in Glendale as Delirium takes the stage.  \n 
URL:https://kimmyzongreenway.com/event/delirium/2025-04-18/
LOCATION:Kimmyz on Greenway\, 5930 W Greenway Rd\, Glendale\, AZ\, 85306\, United States
CATEGORIES:Live Music
ATTACH;FMTTYPE=image/jpeg:https://kimmyzongreenway.com/wp-content/uploads/2025/04/485012020_122213216990241261_2255964063892261887_n.jpg
END:VEVENT
BEGIN:VEVENT
DTSTART;TZID=America/Denver:20250418T110000
DTEND;TZID=America/Denver:20250418T220000
DTSTAMP:20260422T233135
CREATED:20250213T173428Z
LAST-MODIFIED:20250213T213339Z
UID:10002365-1744974000-1745013600@kimmyzongreenway.com
SUMMARY:Fish Fry Friday
DESCRIPTION:Fish Fry Friday:\n \n   All you can eat fish fry – $18.99 \n   Fish Fry Basket – $14.99 \n   Fish & Shrimp Basket – $16.99 \n 
URL:https://kimmyzongreenway.com/event/fish-fry-friday/2025-04-18/
LOCATION:Kimmyz on Greenway\, 5930 W Greenway Rd\, Glendale\, AZ\, 85306\, United States
CATEGORIES:Food Specials
ATTACH;FMTTYPE=image/jpeg:https://kimmyzongreenway.com/wp-content/uploads/2025/02/davey-gravy-YpQGo0QTshE-unsplash-scaled.jpg
END:VEVENT
BEGIN:VEVENT
DTSTART;TZID=America/Phoenix:20250417T190000
DTEND;TZID=America/Phoenix:20250417T220000
DTSTAMP:20260422T233135
CREATED:20250226T003942Z
LAST-MODIFIED:20260327T011502Z
UID:10004076-1744916400-1744927200@kimmyzongreenway.com
SUMMARY:Richie Darling
DESCRIPTION:Join us for the best live music in Glendale as Richie Darling takes the stage.
URL:https://kimmyzongreenway.com/event/richie-darling/2025-04-17/
LOCATION:Kimmyz on Greenway\, 5930 W Greenway Rd\, Glendale\, AZ\, 85306\, United States
CATEGORIES:Live Music
ATTACH;FMTTYPE=image/jpeg:https://kimmyzongreenway.com/wp-content/uploads/2025/02/18485774_10209355660829983_9137706092204333157_n.jpg
END:VEVENT
BEGIN:VEVENT
DTSTART;TZID=America/Denver:20250417T110000
DTEND;TZID=America/Denver:20250417T210000
DTSTAMP:20260422T233135
CREATED:20250213T173133Z
LAST-MODIFIED:20250213T213309Z
UID:10002105-1744887600-1744923600@kimmyzongreenway.com
SUMMARY:Philly Thursday
DESCRIPTION:Philly cheese steak sandwich served with French Fries and a pint of domestic beer or soda.  \n 
URL:https://kimmyzongreenway.com/event/philly-thursday/2025-04-17/
LOCATION:Kimmyz on Greenway\, 5930 W Greenway Rd\, Glendale\, AZ\, 85306\, United States
CATEGORIES:Food Specials
ATTACH;FMTTYPE=image/jpeg:https://kimmyzongreenway.com/wp-content/uploads/2025/02/snappr-IKsF2Nfh9NY-unsplash-scaled.jpg
END:VEVENT
BEGIN:VEVENT
DTSTART;VALUE=DATE:20250417
DTEND;VALUE=DATE:20250419
DTSTAMP:20260422T233135
CREATED:20250225T234027Z
LAST-MODIFIED:20250225T234027Z
UID:10003681-1744851600-1744937999@kimmyzongreenway.com
SUMMARY:Bike Night
DESCRIPTION:We are your premiere biker friendly bar! Join us for biker specials\, live music & events every Thursday. (Sponsored by Arrowhead Harley-Davidson)
URL:https://kimmyzongreenway.com/event/bike-night/2025-04-17/
LOCATION:Kimmyz on Greenway\, 5930 W Greenway Rd\, Glendale\, AZ\, 85306\, United States
CATEGORIES:Live Music,Special Events
ATTACH;FMTTYPE=image/jpeg:https://kimmyzongreenway.com/wp-content/uploads/2025/02/motorcycle-7539871_1280.jpg
END:VEVENT
BEGIN:VEVENT
DTSTART;TZID=America/Phoenix:20250416T190000
DTEND;TZID=America/Phoenix:20250416T220000
DTSTAMP:20260422T233135
CREATED:20250405T011024Z
LAST-MODIFIED:20260204T180535Z
UID:10004084-1744830000-1744840800@kimmyzongreenway.com
SUMMARY:Ben Chapman
DESCRIPTION:Join us for the best live music in Glendale as Ben Chapman takes the stage.  \n 
URL:https://kimmyzongreenway.com/event/ben-chapman/2025-04-16/
LOCATION:Kimmyz on Greenway\, 5930 W Greenway Rd\, Glendale\, AZ\, 85306\, United States
CATEGORIES:Live Music
ATTACH;FMTTYPE=image/png:https://kimmyzongreenway.com/wp-content/uploads/2025/04/Screenshot-2025-04-04-at-6.06.58 PM.png
END:VEVENT
BEGIN:VEVENT
DTSTART;TZID=America/Denver:20250416T110000
DTEND;TZID=America/Denver:20250416T210000
DTSTAMP:20260422T233135
CREATED:20250213T172729Z
LAST-MODIFIED:20250213T213423Z
UID:10002626-1744801200-1744837200@kimmyzongreenway.com
SUMMARY:Burger & Beer Wednesday
DESCRIPTION:Our classic juicy burger served with French Fries and a pint of domestic beer or soda. 
URL:https://kimmyzongreenway.com/event/burger-beer-wednesday/2025-04-16/
LOCATION:Kimmyz on Greenway\, 5930 W Greenway Rd\, Glendale\, AZ\, 85306\, United States
CATEGORIES:Food Specials
ATTACH;FMTTYPE=image/jpeg:https://kimmyzongreenway.com/wp-content/uploads/2025/02/3.jpg
END:VEVENT
BEGIN:VEVENT
DTSTART;TZID=America/Denver:20250415T190000
DTEND;TZID=America/Denver:20250415T220000
DTSTAMP:20260422T233135
CREATED:20250213T160301Z
LAST-MODIFIED:20250213T160301Z
UID:10000010-1744743600-1744754400@kimmyzongreenway.com
SUMMARY:Open Mic
DESCRIPTION:It’s your turn to take the stage! Bring your instrument(s) and showcase what you got every Tuesday at the home of the best live music in Glendale\, AZ.
URL:https://kimmyzongreenway.com/event/open-mic/2025-04-15/
LOCATION:Kimmyz on Greenway\, 5930 W Greenway Rd\, Glendale\, AZ\, 85306\, United States
CATEGORIES:Live Music
ATTACH;FMTTYPE=image/jpeg:https://kimmyzongreenway.com/wp-content/uploads/2025/02/audio-2941753_1920.jpg
END:VEVENT
BEGIN:VEVENT
DTSTART;TZID=America/Denver:20250415T110000
DTEND;TZID=America/Denver:20250415T210000
DTSTAMP:20260422T233135
CREATED:20250213T172529Z
LAST-MODIFIED:20250213T213516Z
UID:10002888-1744714800-1744750800@kimmyzongreenway.com
SUMMARY:Taco Tuesday
DESCRIPTION:Three tacos (your choice of ground beef\, steak\, fish\, or chicken) served with fresh chips and salsa.  \n 
URL:https://kimmyzongreenway.com/event/taco-tuesday/2025-04-15/
LOCATION:Kimmyz on Greenway\, 5930 W Greenway Rd\, Glendale\, AZ\, 85306\, United States
CATEGORIES:Food Specials
ATTACH;FMTTYPE=image/jpeg:https://kimmyzongreenway.com/wp-content/uploads/2025/02/chantel-E2n6-GuBGYo-unsplash-scaled.jpg
END:VEVENT
BEGIN:VEVENT
DTSTART;TZID=America/Denver:20250414T190000
DTEND;TZID=America/Denver:20250414T220000
DTSTAMP:20260422T233135
CREATED:20250213T160657Z
LAST-MODIFIED:20250213T160657Z
UID:10000272-1744657200-1744668000@kimmyzongreenway.com
SUMMARY:Karaoke
DESCRIPTION:Pick a song\, grab the mic\, and show off your pipes! Join us for the best Karaoke in Glendale every Monday night.
URL:https://kimmyzongreenway.com/event/karaoke/2025-04-14/
LOCATION:Kimmyz on Greenway\, 5930 W Greenway Rd\, Glendale\, AZ\, 85306\, United States
CATEGORIES:Live Music
ATTACH;FMTTYPE=image/jpeg:https://kimmyzongreenway.com/wp-content/uploads/2025/02/microphone-4547633_1920.jpg
END:VEVENT
BEGIN:VEVENT
DTSTART;TZID=America/Denver:20250413T110000
DTEND;TZID=America/Denver:20250413T210000
DTSTAMP:20260422T233135
CREATED:20250213T172225Z
LAST-MODIFIED:20250213T213552Z
UID:10003150-1744542000-1744578000@kimmyzongreenway.com
SUMMARY:Meatloaf Monday
DESCRIPTION:Homemade meatloaf served with mashed potatoes\, gravy\, corn & a dinner roll.
URL:https://kimmyzongreenway.com/event/meatloaf-monday/2025-04-13/
LOCATION:Kimmyz on Greenway\, 5930 W Greenway Rd\, Glendale\, AZ\, 85306\, United States
CATEGORIES:Food Specials
ATTACH;FMTTYPE=image/png:https://kimmyzongreenway.com/wp-content/uploads/2025/02/Screenshot-2025-02-13-at-10.20.59 AM.png
END:VEVENT
BEGIN:VEVENT
DTSTART;TZID=America/Denver:20250413T110000
DTEND;TZID=America/Denver:20250413T210000
DTSTAMP:20260422T233135
CREATED:20250213T171734Z
LAST-MODIFIED:20250213T213655Z
UID:10003412-1744542000-1744578000@kimmyzongreenway.com
SUMMARY:French Dip Sunday
DESCRIPTION:French Dip sandwich served with French Fries
URL:https://kimmyzongreenway.com/event/french-dip-sunday/2025-04-13/
LOCATION:Kimmyz on Greenway\, 5930 W Greenway Rd\, Glendale\, AZ\, 85306\, United States
CATEGORIES:Food Specials
ATTACH;FMTTYPE=image/png:https://kimmyzongreenway.com/wp-content/uploads/2025/02/Screenshot-2025-02-13-at-10.14.27 AM.png
END:VEVENT
BEGIN:VEVENT
DTSTART;TZID=America/Phoenix:20250412T200000
DTEND;TZID=America/Phoenix:20250413T000000
DTSTAMP:20260422T233135
CREATED:20250405T010607Z
LAST-MODIFIED:20260206T043857Z
UID:10004083-1744488000-1744502400@kimmyzongreenway.com
SUMMARY:Hotwired
DESCRIPTION:Join us for the best live music in Glendale as Hotwired takes the stage.  \n 
URL:https://kimmyzongreenway.com/event/hotwired/2025-04-12/
LOCATION:Kimmyz on Greenway\, 5930 W Greenway Rd\, Glendale\, AZ\, 85306\, United States
CATEGORIES:Live Music
ATTACH;FMTTYPE=image/png:https://kimmyzongreenway.com/wp-content/uploads/2025/04/Screenshot-2025-04-04-at-6.04.34 PM.png
END:VEVENT
BEGIN:VEVENT
DTSTART;TZID=America/Denver:20250412T110000
DTEND;TZID=America/Denver:20250412T220000
DTSTAMP:20260422T233135
CREATED:20250213T175029Z
LAST-MODIFIED:20250213T213141Z
UID:10001843-1744455600-1744495200@kimmyzongreenway.com
SUMMARY:Reuben Sandwich Saturday
DESCRIPTION:Reuben sandwich served with French Fries.  \n 
URL:https://kimmyzongreenway.com/event/reuben-sandwich-saturday/2025-04-12/
LOCATION:Kimmyz on Greenway\, 5930 W Greenway Rd\, Glendale\, AZ\, 85306\, United States
CATEGORIES:Food Specials
ATTACH;FMTTYPE=image/png:https://kimmyzongreenway.com/wp-content/uploads/2025/02/Screenshot-2025-02-13-at-10.13.40 AM.png
END:VEVENT
BEGIN:VEVENT
DTSTART;TZID=America/Phoenix:20250411T200000
DTEND;TZID=America/Phoenix:20250412T000000
DTSTAMP:20260422T233136
CREATED:20250405T010339Z
LAST-MODIFIED:20250405T010339Z
UID:10004082-1744401600-1744416000@kimmyzongreenway.com
SUMMARY:Absolute Zero
DESCRIPTION:Join us for the best live music in Glendale as Absolute Zero takes the stage.  \n 
URL:https://kimmyzongreenway.com/event/absolute-zero/
LOCATION:Kimmyz on Greenway\, 5930 W Greenway Rd\, Glendale\, AZ\, 85306\, United States
CATEGORIES:Live Music
ATTACH;FMTTYPE=image/png:https://kimmyzongreenway.com/wp-content/uploads/2025/04/Screenshot-2025-04-04-at-6.00.09 PM.png
END:VEVENT
BEGIN:VEVENT
DTSTART;TZID=America/Denver:20250411T110000
DTEND;TZID=America/Denver:20250411T220000
DTSTAMP:20260422T233136
CREATED:20250213T173428Z
LAST-MODIFIED:20250213T213339Z
UID:10002364-1744369200-1744408800@kimmyzongreenway.com
SUMMARY:Fish Fry Friday
DESCRIPTION:Fish Fry Friday:\n \n   All you can eat fish fry – $18.99 \n   Fish Fry Basket – $14.99 \n   Fish & Shrimp Basket – $16.99 \n 
URL:https://kimmyzongreenway.com/event/fish-fry-friday/2025-04-11/
LOCATION:Kimmyz on Greenway\, 5930 W Greenway Rd\, Glendale\, AZ\, 85306\, United States
CATEGORIES:Food Specials
ATTACH;FMTTYPE=image/jpeg:https://kimmyzongreenway.com/wp-content/uploads/2025/02/davey-gravy-YpQGo0QTshE-unsplash-scaled.jpg
END:VEVENT
BEGIN:VEVENT
DTSTART;TZID=America/Denver:20250410T110000
DTEND;TZID=America/Denver:20250410T210000
DTSTAMP:20260422T233136
CREATED:20250213T173133Z
LAST-MODIFIED:20250213T213309Z
UID:10002104-1744282800-1744318800@kimmyzongreenway.com
SUMMARY:Philly Thursday
DESCRIPTION:Philly cheese steak sandwich served with French Fries and a pint of domestic beer or soda.  \n 
URL:https://kimmyzongreenway.com/event/philly-thursday/2025-04-10/
LOCATION:Kimmyz on Greenway\, 5930 W Greenway Rd\, Glendale\, AZ\, 85306\, United States
CATEGORIES:Food Specials
ATTACH;FMTTYPE=image/jpeg:https://kimmyzongreenway.com/wp-content/uploads/2025/02/snappr-IKsF2Nfh9NY-unsplash-scaled.jpg
END:VEVENT
BEGIN:VEVENT
DTSTART;VALUE=DATE:20250410
DTEND;VALUE=DATE:20250412
DTSTAMP:20260422T233136
CREATED:20250225T234027Z
LAST-MODIFIED:20250225T234027Z
UID:10003680-1744246800-1744333199@kimmyzongreenway.com
SUMMARY:Bike Night
DESCRIPTION:We are your premiere biker friendly bar! Join us for biker specials\, live music & events every Thursday. (Sponsored by Arrowhead Harley-Davidson)
URL:https://kimmyzongreenway.com/event/bike-night/2025-04-10/
LOCATION:Kimmyz on Greenway\, 5930 W Greenway Rd\, Glendale\, AZ\, 85306\, United States
CATEGORIES:Live Music,Special Events
ATTACH;FMTTYPE=image/jpeg:https://kimmyzongreenway.com/wp-content/uploads/2025/02/motorcycle-7539871_1280.jpg
END:VEVENT
BEGIN:VEVENT
DTSTART;TZID=America/Denver:20250409T110000
DTEND;TZID=America/Denver:20250409T210000
DTSTAMP:20260422T233136
CREATED:20250213T172729Z
LAST-MODIFIED:20250213T213423Z
UID:10002625-1744196400-1744232400@kimmyzongreenway.com
SUMMARY:Burger & Beer Wednesday
DESCRIPTION:Our classic juicy burger served with French Fries and a pint of domestic beer or soda. 
URL:https://kimmyzongreenway.com/event/burger-beer-wednesday/2025-04-09/
LOCATION:Kimmyz on Greenway\, 5930 W Greenway Rd\, Glendale\, AZ\, 85306\, United States
CATEGORIES:Food Specials
ATTACH;FMTTYPE=image/jpeg:https://kimmyzongreenway.com/wp-content/uploads/2025/02/3.jpg
END:VEVENT
BEGIN:VEVENT
DTSTART;TZID=America/Denver:20250408T190000
DTEND;TZID=America/Denver:20250408T220000
DTSTAMP:20260422T233136
CREATED:20250213T160301Z
LAST-MODIFIED:20250213T160301Z
UID:10000009-1744138800-1744149600@kimmyzongreenway.com
SUMMARY:Open Mic
DESCRIPTION:It’s your turn to take the stage! Bring your instrument(s) and showcase what you got every Tuesday at the home of the best live music in Glendale\, AZ.
URL:https://kimmyzongreenway.com/event/open-mic/2025-04-08/
LOCATION:Kimmyz on Greenway\, 5930 W Greenway Rd\, Glendale\, AZ\, 85306\, United States
CATEGORIES:Live Music
ATTACH;FMTTYPE=image/jpeg:https://kimmyzongreenway.com/wp-content/uploads/2025/02/audio-2941753_1920.jpg
END:VEVENT
BEGIN:VEVENT
DTSTART;TZID=America/Denver:20250408T110000
DTEND;TZID=America/Denver:20250408T210000
DTSTAMP:20260422T233136
CREATED:20250213T172529Z
LAST-MODIFIED:20250213T213516Z
UID:10002887-1744110000-1744146000@kimmyzongreenway.com
SUMMARY:Taco Tuesday
DESCRIPTION:Three tacos (your choice of ground beef\, steak\, fish\, or chicken) served with fresh chips and salsa.  \n 
URL:https://kimmyzongreenway.com/event/taco-tuesday/2025-04-08/
LOCATION:Kimmyz on Greenway\, 5930 W Greenway Rd\, Glendale\, AZ\, 85306\, United States
CATEGORIES:Food Specials
ATTACH;FMTTYPE=image/jpeg:https://kimmyzongreenway.com/wp-content/uploads/2025/02/chantel-E2n6-GuBGYo-unsplash-scaled.jpg
END:VEVENT
BEGIN:VEVENT
DTSTART;TZID=America/Denver:20250407T190000
DTEND;TZID=America/Denver:20250407T220000
DTSTAMP:20260422T233136
CREATED:20250213T160657Z
LAST-MODIFIED:20250213T160657Z
UID:10000271-1744052400-1744063200@kimmyzongreenway.com
SUMMARY:Karaoke
DESCRIPTION:Pick a song\, grab the mic\, and show off your pipes! Join us for the best Karaoke in Glendale every Monday night.
URL:https://kimmyzongreenway.com/event/karaoke/2025-04-07/
LOCATION:Kimmyz on Greenway\, 5930 W Greenway Rd\, Glendale\, AZ\, 85306\, United States
CATEGORIES:Live Music
ATTACH;FMTTYPE=image/jpeg:https://kimmyzongreenway.com/wp-content/uploads/2025/02/microphone-4547633_1920.jpg
END:VEVENT
BEGIN:VEVENT
DTSTART;TZID=America/Denver:20250406T110000
DTEND;TZID=America/Denver:20250406T210000
DTSTAMP:20260422T233136
CREATED:20250213T172225Z
LAST-MODIFIED:20250213T213552Z
UID:10003149-1743937200-1743973200@kimmyzongreenway.com
SUMMARY:Meatloaf Monday
DESCRIPTION:Homemade meatloaf served with mashed potatoes\, gravy\, corn & a dinner roll.
URL:https://kimmyzongreenway.com/event/meatloaf-monday/2025-04-06/
LOCATION:Kimmyz on Greenway\, 5930 W Greenway Rd\, Glendale\, AZ\, 85306\, United States
CATEGORIES:Food Specials
ATTACH;FMTTYPE=image/png:https://kimmyzongreenway.com/wp-content/uploads/2025/02/Screenshot-2025-02-13-at-10.20.59 AM.png
END:VEVENT
BEGIN:VEVENT
DTSTART;TZID=America/Denver:20250406T110000
DTEND;TZID=America/Denver:20250406T210000
DTSTAMP:20260422T233136
CREATED:20250213T171734Z
LAST-MODIFIED:20250213T213655Z
UID:10003411-1743937200-1743973200@kimmyzongreenway.com
SUMMARY:French Dip Sunday
DESCRIPTION:French Dip sandwich served with French Fries
URL:https://kimmyzongreenway.com/event/french-dip-sunday/2025-04-06/
LOCATION:Kimmyz on Greenway\, 5930 W Greenway Rd\, Glendale\, AZ\, 85306\, United States
CATEGORIES:Food Specials
ATTACH;FMTTYPE=image/png:https://kimmyzongreenway.com/wp-content/uploads/2025/02/Screenshot-2025-02-13-at-10.14.27 AM.png
END:VEVENT
BEGIN:VEVENT
DTSTART;TZID=America/Phoenix:20250405T200000
DTEND;TZID=America/Phoenix:20250406T000000
DTSTAMP:20260422T233136
CREATED:20250405T005849Z
LAST-MODIFIED:20250405T005849Z
UID:10004081-1743883200-1743897600@kimmyzongreenway.com
SUMMARY:Whiskey Throttle
DESCRIPTION:Join us for the best live music in Glendale as Whiskey Throttle takes the stage.  \n 
URL:https://kimmyzongreenway.com/event/whiskey-throttle/
LOCATION:Kimmyz on Greenway\, 5930 W Greenway Rd\, Glendale\, AZ\, 85306\, United States
CATEGORIES:Live Music
ATTACH;FMTTYPE=image/jpeg:https://kimmyzongreenway.com/wp-content/uploads/2025/04/485366425_122099118176814170_5435962243667921760_n.jpg
END:VEVENT
BEGIN:VEVENT
DTSTART;TZID=America/Denver:20250405T110000
DTEND;TZID=America/Denver:20250405T220000
DTSTAMP:20260422T233136
CREATED:20250213T175029Z
LAST-MODIFIED:20250213T213141Z
UID:10001842-1743850800-1743890400@kimmyzongreenway.com
SUMMARY:Reuben Sandwich Saturday
DESCRIPTION:Reuben sandwich served with French Fries.  \n 
URL:https://kimmyzongreenway.com/event/reuben-sandwich-saturday/2025-04-05/
LOCATION:Kimmyz on Greenway\, 5930 W Greenway Rd\, Glendale\, AZ\, 85306\, United States
CATEGORIES:Food Specials
ATTACH;FMTTYPE=image/png:https://kimmyzongreenway.com/wp-content/uploads/2025/02/Screenshot-2025-02-13-at-10.13.40 AM.png
END:VEVENT
BEGIN:VEVENT
DTSTART;TZID=America/Phoenix:20250404T200000
DTEND;TZID=America/Phoenix:20250405T000000
DTSTAMP:20260422T233136
CREATED:20250405T000901Z
LAST-MODIFIED:20250405T000901Z
UID:10004074-1743796800-1743811200@kimmyzongreenway.com
SUMMARY:Bryan Adams Tribute & Bad Company Tribute
DESCRIPTION:Join us for the best live music in Glendale as we present a night of tributes featuring music of Bryan Adams and Bad Company.
URL:https://kimmyzongreenway.com/event/bryan-adams-tribute-bad-company-tribute/
LOCATION:Kimmyz on Greenway\, 5930 W Greenway Rd\, Glendale\, AZ\, 85306\, United States
CATEGORIES:Live Music
ATTACH;FMTTYPE=image/jpeg:https://kimmyzongreenway.com/wp-content/uploads/2025/04/488222854_1217790873680195_5512905115239658864_n.jpg
END:VEVENT
BEGIN:VEVENT
DTSTART;TZID=America/Denver:20250404T110000
DTEND;TZID=America/Denver:20250404T220000
DTSTAMP:20260422T233136
CREATED:20250213T173428Z
LAST-MODIFIED:20250213T213339Z
UID:10002363-1743764400-1743804000@kimmyzongreenway.com
SUMMARY:Fish Fry Friday
DESCRIPTION:Fish Fry Friday:\n \n   All you can eat fish fry – $18.99 \n   Fish Fry Basket – $14.99 \n   Fish & Shrimp Basket – $16.99 \n 
URL:https://kimmyzongreenway.com/event/fish-fry-friday/2025-04-04/
LOCATION:Kimmyz on Greenway\, 5930 W Greenway Rd\, Glendale\, AZ\, 85306\, United States
CATEGORIES:Food Specials
ATTACH;FMTTYPE=image/jpeg:https://kimmyzongreenway.com/wp-content/uploads/2025/02/davey-gravy-YpQGo0QTshE-unsplash-scaled.jpg
END:VEVENT
BEGIN:VEVENT
DTSTART;TZID=America/Denver:20250403T110000
DTEND;TZID=America/Denver:20250403T210000
DTSTAMP:20260422T233136
CREATED:20250213T173133Z
LAST-MODIFIED:20250213T213309Z
UID:10002103-1743678000-1743714000@kimmyzongreenway.com
SUMMARY:Philly Thursday
DESCRIPTION:Philly cheese steak sandwich served with French Fries and a pint of domestic beer or soda.  \n 
URL:https://kimmyzongreenway.com/event/philly-thursday/2025-04-03/
LOCATION:Kimmyz on Greenway\, 5930 W Greenway Rd\, Glendale\, AZ\, 85306\, United States
CATEGORIES:Food Specials
ATTACH;FMTTYPE=image/jpeg:https://kimmyzongreenway.com/wp-content/uploads/2025/02/snappr-IKsF2Nfh9NY-unsplash-scaled.jpg
END:VEVENT
BEGIN:VEVENT
DTSTART;VALUE=DATE:20250403
DTEND;VALUE=DATE:20250405
DTSTAMP:20260422T233136
CREATED:20250225T234027Z
LAST-MODIFIED:20250225T234027Z
UID:10003679-1743642000-1743728399@kimmyzongreenway.com
SUMMARY:Bike Night
DESCRIPTION:We are your premiere biker friendly bar! Join us for biker specials\, live music & events every Thursday. (Sponsored by Arrowhead Harley-Davidson)
URL:https://kimmyzongreenway.com/event/bike-night/2025-04-03/
LOCATION:Kimmyz on Greenway\, 5930 W Greenway Rd\, Glendale\, AZ\, 85306\, United States
CATEGORIES:Live Music,Special Events
ATTACH;FMTTYPE=image/jpeg:https://kimmyzongreenway.com/wp-content/uploads/2025/02/motorcycle-7539871_1280.jpg
END:VEVENT
END:VCALENDAR