BEGIN:VCALENDAR
VERSION:2.0
PRODID:-//Kimmyz on Greenway - ECPv6.15.20//NONSGML v1.0//EN
CALSCALE:GREGORIAN
METHOD:PUBLISH
X-WR-CALNAME:Kimmyz on Greenway
X-ORIGINAL-URL:https://kimmyzongreenway.com
X-WR-CALDESC:Events for Kimmyz on Greenway
REFRESH-INTERVAL;VALUE=DURATION:PT1H
X-Robots-Tag:noindex
X-PUBLISHED-TTL:PT1H
BEGIN:VTIMEZONE
TZID:America/Denver
BEGIN:DAYLIGHT
TZOFFSETFROM:-0700
TZOFFSETTO:-0600
TZNAME:MDT
DTSTART:20240310T090000
END:DAYLIGHT
BEGIN:STANDARD
TZOFFSETFROM:-0600
TZOFFSETTO:-0700
TZNAME:MST
DTSTART:20241103T080000
END:STANDARD
BEGIN:DAYLIGHT
TZOFFSETFROM:-0700
TZOFFSETTO:-0600
TZNAME:MDT
DTSTART:20250309T090000
END:DAYLIGHT
BEGIN:STANDARD
TZOFFSETFROM:-0600
TZOFFSETTO:-0700
TZNAME:MST
DTSTART:20251102T080000
END:STANDARD
BEGIN:DAYLIGHT
TZOFFSETFROM:-0700
TZOFFSETTO:-0600
TZNAME:MDT
DTSTART:20260308T090000
END:DAYLIGHT
BEGIN:STANDARD
TZOFFSETFROM:-0600
TZOFFSETTO:-0700
TZNAME:MST
DTSTART:20261101T080000
END:STANDARD
END:VTIMEZONE
BEGIN:VTIMEZONE
TZID:America/Phoenix
BEGIN:STANDARD
TZOFFSETFROM:-0700
TZOFFSETTO:-0700
TZNAME:MST
DTSTART:20240101T000000
END:STANDARD
END:VTIMEZONE
BEGIN:VEVENT
DTSTART;TZID=America/Denver:20250506T110000
DTEND;TZID=America/Denver:20250506T210000
DTSTAMP:20260422T182044
CREATED:20250213T172529Z
LAST-MODIFIED:20250213T213516Z
UID:10002891-1746529200-1746565200@kimmyzongreenway.com
SUMMARY:Taco Tuesday
DESCRIPTION:Three tacos (your choice of ground beef\, steak\, fish\, or chicken) served with fresh chips and salsa.  \n 
URL:https://kimmyzongreenway.com/event/taco-tuesday/2025-05-06/
LOCATION:Kimmyz on Greenway\, 5930 W Greenway Rd\, Glendale\, AZ\, 85306\, United States
CATEGORIES:Food Specials
ATTACH;FMTTYPE=image/jpeg:https://kimmyzongreenway.com/wp-content/uploads/2025/02/chantel-E2n6-GuBGYo-unsplash-scaled.jpg
END:VEVENT
BEGIN:VEVENT
DTSTART;TZID=America/Denver:20250505T190000
DTEND;TZID=America/Denver:20250505T220000
DTSTAMP:20260422T182044
CREATED:20250213T160657Z
LAST-MODIFIED:20250213T160657Z
UID:10000275-1746471600-1746482400@kimmyzongreenway.com
SUMMARY:Karaoke
DESCRIPTION:Pick a song\, grab the mic\, and show off your pipes! Join us for the best Karaoke in Glendale every Monday night.
URL:https://kimmyzongreenway.com/event/karaoke/2025-05-05/
LOCATION:Kimmyz on Greenway\, 5930 W Greenway Rd\, Glendale\, AZ\, 85306\, United States
CATEGORIES:Live Music
ATTACH;FMTTYPE=image/jpeg:https://kimmyzongreenway.com/wp-content/uploads/2025/02/microphone-4547633_1920.jpg
END:VEVENT
BEGIN:VEVENT
DTSTART;TZID=America/Phoenix:20250504T150000
DTEND;TZID=America/Phoenix:20250504T180000
DTSTAMP:20260422T182044
CREATED:20250226T002256Z
LAST-MODIFIED:20260327T011107Z
UID:10004092-1746370800-1746381600@kimmyzongreenway.com
SUMMARY:Chuck & Michael
DESCRIPTION:Join us for the best live music in Glendale as Chuck & Michael take the stage.  \n 
URL:https://kimmyzongreenway.com/event/chuck-michael/2025-05-04/
LOCATION:Kimmyz on Greenway\, 5930 W Greenway Rd\, Glendale\, AZ\, 85306\, United States
CATEGORIES:Live Music
ATTACH;FMTTYPE=image/jpeg:https://kimmyzongreenway.com/wp-content/uploads/2025/02/2874678976889988305.jpg
END:VEVENT
BEGIN:VEVENT
DTSTART;TZID=America/Denver:20250504T110000
DTEND;TZID=America/Denver:20250504T210000
DTSTAMP:20260422T182044
CREATED:20250213T172225Z
LAST-MODIFIED:20250213T213552Z
UID:10003153-1746356400-1746392400@kimmyzongreenway.com
SUMMARY:Meatloaf Monday
DESCRIPTION:Homemade meatloaf served with mashed potatoes\, gravy\, corn & a dinner roll.
URL:https://kimmyzongreenway.com/event/meatloaf-monday/2025-05-04/
LOCATION:Kimmyz on Greenway\, 5930 W Greenway Rd\, Glendale\, AZ\, 85306\, United States
CATEGORIES:Food Specials
ATTACH;FMTTYPE=image/png:https://kimmyzongreenway.com/wp-content/uploads/2025/02/Screenshot-2025-02-13-at-10.20.59 AM.png
END:VEVENT
BEGIN:VEVENT
DTSTART;TZID=America/Denver:20250504T110000
DTEND;TZID=America/Denver:20250504T210000
DTSTAMP:20260422T182044
CREATED:20250213T171734Z
LAST-MODIFIED:20250213T213655Z
UID:10003415-1746356400-1746392400@kimmyzongreenway.com
SUMMARY:French Dip Sunday
DESCRIPTION:French Dip sandwich served with French Fries
URL:https://kimmyzongreenway.com/event/french-dip-sunday/2025-05-04/
LOCATION:Kimmyz on Greenway\, 5930 W Greenway Rd\, Glendale\, AZ\, 85306\, United States
CATEGORIES:Food Specials
ATTACH;FMTTYPE=image/png:https://kimmyzongreenway.com/wp-content/uploads/2025/02/Screenshot-2025-02-13-at-10.14.27 AM.png
END:VEVENT
BEGIN:VEVENT
DTSTART;TZID=America/Phoenix:20250503T200000
DTEND;TZID=America/Phoenix:20250504T000000
DTSTAMP:20260422T182044
CREATED:20250215T003202Z
LAST-MODIFIED:20260102T050232Z
UID:10004091-1746302400-1746316800@kimmyzongreenway.com
SUMMARY:Friendly Jesture
DESCRIPTION:Join us for the best live music in Glendale as Friendly Jesture takes the stage.  \n 
URL:https://kimmyzongreenway.com/event/friendly-jesture/2025-05-03/
LOCATION:Kimmyz on Greenway\, 5930 W Greenway Rd\, Glendale\, AZ\, 85306\, United States
CATEGORIES:Live Music
ATTACH;FMTTYPE=image/png:https://kimmyzongreenway.com/wp-content/uploads/2025/02/Screenshot-2025-02-14-at-5.29.52 PM.png
END:VEVENT
BEGIN:VEVENT
DTSTART;TZID=America/Denver:20250503T110000
DTEND;TZID=America/Denver:20250503T220000
DTSTAMP:20260422T182044
CREATED:20250213T175029Z
LAST-MODIFIED:20250213T213141Z
UID:10001846-1746270000-1746309600@kimmyzongreenway.com
SUMMARY:Reuben Sandwich Saturday
DESCRIPTION:Reuben sandwich served with French Fries.  \n 
URL:https://kimmyzongreenway.com/event/reuben-sandwich-saturday/2025-05-03/
LOCATION:Kimmyz on Greenway\, 5930 W Greenway Rd\, Glendale\, AZ\, 85306\, United States
CATEGORIES:Food Specials
ATTACH;FMTTYPE=image/png:https://kimmyzongreenway.com/wp-content/uploads/2025/02/Screenshot-2025-02-13-at-10.13.40 AM.png
END:VEVENT
BEGIN:VEVENT
DTSTART;TZID=America/Denver:20250502T110000
DTEND;TZID=America/Denver:20250502T220000
DTSTAMP:20260422T182044
CREATED:20250213T173428Z
LAST-MODIFIED:20250213T213339Z
UID:10002367-1746183600-1746223200@kimmyzongreenway.com
SUMMARY:Fish Fry Friday
DESCRIPTION:Fish Fry Friday:\n \n   All you can eat fish fry – $18.99 \n   Fish Fry Basket – $14.99 \n   Fish & Shrimp Basket – $16.99 \n 
URL:https://kimmyzongreenway.com/event/fish-fry-friday/2025-05-02/
LOCATION:Kimmyz on Greenway\, 5930 W Greenway Rd\, Glendale\, AZ\, 85306\, United States
CATEGORIES:Food Specials
ATTACH;FMTTYPE=image/jpeg:https://kimmyzongreenway.com/wp-content/uploads/2025/02/davey-gravy-YpQGo0QTshE-unsplash-scaled.jpg
END:VEVENT
BEGIN:VEVENT
DTSTART;TZID=America/Phoenix:20250501T190000
DTEND;TZID=America/Phoenix:20250501T220000
DTSTAMP:20260422T182044
CREATED:20250226T003226Z
LAST-MODIFIED:20260327T010904Z
UID:10004090-1746126000-1746136800@kimmyzongreenway.com
SUMMARY:Vilhelm & Cash (Will Heisler & Buddy Cash)
DESCRIPTION:Join us for the best live music in Glendale as Vilhelm & Cash take the stage.  \n 
URL:https://kimmyzongreenway.com/event/vilhelm-cash-will-heisler-buddy-cash/2025-05-01/
LOCATION:Kimmyz on Greenway\, 5930 W Greenway Rd\, Glendale\, AZ\, 85306\, United States
CATEGORIES:Live Music
ATTACH;FMTTYPE=image/jpeg:https://kimmyzongreenway.com/wp-content/uploads/2025/02/263330760_1058102731636065_2620660901501201058_n.jpg
END:VEVENT
BEGIN:VEVENT
DTSTART;TZID=America/Denver:20250501T110000
DTEND;TZID=America/Denver:20250501T210000
DTSTAMP:20260422T182044
CREATED:20250213T173133Z
LAST-MODIFIED:20250213T213309Z
UID:10002107-1746097200-1746133200@kimmyzongreenway.com
SUMMARY:Philly Thursday
DESCRIPTION:Philly cheese steak sandwich served with French Fries and a pint of domestic beer or soda.  \n 
URL:https://kimmyzongreenway.com/event/philly-thursday/2025-05-01/
LOCATION:Kimmyz on Greenway\, 5930 W Greenway Rd\, Glendale\, AZ\, 85306\, United States
CATEGORIES:Food Specials
ATTACH;FMTTYPE=image/jpeg:https://kimmyzongreenway.com/wp-content/uploads/2025/02/snappr-IKsF2Nfh9NY-unsplash-scaled.jpg
END:VEVENT
BEGIN:VEVENT
DTSTART;VALUE=DATE:20250501
DTEND;VALUE=DATE:20250503
DTSTAMP:20260422T182044
CREATED:20250225T234027Z
LAST-MODIFIED:20250225T234027Z
UID:10003683-1746061200-1746147599@kimmyzongreenway.com
SUMMARY:Bike Night
DESCRIPTION:We are your premiere biker friendly bar! Join us for biker specials\, live music & events every Thursday. (Sponsored by Arrowhead Harley-Davidson)
URL:https://kimmyzongreenway.com/event/bike-night/2025-05-01/
LOCATION:Kimmyz on Greenway\, 5930 W Greenway Rd\, Glendale\, AZ\, 85306\, United States
CATEGORIES:Live Music,Special Events
ATTACH;FMTTYPE=image/jpeg:https://kimmyzongreenway.com/wp-content/uploads/2025/02/motorcycle-7539871_1280.jpg
END:VEVENT
BEGIN:VEVENT
DTSTART;TZID=America/Denver:20250430T110000
DTEND;TZID=America/Denver:20250430T210000
DTSTAMP:20260422T182044
CREATED:20250213T172729Z
LAST-MODIFIED:20250213T213423Z
UID:10002628-1746010800-1746046800@kimmyzongreenway.com
SUMMARY:Burger & Beer Wednesday
DESCRIPTION:Our classic juicy burger served with French Fries and a pint of domestic beer or soda. 
URL:https://kimmyzongreenway.com/event/burger-beer-wednesday/2025-04-30/
LOCATION:Kimmyz on Greenway\, 5930 W Greenway Rd\, Glendale\, AZ\, 85306\, United States
CATEGORIES:Food Specials
ATTACH;FMTTYPE=image/jpeg:https://kimmyzongreenway.com/wp-content/uploads/2025/02/3.jpg
END:VEVENT
BEGIN:VEVENT
DTSTART;TZID=America/Denver:20250429T190000
DTEND;TZID=America/Denver:20250429T220000
DTSTAMP:20260422T182044
CREATED:20250213T160301Z
LAST-MODIFIED:20250213T160301Z
UID:10000012-1745953200-1745964000@kimmyzongreenway.com
SUMMARY:Open Mic
DESCRIPTION:It’s your turn to take the stage! Bring your instrument(s) and showcase what you got every Tuesday at the home of the best live music in Glendale\, AZ.
URL:https://kimmyzongreenway.com/event/open-mic/2025-04-29/
LOCATION:Kimmyz on Greenway\, 5930 W Greenway Rd\, Glendale\, AZ\, 85306\, United States
CATEGORIES:Live Music
ATTACH;FMTTYPE=image/jpeg:https://kimmyzongreenway.com/wp-content/uploads/2025/02/audio-2941753_1920.jpg
END:VEVENT
BEGIN:VEVENT
DTSTART;TZID=America/Denver:20250429T110000
DTEND;TZID=America/Denver:20250429T210000
DTSTAMP:20260422T182044
CREATED:20250213T172529Z
LAST-MODIFIED:20250213T213516Z
UID:10002890-1745924400-1745960400@kimmyzongreenway.com
SUMMARY:Taco Tuesday
DESCRIPTION:Three tacos (your choice of ground beef\, steak\, fish\, or chicken) served with fresh chips and salsa.  \n 
URL:https://kimmyzongreenway.com/event/taco-tuesday/2025-04-29/
LOCATION:Kimmyz on Greenway\, 5930 W Greenway Rd\, Glendale\, AZ\, 85306\, United States
CATEGORIES:Food Specials
ATTACH;FMTTYPE=image/jpeg:https://kimmyzongreenway.com/wp-content/uploads/2025/02/chantel-E2n6-GuBGYo-unsplash-scaled.jpg
END:VEVENT
BEGIN:VEVENT
DTSTART;TZID=America/Denver:20250428T190000
DTEND;TZID=America/Denver:20250428T220000
DTSTAMP:20260422T182044
CREATED:20250213T160657Z
LAST-MODIFIED:20250213T160657Z
UID:10000274-1745866800-1745877600@kimmyzongreenway.com
SUMMARY:Karaoke
DESCRIPTION:Pick a song\, grab the mic\, and show off your pipes! Join us for the best Karaoke in Glendale every Monday night.
URL:https://kimmyzongreenway.com/event/karaoke/2025-04-28/
LOCATION:Kimmyz on Greenway\, 5930 W Greenway Rd\, Glendale\, AZ\, 85306\, United States
CATEGORIES:Live Music
ATTACH;FMTTYPE=image/jpeg:https://kimmyzongreenway.com/wp-content/uploads/2025/02/microphone-4547633_1920.jpg
END:VEVENT
BEGIN:VEVENT
DTSTART;TZID=America/Denver:20250427T110000
DTEND;TZID=America/Denver:20250427T210000
DTSTAMP:20260422T182044
CREATED:20250213T172225Z
LAST-MODIFIED:20250213T213552Z
UID:10003152-1745751600-1745787600@kimmyzongreenway.com
SUMMARY:Meatloaf Monday
DESCRIPTION:Homemade meatloaf served with mashed potatoes\, gravy\, corn & a dinner roll.
URL:https://kimmyzongreenway.com/event/meatloaf-monday/2025-04-27/
LOCATION:Kimmyz on Greenway\, 5930 W Greenway Rd\, Glendale\, AZ\, 85306\, United States
CATEGORIES:Food Specials
ATTACH;FMTTYPE=image/png:https://kimmyzongreenway.com/wp-content/uploads/2025/02/Screenshot-2025-02-13-at-10.20.59 AM.png
END:VEVENT
BEGIN:VEVENT
DTSTART;TZID=America/Denver:20250427T110000
DTEND;TZID=America/Denver:20250427T210000
DTSTAMP:20260422T182044
CREATED:20250213T171734Z
LAST-MODIFIED:20250213T213655Z
UID:10003414-1745751600-1745787600@kimmyzongreenway.com
SUMMARY:French Dip Sunday
DESCRIPTION:French Dip sandwich served with French Fries
URL:https://kimmyzongreenway.com/event/french-dip-sunday/2025-04-27/
LOCATION:Kimmyz on Greenway\, 5930 W Greenway Rd\, Glendale\, AZ\, 85306\, United States
CATEGORIES:Food Specials
ATTACH;FMTTYPE=image/png:https://kimmyzongreenway.com/wp-content/uploads/2025/02/Screenshot-2025-02-13-at-10.14.27 AM.png
END:VEVENT
BEGIN:VEVENT
DTSTART;TZID=America/Phoenix:20250426T200000
DTEND;TZID=America/Phoenix:20250427T000000
DTSTAMP:20260422T182044
CREATED:20250226T004445Z
LAST-MODIFIED:20260206T044451Z
UID:10004080-1745697600-1745712000@kimmyzongreenway.com
SUMMARY:Organ Grinder
DESCRIPTION:Join us for the best live music in Glendale as Organ Grinder takes the stage.
URL:https://kimmyzongreenway.com/event/organ-grinder/2025-04-26/
LOCATION:Kimmyz on Greenway\, 5930 W Greenway Rd\, Glendale\, AZ\, 85306\, United States
CATEGORIES:Live Music
ATTACH;FMTTYPE=image/png:https://kimmyzongreenway.com/wp-content/uploads/2025/02/Screenshot-2025-02-25-at-3.44.32 PM.png
END:VEVENT
BEGIN:VEVENT
DTSTART;TZID=America/Denver:20250426T110000
DTEND;TZID=America/Denver:20250426T220000
DTSTAMP:20260422T182044
CREATED:20250213T175029Z
LAST-MODIFIED:20250213T213141Z
UID:10001845-1745665200-1745704800@kimmyzongreenway.com
SUMMARY:Reuben Sandwich Saturday
DESCRIPTION:Reuben sandwich served with French Fries.  \n 
URL:https://kimmyzongreenway.com/event/reuben-sandwich-saturday/2025-04-26/
LOCATION:Kimmyz on Greenway\, 5930 W Greenway Rd\, Glendale\, AZ\, 85306\, United States
CATEGORIES:Food Specials
ATTACH;FMTTYPE=image/png:https://kimmyzongreenway.com/wp-content/uploads/2025/02/Screenshot-2025-02-13-at-10.13.40 AM.png
END:VEVENT
BEGIN:VEVENT
DTSTART;TZID=America/Phoenix:20250425T200000
DTEND;TZID=America/Phoenix:20250426T000000
DTSTAMP:20260422T182044
CREATED:20250215T002907Z
LAST-MODIFIED:20260206T044909Z
UID:10004079-1745611200-1745625600@kimmyzongreenway.com
SUMMARY:Salt River Steel
DESCRIPTION:Join us for the best live music in Glendale as Salt River Steel takes the stage.  \n 
URL:https://kimmyzongreenway.com/event/salt-river-steel/2025-04-25/
LOCATION:Kimmyz on Greenway\, 5930 W Greenway Rd\, Glendale\, AZ\, 85306\, United States
CATEGORIES:Live Music
ATTACH;FMTTYPE=image/png:https://kimmyzongreenway.com/wp-content/uploads/2025/02/Screenshot-2025-02-14-at-4.49.40 PM.png
END:VEVENT
BEGIN:VEVENT
DTSTART;TZID=America/Denver:20250425T110000
DTEND;TZID=America/Denver:20250425T220000
DTSTAMP:20260422T182044
CREATED:20250213T173428Z
LAST-MODIFIED:20250213T213339Z
UID:10002366-1745578800-1745618400@kimmyzongreenway.com
SUMMARY:Fish Fry Friday
DESCRIPTION:Fish Fry Friday:\n \n   All you can eat fish fry – $18.99 \n   Fish Fry Basket – $14.99 \n   Fish & Shrimp Basket – $16.99 \n 
URL:https://kimmyzongreenway.com/event/fish-fry-friday/2025-04-25/
LOCATION:Kimmyz on Greenway\, 5930 W Greenway Rd\, Glendale\, AZ\, 85306\, United States
CATEGORIES:Food Specials
ATTACH;FMTTYPE=image/jpeg:https://kimmyzongreenway.com/wp-content/uploads/2025/02/davey-gravy-YpQGo0QTshE-unsplash-scaled.jpg
END:VEVENT
BEGIN:VEVENT
DTSTART;TZID=America/Phoenix:20250424T190000
DTEND;TZID=America/Phoenix:20250424T220000
DTSTAMP:20260422T182044
CREATED:20250405T012154Z
LAST-MODIFIED:20250829T030050Z
UID:10004087-1745521200-1745532000@kimmyzongreenway.com
SUMMARY:Twist of Fate
DESCRIPTION:Join us for the best live music in Glendale as Twist of Fate takes the stage.  \n 
URL:https://kimmyzongreenway.com/event/twist-of-fate/2025-04-24/
LOCATION:Kimmyz on Greenway\, 5930 W Greenway Rd\, Glendale\, AZ\, 85306\, United States
CATEGORIES:Live Music
ATTACH;FMTTYPE=image/png:https://kimmyzongreenway.com/wp-content/uploads/2025/04/Screenshot-2025-04-04-at-6.21.04 PM.png
END:VEVENT
BEGIN:VEVENT
DTSTART;TZID=America/Phoenix:20250424T190000
DTEND;TZID=America/Phoenix:20250424T220000
DTSTAMP:20260422T182044
CREATED:20250225T235515Z
LAST-MODIFIED:20250225T235515Z
UID:10003939-1745521200-1745532000@kimmyzongreenway.com
SUMMARY:Velvet Crush Duo
DESCRIPTION:Join us for the best live music in Glendale as the Velvet Crush Duo takes the stage.  \n 
URL:https://kimmyzongreenway.com/event/velvet-crush-duo/2025-04-24/
LOCATION:Kimmyz on Greenway\, 5930 W Greenway Rd\, Glendale\, AZ\, 85306\, United States
CATEGORIES:Live Music
ATTACH;FMTTYPE=image/png:https://kimmyzongreenway.com/wp-content/uploads/2025/02/Screenshot-2025-02-25-at-4.53.06 PM.png
END:VEVENT
BEGIN:VEVENT
DTSTART;TZID=America/Denver:20250424T110000
DTEND;TZID=America/Denver:20250424T210000
DTSTAMP:20260422T182044
CREATED:20250213T173133Z
LAST-MODIFIED:20250213T213309Z
UID:10002106-1745492400-1745528400@kimmyzongreenway.com
SUMMARY:Philly Thursday
DESCRIPTION:Philly cheese steak sandwich served with French Fries and a pint of domestic beer or soda.  \n 
URL:https://kimmyzongreenway.com/event/philly-thursday/2025-04-24/
LOCATION:Kimmyz on Greenway\, 5930 W Greenway Rd\, Glendale\, AZ\, 85306\, United States
CATEGORIES:Food Specials
ATTACH;FMTTYPE=image/jpeg:https://kimmyzongreenway.com/wp-content/uploads/2025/02/snappr-IKsF2Nfh9NY-unsplash-scaled.jpg
END:VEVENT
BEGIN:VEVENT
DTSTART;VALUE=DATE:20250424
DTEND;VALUE=DATE:20250426
DTSTAMP:20260422T182044
CREATED:20250225T234027Z
LAST-MODIFIED:20250225T234027Z
UID:10003682-1745456400-1745542799@kimmyzongreenway.com
SUMMARY:Bike Night
DESCRIPTION:We are your premiere biker friendly bar! Join us for biker specials\, live music & events every Thursday. (Sponsored by Arrowhead Harley-Davidson)
URL:https://kimmyzongreenway.com/event/bike-night/2025-04-24/
LOCATION:Kimmyz on Greenway\, 5930 W Greenway Rd\, Glendale\, AZ\, 85306\, United States
CATEGORIES:Live Music,Special Events
ATTACH;FMTTYPE=image/jpeg:https://kimmyzongreenway.com/wp-content/uploads/2025/02/motorcycle-7539871_1280.jpg
END:VEVENT
BEGIN:VEVENT
DTSTART;TZID=America/Phoenix:20250423T190000
DTEND;TZID=America/Phoenix:20250423T220000
DTSTAMP:20260422T182044
CREATED:20250225T233159Z
LAST-MODIFIED:20260327T010738Z
UID:10004078-1745434800-1745445600@kimmyzongreenway.com
SUMMARY:Bill Gower & Ethan Foxx
DESCRIPTION:Join us for the best live music in Glendale as Bill & Ethan take the stage. Ethan is the lead singer of Tripwire. Come catch this acoustic performance.
URL:https://kimmyzongreenway.com/event/bill-ethan/2025-04-23/
LOCATION:Kimmyz on Greenway\, 5930 W Greenway Rd\, Glendale\, AZ\, 85306\, United States
CATEGORIES:Live Music
ATTACH;FMTTYPE=image/png:https://kimmyzongreenway.com/wp-content/uploads/2025/02/Screenshot-2025-02-25-at-4.01.41 PM.png
END:VEVENT
BEGIN:VEVENT
DTSTART;TZID=America/Denver:20250423T110000
DTEND;TZID=America/Denver:20250423T210000
DTSTAMP:20260422T182045
CREATED:20250213T172729Z
LAST-MODIFIED:20250213T213423Z
UID:10002627-1745406000-1745442000@kimmyzongreenway.com
SUMMARY:Burger & Beer Wednesday
DESCRIPTION:Our classic juicy burger served with French Fries and a pint of domestic beer or soda. 
URL:https://kimmyzongreenway.com/event/burger-beer-wednesday/2025-04-23/
LOCATION:Kimmyz on Greenway\, 5930 W Greenway Rd\, Glendale\, AZ\, 85306\, United States
CATEGORIES:Food Specials
ATTACH;FMTTYPE=image/jpeg:https://kimmyzongreenway.com/wp-content/uploads/2025/02/3.jpg
END:VEVENT
BEGIN:VEVENT
DTSTART;TZID=America/Denver:20250422T190000
DTEND;TZID=America/Denver:20250422T220000
DTSTAMP:20260422T182045
CREATED:20250213T160301Z
LAST-MODIFIED:20250213T160301Z
UID:10000011-1745348400-1745359200@kimmyzongreenway.com
SUMMARY:Open Mic
DESCRIPTION:It’s your turn to take the stage! Bring your instrument(s) and showcase what you got every Tuesday at the home of the best live music in Glendale\, AZ.
URL:https://kimmyzongreenway.com/event/open-mic/2025-04-22/
LOCATION:Kimmyz on Greenway\, 5930 W Greenway Rd\, Glendale\, AZ\, 85306\, United States
CATEGORIES:Live Music
ATTACH;FMTTYPE=image/jpeg:https://kimmyzongreenway.com/wp-content/uploads/2025/02/audio-2941753_1920.jpg
END:VEVENT
BEGIN:VEVENT
DTSTART;TZID=America/Denver:20250422T110000
DTEND;TZID=America/Denver:20250422T210000
DTSTAMP:20260422T182045
CREATED:20250213T172529Z
LAST-MODIFIED:20250213T213516Z
UID:10002889-1745319600-1745355600@kimmyzongreenway.com
SUMMARY:Taco Tuesday
DESCRIPTION:Three tacos (your choice of ground beef\, steak\, fish\, or chicken) served with fresh chips and salsa.  \n 
URL:https://kimmyzongreenway.com/event/taco-tuesday/2025-04-22/
LOCATION:Kimmyz on Greenway\, 5930 W Greenway Rd\, Glendale\, AZ\, 85306\, United States
CATEGORIES:Food Specials
ATTACH;FMTTYPE=image/jpeg:https://kimmyzongreenway.com/wp-content/uploads/2025/02/chantel-E2n6-GuBGYo-unsplash-scaled.jpg
END:VEVENT
BEGIN:VEVENT
DTSTART;TZID=America/Denver:20250421T190000
DTEND;TZID=America/Denver:20250421T220000
DTSTAMP:20260422T182045
CREATED:20250213T160657Z
LAST-MODIFIED:20250213T160657Z
UID:10000273-1745262000-1745272800@kimmyzongreenway.com
SUMMARY:Karaoke
DESCRIPTION:Pick a song\, grab the mic\, and show off your pipes! Join us for the best Karaoke in Glendale every Monday night.
URL:https://kimmyzongreenway.com/event/karaoke/2025-04-21/
LOCATION:Kimmyz on Greenway\, 5930 W Greenway Rd\, Glendale\, AZ\, 85306\, United States
CATEGORIES:Live Music
ATTACH;FMTTYPE=image/jpeg:https://kimmyzongreenway.com/wp-content/uploads/2025/02/microphone-4547633_1920.jpg
END:VEVENT
END:VCALENDAR