BEGIN:VCALENDAR
VERSION:2.0
PRODID:-//Kimmyz on Greenway - ECPv6.15.20//NONSGML v1.0//EN
CALSCALE:GREGORIAN
METHOD:PUBLISH
X-WR-CALNAME:Kimmyz on Greenway
X-ORIGINAL-URL:https://kimmyzongreenway.com
X-WR-CALDESC:Events for Kimmyz on Greenway
REFRESH-INTERVAL;VALUE=DURATION:PT1H
X-Robots-Tag:noindex
X-PUBLISHED-TTL:PT1H
BEGIN:VTIMEZONE
TZID:America/Denver
BEGIN:DAYLIGHT
TZOFFSETFROM:-0700
TZOFFSETTO:-0600
TZNAME:MDT
DTSTART:20240310T090000
END:DAYLIGHT
BEGIN:STANDARD
TZOFFSETFROM:-0600
TZOFFSETTO:-0700
TZNAME:MST
DTSTART:20241103T080000
END:STANDARD
BEGIN:DAYLIGHT
TZOFFSETFROM:-0700
TZOFFSETTO:-0600
TZNAME:MDT
DTSTART:20250309T090000
END:DAYLIGHT
BEGIN:STANDARD
TZOFFSETFROM:-0600
TZOFFSETTO:-0700
TZNAME:MST
DTSTART:20251102T080000
END:STANDARD
BEGIN:DAYLIGHT
TZOFFSETFROM:-0700
TZOFFSETTO:-0600
TZNAME:MDT
DTSTART:20260308T090000
END:DAYLIGHT
BEGIN:STANDARD
TZOFFSETFROM:-0600
TZOFFSETTO:-0700
TZNAME:MST
DTSTART:20261101T080000
END:STANDARD
END:VTIMEZONE
BEGIN:VTIMEZONE
TZID:America/Phoenix
BEGIN:STANDARD
TZOFFSETFROM:-0700
TZOFFSETTO:-0700
TZNAME:MST
DTSTART:20240101T000000
END:STANDARD
END:VTIMEZONE
BEGIN:VEVENT
DTSTART;TZID=America/Denver:20250518T110000
DTEND;TZID=America/Denver:20250518T210000
DTSTAMP:20260422T152501
CREATED:20250213T171734Z
LAST-MODIFIED:20250213T213655Z
UID:10003417-1747566000-1747602000@kimmyzongreenway.com
SUMMARY:French Dip Sunday
DESCRIPTION:French Dip sandwich served with French Fries
URL:https://kimmyzongreenway.com/event/french-dip-sunday/2025-05-18/
LOCATION:Kimmyz on Greenway\, 5930 W Greenway Rd\, Glendale\, AZ\, 85306\, United States
CATEGORIES:Food Specials
ATTACH;FMTTYPE=image/png:https://kimmyzongreenway.com/wp-content/uploads/2025/02/Screenshot-2025-02-13-at-10.14.27 AM.png
END:VEVENT
BEGIN:VEVENT
DTSTART;TZID=America/Denver:20250517T110000
DTEND;TZID=America/Denver:20250517T220000
DTSTAMP:20260422T152501
CREATED:20250213T175029Z
LAST-MODIFIED:20250213T213141Z
UID:10001848-1747479600-1747519200@kimmyzongreenway.com
SUMMARY:Reuben Sandwich Saturday
DESCRIPTION:Reuben sandwich served with French Fries.  \n 
URL:https://kimmyzongreenway.com/event/reuben-sandwich-saturday/2025-05-17/
LOCATION:Kimmyz on Greenway\, 5930 W Greenway Rd\, Glendale\, AZ\, 85306\, United States
CATEGORIES:Food Specials
ATTACH;FMTTYPE=image/png:https://kimmyzongreenway.com/wp-content/uploads/2025/02/Screenshot-2025-02-13-at-10.13.40 AM.png
END:VEVENT
BEGIN:VEVENT
DTSTART;TZID=America/Phoenix:20250516T200000
DTEND;TZID=America/Phoenix:20250517T000000
DTSTAMP:20260422T152501
CREATED:20250415T232805Z
LAST-MODIFIED:20260204T010154Z
UID:10004097-1747425600-1747440000@kimmyzongreenway.com
SUMMARY:Sh!tshow Romeo
DESCRIPTION:Join us for the best live music in Glendale as Sh!tshow Romeo takes the stage. They are a high energy rock band hailing from Phoenix\, AZ. Known for their electrifying performances\, and versatile setlist\, Sh!tShow Romeo brings the best of classic\, alternative and modern hits to every stage they conquer.
URL:https://kimmyzongreenway.com/event/shtshow-romeo/2025-05-16/
LOCATION:Kimmyz on Greenway\, 5930 W Greenway Rd\, Glendale\, AZ\, 85306\, United States
CATEGORIES:Live Music
ATTACH;FMTTYPE=image/jpeg:https://kimmyzongreenway.com/wp-content/uploads/2025/04/402100007_208545725616185_8134269914574200366_n-1.jpg
END:VEVENT
BEGIN:VEVENT
DTSTART;TZID=America/Denver:20250516T110000
DTEND;TZID=America/Denver:20250516T220000
DTSTAMP:20260422T152501
CREATED:20250213T173428Z
LAST-MODIFIED:20250213T213339Z
UID:10002369-1747393200-1747432800@kimmyzongreenway.com
SUMMARY:Fish Fry Friday
DESCRIPTION:Fish Fry Friday:\n \n   All you can eat fish fry – $18.99 \n   Fish Fry Basket – $14.99 \n   Fish & Shrimp Basket – $16.99 \n 
URL:https://kimmyzongreenway.com/event/fish-fry-friday/2025-05-16/
LOCATION:Kimmyz on Greenway\, 5930 W Greenway Rd\, Glendale\, AZ\, 85306\, United States
CATEGORIES:Food Specials
ATTACH;FMTTYPE=image/jpeg:https://kimmyzongreenway.com/wp-content/uploads/2025/02/davey-gravy-YpQGo0QTshE-unsplash-scaled.jpg
END:VEVENT
BEGIN:VEVENT
DTSTART;TZID=America/Phoenix:20250515T190000
DTEND;TZID=America/Phoenix:20250515T220000
DTSTAMP:20260422T152501
CREATED:20250226T003942Z
LAST-MODIFIED:20260327T011502Z
UID:10004099-1747335600-1747346400@kimmyzongreenway.com
SUMMARY:Richie Darling
DESCRIPTION:Join us for the best live music in Glendale as Richie Darling takes the stage.
URL:https://kimmyzongreenway.com/event/richie-darling/2025-05-15/
LOCATION:Kimmyz on Greenway\, 5930 W Greenway Rd\, Glendale\, AZ\, 85306\, United States
CATEGORIES:Live Music
ATTACH;FMTTYPE=image/jpeg:https://kimmyzongreenway.com/wp-content/uploads/2025/02/18485774_10209355660829983_9137706092204333157_n.jpg
END:VEVENT
BEGIN:VEVENT
DTSTART;TZID=America/Denver:20250515T110000
DTEND;TZID=America/Denver:20250515T210000
DTSTAMP:20260422T152501
CREATED:20250213T173133Z
LAST-MODIFIED:20250213T213309Z
UID:10002109-1747306800-1747342800@kimmyzongreenway.com
SUMMARY:Philly Thursday
DESCRIPTION:Philly cheese steak sandwich served with French Fries and a pint of domestic beer or soda.  \n 
URL:https://kimmyzongreenway.com/event/philly-thursday/2025-05-15/
LOCATION:Kimmyz on Greenway\, 5930 W Greenway Rd\, Glendale\, AZ\, 85306\, United States
CATEGORIES:Food Specials
ATTACH;FMTTYPE=image/jpeg:https://kimmyzongreenway.com/wp-content/uploads/2025/02/snappr-IKsF2Nfh9NY-unsplash-scaled.jpg
END:VEVENT
BEGIN:VEVENT
DTSTART;VALUE=DATE:20250515
DTEND;VALUE=DATE:20250517
DTSTAMP:20260422T152501
CREATED:20250225T234027Z
LAST-MODIFIED:20250225T234027Z
UID:10003685-1747270800-1747357199@kimmyzongreenway.com
SUMMARY:Bike Night
DESCRIPTION:We are your premiere biker friendly bar! Join us for biker specials\, live music & events every Thursday. (Sponsored by Arrowhead Harley-Davidson)
URL:https://kimmyzongreenway.com/event/bike-night/2025-05-15/
LOCATION:Kimmyz on Greenway\, 5930 W Greenway Rd\, Glendale\, AZ\, 85306\, United States
CATEGORIES:Live Music,Special Events
ATTACH;FMTTYPE=image/jpeg:https://kimmyzongreenway.com/wp-content/uploads/2025/02/motorcycle-7539871_1280.jpg
END:VEVENT
BEGIN:VEVENT
DTSTART;TZID=America/Phoenix:20250514T190000
DTEND;TZID=America/Phoenix:20250514T220000
DTSTAMP:20260422T152501
CREATED:20250611T001246Z
LAST-MODIFIED:20250611T001307Z
UID:10003941-1747249200-1747260000@kimmyzongreenway.com
SUMMARY:Velvet Crush Duo
DESCRIPTION:Join us for the best live music in Glendale as the Velvet Crush Duo takes the stage.  \n 
URL:https://kimmyzongreenway.com/event/velvet-crush-duo-2/
LOCATION:Kimmyz on Greenway\, 5930 W Greenway Rd\, Glendale\, AZ\, 85306\, United States
CATEGORIES:Live Music
ATTACH;FMTTYPE=image/png:https://kimmyzongreenway.com/wp-content/uploads/2025/02/Screenshot-2025-02-25-at-4.53.06 PM.png
END:VEVENT
BEGIN:VEVENT
DTSTART;TZID=America/Denver:20250514T110000
DTEND;TZID=America/Denver:20250514T210000
DTSTAMP:20260422T152501
CREATED:20250213T172729Z
LAST-MODIFIED:20250213T213423Z
UID:10002630-1747220400-1747256400@kimmyzongreenway.com
SUMMARY:Burger & Beer Wednesday
DESCRIPTION:Our classic juicy burger served with French Fries and a pint of domestic beer or soda. 
URL:https://kimmyzongreenway.com/event/burger-beer-wednesday/2025-05-14/
LOCATION:Kimmyz on Greenway\, 5930 W Greenway Rd\, Glendale\, AZ\, 85306\, United States
CATEGORIES:Food Specials
ATTACH;FMTTYPE=image/jpeg:https://kimmyzongreenway.com/wp-content/uploads/2025/02/3.jpg
END:VEVENT
BEGIN:VEVENT
DTSTART;TZID=America/Denver:20250513T190000
DTEND;TZID=America/Denver:20250513T220000
DTSTAMP:20260422T152501
CREATED:20250213T160301Z
LAST-MODIFIED:20250213T160301Z
UID:10000014-1747162800-1747173600@kimmyzongreenway.com
SUMMARY:Open Mic
DESCRIPTION:It’s your turn to take the stage! Bring your instrument(s) and showcase what you got every Tuesday at the home of the best live music in Glendale\, AZ.
URL:https://kimmyzongreenway.com/event/open-mic/2025-05-13/
LOCATION:Kimmyz on Greenway\, 5930 W Greenway Rd\, Glendale\, AZ\, 85306\, United States
CATEGORIES:Live Music
ATTACH;FMTTYPE=image/jpeg:https://kimmyzongreenway.com/wp-content/uploads/2025/02/audio-2941753_1920.jpg
END:VEVENT
BEGIN:VEVENT
DTSTART;TZID=America/Denver:20250513T110000
DTEND;TZID=America/Denver:20250513T210000
DTSTAMP:20260422T152501
CREATED:20250213T172529Z
LAST-MODIFIED:20250213T213516Z
UID:10002892-1747134000-1747170000@kimmyzongreenway.com
SUMMARY:Taco Tuesday
DESCRIPTION:Three tacos (your choice of ground beef\, steak\, fish\, or chicken) served with fresh chips and salsa.  \n 
URL:https://kimmyzongreenway.com/event/taco-tuesday/2025-05-13/
LOCATION:Kimmyz on Greenway\, 5930 W Greenway Rd\, Glendale\, AZ\, 85306\, United States
CATEGORIES:Food Specials
ATTACH;FMTTYPE=image/jpeg:https://kimmyzongreenway.com/wp-content/uploads/2025/02/chantel-E2n6-GuBGYo-unsplash-scaled.jpg
END:VEVENT
BEGIN:VEVENT
DTSTART;TZID=America/Denver:20250512T190000
DTEND;TZID=America/Denver:20250512T220000
DTSTAMP:20260422T152501
CREATED:20250213T160657Z
LAST-MODIFIED:20250213T160657Z
UID:10000276-1747076400-1747087200@kimmyzongreenway.com
SUMMARY:Karaoke
DESCRIPTION:Pick a song\, grab the mic\, and show off your pipes! Join us for the best Karaoke in Glendale every Monday night.
URL:https://kimmyzongreenway.com/event/karaoke/2025-05-12/
LOCATION:Kimmyz on Greenway\, 5930 W Greenway Rd\, Glendale\, AZ\, 85306\, United States
CATEGORIES:Live Music
ATTACH;FMTTYPE=image/jpeg:https://kimmyzongreenway.com/wp-content/uploads/2025/02/microphone-4547633_1920.jpg
END:VEVENT
BEGIN:VEVENT
DTSTART;TZID=America/Denver:20250511T110000
DTEND;TZID=America/Denver:20250511T210000
DTSTAMP:20260422T152501
CREATED:20250213T172225Z
LAST-MODIFIED:20250213T213552Z
UID:10003154-1746961200-1746997200@kimmyzongreenway.com
SUMMARY:Meatloaf Monday
DESCRIPTION:Homemade meatloaf served with mashed potatoes\, gravy\, corn & a dinner roll.
URL:https://kimmyzongreenway.com/event/meatloaf-monday/2025-05-11/
LOCATION:Kimmyz on Greenway\, 5930 W Greenway Rd\, Glendale\, AZ\, 85306\, United States
CATEGORIES:Food Specials
ATTACH;FMTTYPE=image/png:https://kimmyzongreenway.com/wp-content/uploads/2025/02/Screenshot-2025-02-13-at-10.20.59 AM.png
END:VEVENT
BEGIN:VEVENT
DTSTART;TZID=America/Denver:20250511T110000
DTEND;TZID=America/Denver:20250511T210000
DTSTAMP:20260422T152501
CREATED:20250213T171734Z
LAST-MODIFIED:20250213T213655Z
UID:10003416-1746961200-1746997200@kimmyzongreenway.com
SUMMARY:French Dip Sunday
DESCRIPTION:French Dip sandwich served with French Fries
URL:https://kimmyzongreenway.com/event/french-dip-sunday/2025-05-11/
LOCATION:Kimmyz on Greenway\, 5930 W Greenway Rd\, Glendale\, AZ\, 85306\, United States
CATEGORIES:Food Specials
ATTACH;FMTTYPE=image/png:https://kimmyzongreenway.com/wp-content/uploads/2025/02/Screenshot-2025-02-13-at-10.14.27 AM.png
END:VEVENT
BEGIN:VEVENT
DTSTART;TZID=America/Phoenix:20250510T200000
DTEND;TZID=America/Phoenix:20250511T000000
DTSTAMP:20260422T152501
CREATED:20250226T003745Z
LAST-MODIFIED:20260206T044225Z
UID:10004096-1746907200-1746921600@kimmyzongreenway.com
SUMMARY:Angry Jon
DESCRIPTION:Join us for the best live music in Glendale as Angry Jon takes the stage.  \n 
URL:https://kimmyzongreenway.com/event/angry-jon/2025-05-10/
LOCATION:Kimmyz on Greenway\, 5930 W Greenway Rd\, Glendale\, AZ\, 85306\, United States
CATEGORIES:Live Music
ATTACH;FMTTYPE=image/png:https://kimmyzongreenway.com/wp-content/uploads/2025/02/Screenshot-2025-02-25-at-5.36.54 PM.png
END:VEVENT
BEGIN:VEVENT
DTSTART;TZID=America/Denver:20250510T110000
DTEND;TZID=America/Denver:20250510T220000
DTSTAMP:20260422T152501
CREATED:20250213T175029Z
LAST-MODIFIED:20250213T213141Z
UID:10001847-1746874800-1746914400@kimmyzongreenway.com
SUMMARY:Reuben Sandwich Saturday
DESCRIPTION:Reuben sandwich served with French Fries.  \n 
URL:https://kimmyzongreenway.com/event/reuben-sandwich-saturday/2025-05-10/
LOCATION:Kimmyz on Greenway\, 5930 W Greenway Rd\, Glendale\, AZ\, 85306\, United States
CATEGORIES:Food Specials
ATTACH;FMTTYPE=image/png:https://kimmyzongreenway.com/wp-content/uploads/2025/02/Screenshot-2025-02-13-at-10.13.40 AM.png
END:VEVENT
BEGIN:VEVENT
DTSTART;TZID=America/Phoenix:20250509T200000
DTEND;TZID=America/Phoenix:20250510T000000
DTSTAMP:20260422T152501
CREATED:20250226T003502Z
LAST-MODIFIED:20250718T212400Z
UID:10004094-1746820800-1746835200@kimmyzongreenway.com
SUMMARY:The Skull Daddys
DESCRIPTION:Join us for the best live music in Glendale as the Skull Daddys take the stage.  \n 
URL:https://kimmyzongreenway.com/event/the-skull-daddys/2025-05-09/
LOCATION:Kimmyz on Greenway\, 5930 W Greenway Rd\, Glendale\, AZ\, 85306\, United States
CATEGORIES:Live Music
ATTACH;FMTTYPE=image/jpeg:https://kimmyzongreenway.com/wp-content/uploads/2025/02/469828374_1075584871031580_162261011825494064_n.jpg
END:VEVENT
BEGIN:VEVENT
DTSTART;TZID=America/Denver:20250509T110000
DTEND;TZID=America/Denver:20250509T220000
DTSTAMP:20260422T152501
CREATED:20250213T173428Z
LAST-MODIFIED:20250213T213339Z
UID:10002368-1746788400-1746828000@kimmyzongreenway.com
SUMMARY:Fish Fry Friday
DESCRIPTION:Fish Fry Friday:\n \n   All you can eat fish fry – $18.99 \n   Fish Fry Basket – $14.99 \n   Fish & Shrimp Basket – $16.99 \n 
URL:https://kimmyzongreenway.com/event/fish-fry-friday/2025-05-09/
LOCATION:Kimmyz on Greenway\, 5930 W Greenway Rd\, Glendale\, AZ\, 85306\, United States
CATEGORIES:Food Specials
ATTACH;FMTTYPE=image/jpeg:https://kimmyzongreenway.com/wp-content/uploads/2025/02/davey-gravy-YpQGo0QTshE-unsplash-scaled.jpg
END:VEVENT
BEGIN:VEVENT
DTSTART;TZID=America/Phoenix:20250508T190000
DTEND;TZID=America/Phoenix:20250508T220000
DTSTAMP:20260422T152501
CREATED:20250405T012154Z
LAST-MODIFIED:20250829T030050Z
UID:10004095-1746730800-1746741600@kimmyzongreenway.com
SUMMARY:Twist of Fate
DESCRIPTION:Join us for the best live music in Glendale as Twist of Fate takes the stage.  \n 
URL:https://kimmyzongreenway.com/event/twist-of-fate/2025-05-08/
LOCATION:Kimmyz on Greenway\, 5930 W Greenway Rd\, Glendale\, AZ\, 85306\, United States
CATEGORIES:Live Music
ATTACH;FMTTYPE=image/png:https://kimmyzongreenway.com/wp-content/uploads/2025/04/Screenshot-2025-04-04-at-6.21.04 PM.png
END:VEVENT
BEGIN:VEVENT
DTSTART;TZID=America/Denver:20250508T110000
DTEND;TZID=America/Denver:20250508T210000
DTSTAMP:20260422T152501
CREATED:20250213T173133Z
LAST-MODIFIED:20250213T213309Z
UID:10002108-1746702000-1746738000@kimmyzongreenway.com
SUMMARY:Philly Thursday
DESCRIPTION:Philly cheese steak sandwich served with French Fries and a pint of domestic beer or soda.  \n 
URL:https://kimmyzongreenway.com/event/philly-thursday/2025-05-08/
LOCATION:Kimmyz on Greenway\, 5930 W Greenway Rd\, Glendale\, AZ\, 85306\, United States
CATEGORIES:Food Specials
ATTACH;FMTTYPE=image/jpeg:https://kimmyzongreenway.com/wp-content/uploads/2025/02/snappr-IKsF2Nfh9NY-unsplash-scaled.jpg
END:VEVENT
BEGIN:VEVENT
DTSTART;VALUE=DATE:20250508
DTEND;VALUE=DATE:20250510
DTSTAMP:20260422T152501
CREATED:20250225T234027Z
LAST-MODIFIED:20250225T234027Z
UID:10003684-1746666000-1746752399@kimmyzongreenway.com
SUMMARY:Bike Night
DESCRIPTION:We are your premiere biker friendly bar! Join us for biker specials\, live music & events every Thursday. (Sponsored by Arrowhead Harley-Davidson)
URL:https://kimmyzongreenway.com/event/bike-night/2025-05-08/
LOCATION:Kimmyz on Greenway\, 5930 W Greenway Rd\, Glendale\, AZ\, 85306\, United States
CATEGORIES:Live Music,Special Events
ATTACH;FMTTYPE=image/jpeg:https://kimmyzongreenway.com/wp-content/uploads/2025/02/motorcycle-7539871_1280.jpg
END:VEVENT
BEGIN:VEVENT
DTSTART;TZID=America/Phoenix:20250507T190000
DTEND;TZID=America/Phoenix:20250507T220000
DTSTAMP:20260422T152501
CREATED:20250215T004230Z
LAST-MODIFIED:20250425T201721Z
UID:10004093-1746644400-1746655200@kimmyzongreenway.com
SUMMARY:Chris Mims
DESCRIPTION:Join us for the best live music in Glendale as Chris Mims takes the stage.  \n 
URL:https://kimmyzongreenway.com/event/chris-mims/2025-05-07/
LOCATION:Kimmyz on Greenway\, 5930 W Greenway Rd\, Glendale\, AZ\, 85306\, United States
CATEGORIES:Live Music
ATTACH;FMTTYPE=image/png:https://kimmyzongreenway.com/wp-content/uploads/2025/02/Screenshot-2025-02-14-at-5.35.45 PM.png
END:VEVENT
BEGIN:VEVENT
DTSTART;TZID=America/Denver:20250507T110000
DTEND;TZID=America/Denver:20250507T210000
DTSTAMP:20260422T152501
CREATED:20250213T172729Z
LAST-MODIFIED:20250213T213423Z
UID:10002629-1746615600-1746651600@kimmyzongreenway.com
SUMMARY:Burger & Beer Wednesday
DESCRIPTION:Our classic juicy burger served with French Fries and a pint of domestic beer or soda. 
URL:https://kimmyzongreenway.com/event/burger-beer-wednesday/2025-05-07/
LOCATION:Kimmyz on Greenway\, 5930 W Greenway Rd\, Glendale\, AZ\, 85306\, United States
CATEGORIES:Food Specials
ATTACH;FMTTYPE=image/jpeg:https://kimmyzongreenway.com/wp-content/uploads/2025/02/3.jpg
END:VEVENT
BEGIN:VEVENT
DTSTART;TZID=America/Denver:20250506T190000
DTEND;TZID=America/Denver:20250506T220000
DTSTAMP:20260422T152501
CREATED:20250213T160301Z
LAST-MODIFIED:20250213T160301Z
UID:10000013-1746558000-1746568800@kimmyzongreenway.com
SUMMARY:Open Mic
DESCRIPTION:It’s your turn to take the stage! Bring your instrument(s) and showcase what you got every Tuesday at the home of the best live music in Glendale\, AZ.
URL:https://kimmyzongreenway.com/event/open-mic/2025-05-06/
LOCATION:Kimmyz on Greenway\, 5930 W Greenway Rd\, Glendale\, AZ\, 85306\, United States
CATEGORIES:Live Music
ATTACH;FMTTYPE=image/jpeg:https://kimmyzongreenway.com/wp-content/uploads/2025/02/audio-2941753_1920.jpg
END:VEVENT
BEGIN:VEVENT
DTSTART;TZID=America/Denver:20250506T110000
DTEND;TZID=America/Denver:20250506T210000
DTSTAMP:20260422T152501
CREATED:20250213T172529Z
LAST-MODIFIED:20250213T213516Z
UID:10002891-1746529200-1746565200@kimmyzongreenway.com
SUMMARY:Taco Tuesday
DESCRIPTION:Three tacos (your choice of ground beef\, steak\, fish\, or chicken) served with fresh chips and salsa.  \n 
URL:https://kimmyzongreenway.com/event/taco-tuesday/2025-05-06/
LOCATION:Kimmyz on Greenway\, 5930 W Greenway Rd\, Glendale\, AZ\, 85306\, United States
CATEGORIES:Food Specials
ATTACH;FMTTYPE=image/jpeg:https://kimmyzongreenway.com/wp-content/uploads/2025/02/chantel-E2n6-GuBGYo-unsplash-scaled.jpg
END:VEVENT
BEGIN:VEVENT
DTSTART;TZID=America/Denver:20250505T190000
DTEND;TZID=America/Denver:20250505T220000
DTSTAMP:20260422T152501
CREATED:20250213T160657Z
LAST-MODIFIED:20250213T160657Z
UID:10000275-1746471600-1746482400@kimmyzongreenway.com
SUMMARY:Karaoke
DESCRIPTION:Pick a song\, grab the mic\, and show off your pipes! Join us for the best Karaoke in Glendale every Monday night.
URL:https://kimmyzongreenway.com/event/karaoke/2025-05-05/
LOCATION:Kimmyz on Greenway\, 5930 W Greenway Rd\, Glendale\, AZ\, 85306\, United States
CATEGORIES:Live Music
ATTACH;FMTTYPE=image/jpeg:https://kimmyzongreenway.com/wp-content/uploads/2025/02/microphone-4547633_1920.jpg
END:VEVENT
BEGIN:VEVENT
DTSTART;TZID=America/Phoenix:20250504T150000
DTEND;TZID=America/Phoenix:20250504T180000
DTSTAMP:20260422T152501
CREATED:20250226T002256Z
LAST-MODIFIED:20260327T011107Z
UID:10004092-1746370800-1746381600@kimmyzongreenway.com
SUMMARY:Chuck & Michael
DESCRIPTION:Join us for the best live music in Glendale as Chuck & Michael take the stage.  \n 
URL:https://kimmyzongreenway.com/event/chuck-michael/2025-05-04/
LOCATION:Kimmyz on Greenway\, 5930 W Greenway Rd\, Glendale\, AZ\, 85306\, United States
CATEGORIES:Live Music
ATTACH;FMTTYPE=image/jpeg:https://kimmyzongreenway.com/wp-content/uploads/2025/02/2874678976889988305.jpg
END:VEVENT
BEGIN:VEVENT
DTSTART;TZID=America/Denver:20250504T110000
DTEND;TZID=America/Denver:20250504T210000
DTSTAMP:20260422T152501
CREATED:20250213T172225Z
LAST-MODIFIED:20250213T213552Z
UID:10003153-1746356400-1746392400@kimmyzongreenway.com
SUMMARY:Meatloaf Monday
DESCRIPTION:Homemade meatloaf served with mashed potatoes\, gravy\, corn & a dinner roll.
URL:https://kimmyzongreenway.com/event/meatloaf-monday/2025-05-04/
LOCATION:Kimmyz on Greenway\, 5930 W Greenway Rd\, Glendale\, AZ\, 85306\, United States
CATEGORIES:Food Specials
ATTACH;FMTTYPE=image/png:https://kimmyzongreenway.com/wp-content/uploads/2025/02/Screenshot-2025-02-13-at-10.20.59 AM.png
END:VEVENT
BEGIN:VEVENT
DTSTART;TZID=America/Denver:20250504T110000
DTEND;TZID=America/Denver:20250504T210000
DTSTAMP:20260422T152501
CREATED:20250213T171734Z
LAST-MODIFIED:20250213T213655Z
UID:10003415-1746356400-1746392400@kimmyzongreenway.com
SUMMARY:French Dip Sunday
DESCRIPTION:French Dip sandwich served with French Fries
URL:https://kimmyzongreenway.com/event/french-dip-sunday/2025-05-04/
LOCATION:Kimmyz on Greenway\, 5930 W Greenway Rd\, Glendale\, AZ\, 85306\, United States
CATEGORIES:Food Specials
ATTACH;FMTTYPE=image/png:https://kimmyzongreenway.com/wp-content/uploads/2025/02/Screenshot-2025-02-13-at-10.14.27 AM.png
END:VEVENT
BEGIN:VEVENT
DTSTART;TZID=America/Phoenix:20250503T200000
DTEND;TZID=America/Phoenix:20250504T000000
DTSTAMP:20260422T152501
CREATED:20250215T003202Z
LAST-MODIFIED:20260102T050232Z
UID:10004091-1746302400-1746316800@kimmyzongreenway.com
SUMMARY:Friendly Jesture
DESCRIPTION:Join us for the best live music in Glendale as Friendly Jesture takes the stage.  \n 
URL:https://kimmyzongreenway.com/event/friendly-jesture/2025-05-03/
LOCATION:Kimmyz on Greenway\, 5930 W Greenway Rd\, Glendale\, AZ\, 85306\, United States
CATEGORIES:Live Music
ATTACH;FMTTYPE=image/png:https://kimmyzongreenway.com/wp-content/uploads/2025/02/Screenshot-2025-02-14-at-5.29.52 PM.png
END:VEVENT
END:VCALENDAR