BEGIN:VCALENDAR
VERSION:2.0
PRODID:-//Kimmyz on Greenway - ECPv6.15.20//NONSGML v1.0//EN
CALSCALE:GREGORIAN
METHOD:PUBLISH
X-ORIGINAL-URL:https://kimmyzongreenway.com
X-WR-CALDESC:Events for Kimmyz on Greenway
REFRESH-INTERVAL;VALUE=DURATION:PT1H
X-Robots-Tag:noindex
X-PUBLISHED-TTL:PT1H
BEGIN:VTIMEZONE
TZID:America/Denver
BEGIN:DAYLIGHT
TZOFFSETFROM:-0700
TZOFFSETTO:-0600
TZNAME:MDT
DTSTART:20240310T090000
END:DAYLIGHT
BEGIN:STANDARD
TZOFFSETFROM:-0600
TZOFFSETTO:-0700
TZNAME:MST
DTSTART:20241103T080000
END:STANDARD
BEGIN:DAYLIGHT
TZOFFSETFROM:-0700
TZOFFSETTO:-0600
TZNAME:MDT
DTSTART:20250309T090000
END:DAYLIGHT
BEGIN:STANDARD
TZOFFSETFROM:-0600
TZOFFSETTO:-0700
TZNAME:MST
DTSTART:20251102T080000
END:STANDARD
BEGIN:DAYLIGHT
TZOFFSETFROM:-0700
TZOFFSETTO:-0600
TZNAME:MDT
DTSTART:20260308T090000
END:DAYLIGHT
BEGIN:STANDARD
TZOFFSETFROM:-0600
TZOFFSETTO:-0700
TZNAME:MST
DTSTART:20261101T080000
END:STANDARD
END:VTIMEZONE
BEGIN:VTIMEZONE
TZID:America/Phoenix
BEGIN:STANDARD
TZOFFSETFROM:-0700
TZOFFSETTO:-0700
TZNAME:MST
DTSTART:20240101T000000
END:STANDARD
END:VTIMEZONE
BEGIN:VEVENT
DTSTART;TZID=America/Denver:20250617T110000
DTEND;TZID=America/Denver:20250617T210000
DTSTAMP:20260419T151736
CREATED:20250213T172529Z
LAST-MODIFIED:20250213T213516Z
UID:10002897-1750158000-1750194000@kimmyzongreenway.com
SUMMARY:Taco Tuesday
DESCRIPTION:Three tacos (your choice of ground beef\, steak\, fish\, or chicken) served with fresh chips and salsa.  \n 
URL:https://kimmyzongreenway.com/event/taco-tuesday/2025-06-17/
LOCATION:Kimmyz on Greenway\, 5930 W Greenway Rd\, Glendale\, AZ\, 85306\, United States
CATEGORIES:Food Specials
ATTACH;FMTTYPE=image/jpeg:https://kimmyzongreenway.com/wp-content/uploads/2025/02/chantel-E2n6-GuBGYo-unsplash-scaled.jpg
END:VEVENT
BEGIN:VEVENT
DTSTART;TZID=America/Denver:20250617T190000
DTEND;TZID=America/Denver:20250617T220000
DTSTAMP:20260419T151736
CREATED:20250213T160301Z
LAST-MODIFIED:20250213T160301Z
UID:10000019-1750186800-1750197600@kimmyzongreenway.com
SUMMARY:Open Mic
DESCRIPTION:It’s your turn to take the stage! Bring your instrument(s) and showcase what you got every Tuesday at the home of the best live music in Glendale\, AZ.
URL:https://kimmyzongreenway.com/event/open-mic/2025-06-17/
LOCATION:Kimmyz on Greenway\, 5930 W Greenway Rd\, Glendale\, AZ\, 85306\, United States
CATEGORIES:Live Music
ATTACH;FMTTYPE=image/jpeg:https://kimmyzongreenway.com/wp-content/uploads/2025/02/audio-2941753_1920.jpg
END:VEVENT
BEGIN:VEVENT
DTSTART;TZID=America/Denver:20250618T110000
DTEND;TZID=America/Denver:20250618T210000
DTSTAMP:20260419T151736
CREATED:20250213T172729Z
LAST-MODIFIED:20250213T213423Z
UID:10002635-1750244400-1750280400@kimmyzongreenway.com
SUMMARY:Burger & Beer Wednesday
DESCRIPTION:Our classic juicy burger served with French Fries and a pint of domestic beer or soda. 
URL:https://kimmyzongreenway.com/event/burger-beer-wednesday/2025-06-18/
LOCATION:Kimmyz on Greenway\, 5930 W Greenway Rd\, Glendale\, AZ\, 85306\, United States
CATEGORIES:Food Specials
ATTACH;FMTTYPE=image/jpeg:https://kimmyzongreenway.com/wp-content/uploads/2025/02/3.jpg
END:VEVENT
BEGIN:VEVENT
DTSTART;TZID=America/Phoenix:20250618T190000
DTEND;TZID=America/Phoenix:20250618T220000
DTSTAMP:20260419T151736
CREATED:20250405T011024Z
LAST-MODIFIED:20260204T180535Z
UID:10004115-1750273200-1750284000@kimmyzongreenway.com
SUMMARY:Ben Chapman
DESCRIPTION:Join us for the best live music in Glendale as Ben Chapman takes the stage.  \n 
URL:https://kimmyzongreenway.com/event/ben-chapman/2025-06-18/
LOCATION:Kimmyz on Greenway\, 5930 W Greenway Rd\, Glendale\, AZ\, 85306\, United States
CATEGORIES:Live Music
ATTACH;FMTTYPE=image/png:https://kimmyzongreenway.com/wp-content/uploads/2025/04/Screenshot-2025-04-04-at-6.06.58 PM.png
END:VEVENT
BEGIN:VEVENT
DTSTART;VALUE=DATE:20250619
DTEND;VALUE=DATE:20250621
DTSTAMP:20260419T151736
CREATED:20250225T234027Z
LAST-MODIFIED:20250225T234027Z
UID:10003690-1750294800-1750381199@kimmyzongreenway.com
SUMMARY:Bike Night
DESCRIPTION:We are your premiere biker friendly bar! Join us for biker specials\, live music & events every Thursday. (Sponsored by Arrowhead Harley-Davidson)
URL:https://kimmyzongreenway.com/event/bike-night/2025-06-19/
LOCATION:Kimmyz on Greenway\, 5930 W Greenway Rd\, Glendale\, AZ\, 85306\, United States
CATEGORIES:Live Music,Special Events
ATTACH;FMTTYPE=image/jpeg:https://kimmyzongreenway.com/wp-content/uploads/2025/02/motorcycle-7539871_1280.jpg
END:VEVENT
BEGIN:VEVENT
DTSTART;TZID=America/Denver:20250619T110000
DTEND;TZID=America/Denver:20250619T210000
DTSTAMP:20260419T151736
CREATED:20250213T173133Z
LAST-MODIFIED:20250213T213309Z
UID:10002114-1750330800-1750366800@kimmyzongreenway.com
SUMMARY:Philly Thursday
DESCRIPTION:Philly cheese steak sandwich served with French Fries and a pint of domestic beer or soda.  \n 
URL:https://kimmyzongreenway.com/event/philly-thursday/2025-06-19/
LOCATION:Kimmyz on Greenway\, 5930 W Greenway Rd\, Glendale\, AZ\, 85306\, United States
CATEGORIES:Food Specials
ATTACH;FMTTYPE=image/jpeg:https://kimmyzongreenway.com/wp-content/uploads/2025/02/snappr-IKsF2Nfh9NY-unsplash-scaled.jpg
END:VEVENT
BEGIN:VEVENT
DTSTART;TZID=America/Phoenix:20250619T180000
DTEND;TZID=America/Phoenix:20250619T210000
DTSTAMP:20260419T151736
CREATED:20250611T001150Z
LAST-MODIFIED:20260206T045357Z
UID:10004120-1750356000-1750366800@kimmyzongreenway.com
SUMMARY:Acoustic Crown Kings (Casey & Jay)
DESCRIPTION:Join us for the best live music in Glendale as Casey & Jay brings you an acoustic version of the Crown Kings!
URL:https://kimmyzongreenway.com/event/acoustic-crown-kings-casey-a-friend/2025-06-19/
LOCATION:Kimmyz on Greenway\, 5930 W Greenway Rd\, Glendale\, AZ\, 85306\, United States
CATEGORIES:Live Music
ATTACH;FMTTYPE=image/jpeg:https://kimmyzongreenway.com/wp-content/uploads/2025/06/56558639_10218621956721424_8681263094409723904_n.jpg
END:VEVENT
BEGIN:VEVENT
DTSTART;TZID=America/Denver:20250620T110000
DTEND;TZID=America/Denver:20250620T220000
DTSTAMP:20260419T151736
CREATED:20250213T173428Z
LAST-MODIFIED:20250213T213339Z
UID:10002374-1750417200-1750456800@kimmyzongreenway.com
SUMMARY:Fish Fry Friday
DESCRIPTION:Fish Fry Friday:\n \n   All you can eat fish fry – $18.99 \n   Fish Fry Basket – $14.99 \n   Fish & Shrimp Basket – $16.99 \n 
URL:https://kimmyzongreenway.com/event/fish-fry-friday/2025-06-20/
LOCATION:Kimmyz on Greenway\, 5930 W Greenway Rd\, Glendale\, AZ\, 85306\, United States
CATEGORIES:Food Specials
ATTACH;FMTTYPE=image/jpeg:https://kimmyzongreenway.com/wp-content/uploads/2025/02/davey-gravy-YpQGo0QTshE-unsplash-scaled.jpg
END:VEVENT
BEGIN:VEVENT
DTSTART;TZID=America/Phoenix:20250620T200000
DTEND;TZID=America/Phoenix:20250621T000000
DTSTAMP:20260419T151736
CREATED:20250225T234622Z
LAST-MODIFIED:20250601T005133Z
UID:10004116-1750449600-1750464000@kimmyzongreenway.com
SUMMARY:Menace Mary
DESCRIPTION:Join us for the best live music in Glendale as Band of Fools takes the stage followed by the Menace Mary.  \n 
URL:https://kimmyzongreenway.com/event/menace-mary-band-of-fools/2025-06-20/
LOCATION:Kimmyz on Greenway\, 5930 W Greenway Rd\, Glendale\, AZ\, 85306\, United States
CATEGORIES:Live Music
ATTACH;FMTTYPE=image/jpeg:https://kimmyzongreenway.com/wp-content/uploads/2025/02/461187052_122167905374176455_6142555566053957499_n.jpg
END:VEVENT
BEGIN:VEVENT
DTSTART;TZID=America/Denver:20250621T110000
DTEND;TZID=America/Denver:20250621T220000
DTSTAMP:20260419T151736
CREATED:20250213T175029Z
LAST-MODIFIED:20250213T213141Z
UID:10001853-1750503600-1750543200@kimmyzongreenway.com
SUMMARY:Reuben Sandwich Saturday
DESCRIPTION:Reuben sandwich served with French Fries.  \n 
URL:https://kimmyzongreenway.com/event/reuben-sandwich-saturday/2025-06-21/
LOCATION:Kimmyz on Greenway\, 5930 W Greenway Rd\, Glendale\, AZ\, 85306\, United States
CATEGORIES:Food Specials
ATTACH;FMTTYPE=image/png:https://kimmyzongreenway.com/wp-content/uploads/2025/02/Screenshot-2025-02-13-at-10.13.40 AM.png
END:VEVENT
BEGIN:VEVENT
DTSTART;TZID=America/Phoenix:20250621T200000
DTEND;TZID=America/Phoenix:20250622T000000
DTSTAMP:20260419T151736
CREATED:20250405T010607Z
LAST-MODIFIED:20260206T043857Z
UID:10004117-1750536000-1750550400@kimmyzongreenway.com
SUMMARY:Hotwired
DESCRIPTION:Join us for the best live music in Glendale as Hotwired takes the stage.  \n 
URL:https://kimmyzongreenway.com/event/hotwired/2025-06-21/
LOCATION:Kimmyz on Greenway\, 5930 W Greenway Rd\, Glendale\, AZ\, 85306\, United States
CATEGORIES:Live Music
ATTACH;FMTTYPE=image/png:https://kimmyzongreenway.com/wp-content/uploads/2025/04/Screenshot-2025-04-04-at-6.04.34 PM.png
END:VEVENT
BEGIN:VEVENT
DTSTART;TZID=America/Denver:20250622T110000
DTEND;TZID=America/Denver:20250622T210000
DTSTAMP:20260419T151736
CREATED:20250213T171734Z
LAST-MODIFIED:20250213T213655Z
UID:10003422-1750590000-1750626000@kimmyzongreenway.com
SUMMARY:French Dip Sunday
DESCRIPTION:French Dip sandwich served with French Fries
URL:https://kimmyzongreenway.com/event/french-dip-sunday/2025-06-22/
LOCATION:Kimmyz on Greenway\, 5930 W Greenway Rd\, Glendale\, AZ\, 85306\, United States
CATEGORIES:Food Specials
ATTACH;FMTTYPE=image/png:https://kimmyzongreenway.com/wp-content/uploads/2025/02/Screenshot-2025-02-13-at-10.14.27 AM.png
END:VEVENT
BEGIN:VEVENT
DTSTART;TZID=America/Denver:20250622T110000
DTEND;TZID=America/Denver:20250622T210000
DTSTAMP:20260419T151736
CREATED:20250213T172225Z
LAST-MODIFIED:20250213T213552Z
UID:10003160-1750590000-1750626000@kimmyzongreenway.com
SUMMARY:Meatloaf Monday
DESCRIPTION:Homemade meatloaf served with mashed potatoes\, gravy\, corn & a dinner roll.
URL:https://kimmyzongreenway.com/event/meatloaf-monday/2025-06-22/
LOCATION:Kimmyz on Greenway\, 5930 W Greenway Rd\, Glendale\, AZ\, 85306\, United States
CATEGORIES:Food Specials
ATTACH;FMTTYPE=image/png:https://kimmyzongreenway.com/wp-content/uploads/2025/02/Screenshot-2025-02-13-at-10.20.59 AM.png
END:VEVENT
BEGIN:VEVENT
DTSTART;TZID=America/Phoenix:20250622T150000
DTEND;TZID=America/Phoenix:20250622T180000
DTSTAMP:20260419T151736
CREATED:20250405T011740Z
LAST-MODIFIED:20260204T005602Z
UID:10004113-1750604400-1750615200@kimmyzongreenway.com
SUMMARY:Grunge Sponges
DESCRIPTION:Join us for the best live music in Glendale as Grunge Sponges takes the stage.  \n 
URL:https://kimmyzongreenway.com/event/grunge-sponges/2025-06-22/
LOCATION:Kimmyz on Greenway\, 5930 W Greenway Rd\, Glendale\, AZ\, 85306\, United States
CATEGORIES:Live Music
ATTACH;FMTTYPE=image/png:https://kimmyzongreenway.com/wp-content/uploads/2025/04/grunge-sponges-logo-green.png
END:VEVENT
BEGIN:VEVENT
DTSTART;TZID=America/Denver:20250623T190000
DTEND;TZID=America/Denver:20250623T220000
DTSTAMP:20260419T151736
CREATED:20250213T160657Z
LAST-MODIFIED:20250213T160657Z
UID:10000282-1750705200-1750716000@kimmyzongreenway.com
SUMMARY:Karaoke
DESCRIPTION:Pick a song\, grab the mic\, and show off your pipes! Join us for the best Karaoke in Glendale every Monday night.
URL:https://kimmyzongreenway.com/event/karaoke/2025-06-23/
LOCATION:Kimmyz on Greenway\, 5930 W Greenway Rd\, Glendale\, AZ\, 85306\, United States
CATEGORIES:Live Music
ATTACH;FMTTYPE=image/jpeg:https://kimmyzongreenway.com/wp-content/uploads/2025/02/microphone-4547633_1920.jpg
END:VEVENT
BEGIN:VEVENT
DTSTART;TZID=America/Denver:20250624T110000
DTEND;TZID=America/Denver:20250624T210000
DTSTAMP:20260419T151736
CREATED:20250213T172529Z
LAST-MODIFIED:20250213T213516Z
UID:10002898-1750762800-1750798800@kimmyzongreenway.com
SUMMARY:Taco Tuesday
DESCRIPTION:Three tacos (your choice of ground beef\, steak\, fish\, or chicken) served with fresh chips and salsa.  \n 
URL:https://kimmyzongreenway.com/event/taco-tuesday/2025-06-24/
LOCATION:Kimmyz on Greenway\, 5930 W Greenway Rd\, Glendale\, AZ\, 85306\, United States
CATEGORIES:Food Specials
ATTACH;FMTTYPE=image/jpeg:https://kimmyzongreenway.com/wp-content/uploads/2025/02/chantel-E2n6-GuBGYo-unsplash-scaled.jpg
END:VEVENT
BEGIN:VEVENT
DTSTART;TZID=America/Denver:20250624T190000
DTEND;TZID=America/Denver:20250624T220000
DTSTAMP:20260419T151736
CREATED:20250213T160301Z
LAST-MODIFIED:20250213T160301Z
UID:10000020-1750791600-1750802400@kimmyzongreenway.com
SUMMARY:Open Mic
DESCRIPTION:It’s your turn to take the stage! Bring your instrument(s) and showcase what you got every Tuesday at the home of the best live music in Glendale\, AZ.
URL:https://kimmyzongreenway.com/event/open-mic/2025-06-24/
LOCATION:Kimmyz on Greenway\, 5930 W Greenway Rd\, Glendale\, AZ\, 85306\, United States
CATEGORIES:Live Music
ATTACH;FMTTYPE=image/jpeg:https://kimmyzongreenway.com/wp-content/uploads/2025/02/audio-2941753_1920.jpg
END:VEVENT
BEGIN:VEVENT
DTSTART;TZID=America/Denver:20250625T110000
DTEND;TZID=America/Denver:20250625T210000
DTSTAMP:20260419T151736
CREATED:20250213T172729Z
LAST-MODIFIED:20250213T213423Z
UID:10002636-1750849200-1750885200@kimmyzongreenway.com
SUMMARY:Burger & Beer Wednesday
DESCRIPTION:Our classic juicy burger served with French Fries and a pint of domestic beer or soda. 
URL:https://kimmyzongreenway.com/event/burger-beer-wednesday/2025-06-25/
LOCATION:Kimmyz on Greenway\, 5930 W Greenway Rd\, Glendale\, AZ\, 85306\, United States
CATEGORIES:Food Specials
ATTACH;FMTTYPE=image/jpeg:https://kimmyzongreenway.com/wp-content/uploads/2025/02/3.jpg
END:VEVENT
BEGIN:VEVENT
DTSTART;TZID=America/Phoenix:20250625T190000
DTEND;TZID=America/Phoenix:20250625T220000
DTSTAMP:20260419T151736
CREATED:20250611T002126Z
LAST-MODIFIED:20250611T002126Z
UID:10004123-1750878000-1750888800@kimmyzongreenway.com
SUMMARY:Cody Mitchael
DESCRIPTION:Join us for the best live music in Glendale as Cody Mitchael takes the stage.
URL:https://kimmyzongreenway.com/event/cody-mitchael/
LOCATION:Kimmyz on Greenway\, 5930 W Greenway Rd\, Glendale\, AZ\, 85306\, United States
CATEGORIES:Live Music
ATTACH;FMTTYPE=image/jpeg:https://kimmyzongreenway.com/wp-content/uploads/2025/06/489849223_18263359708279405_7500237403277879758_n.jpg
END:VEVENT
BEGIN:VEVENT
DTSTART;VALUE=DATE:20250626
DTEND;VALUE=DATE:20250628
DTSTAMP:20260419T151736
CREATED:20250225T234027Z
LAST-MODIFIED:20250225T234027Z
UID:10003691-1750899600-1750985999@kimmyzongreenway.com
SUMMARY:Bike Night
DESCRIPTION:We are your premiere biker friendly bar! Join us for biker specials\, live music & events every Thursday. (Sponsored by Arrowhead Harley-Davidson)
URL:https://kimmyzongreenway.com/event/bike-night/2025-06-26/
LOCATION:Kimmyz on Greenway\, 5930 W Greenway Rd\, Glendale\, AZ\, 85306\, United States
CATEGORIES:Live Music,Special Events
ATTACH;FMTTYPE=image/jpeg:https://kimmyzongreenway.com/wp-content/uploads/2025/02/motorcycle-7539871_1280.jpg
END:VEVENT
BEGIN:VEVENT
DTSTART;TZID=America/Denver:20250626T110000
DTEND;TZID=America/Denver:20250626T210000
DTSTAMP:20260419T151736
CREATED:20250213T173133Z
LAST-MODIFIED:20250213T213309Z
UID:10002115-1750935600-1750971600@kimmyzongreenway.com
SUMMARY:Philly Thursday
DESCRIPTION:Philly cheese steak sandwich served with French Fries and a pint of domestic beer or soda.  \n 
URL:https://kimmyzongreenway.com/event/philly-thursday/2025-06-26/
LOCATION:Kimmyz on Greenway\, 5930 W Greenway Rd\, Glendale\, AZ\, 85306\, United States
CATEGORIES:Food Specials
ATTACH;FMTTYPE=image/jpeg:https://kimmyzongreenway.com/wp-content/uploads/2025/02/snappr-IKsF2Nfh9NY-unsplash-scaled.jpg
END:VEVENT
BEGIN:VEVENT
DTSTART;TZID=America/Phoenix:20250626T190000
DTEND;TZID=America/Phoenix:20250626T220000
DTSTAMP:20260419T151736
CREATED:20250225T233159Z
LAST-MODIFIED:20260327T010738Z
UID:10004121-1750964400-1750975200@kimmyzongreenway.com
SUMMARY:Bill Gower & Ethan Foxx
DESCRIPTION:Join us for the best live music in Glendale as Bill & Ethan take the stage. Ethan is the lead singer of Tripwire. Come catch this acoustic performance.
URL:https://kimmyzongreenway.com/event/bill-ethan/2025-06-26/
LOCATION:Kimmyz on Greenway\, 5930 W Greenway Rd\, Glendale\, AZ\, 85306\, United States
CATEGORIES:Live Music
ATTACH;FMTTYPE=image/png:https://kimmyzongreenway.com/wp-content/uploads/2025/02/Screenshot-2025-02-25-at-4.01.41 PM.png
END:VEVENT
BEGIN:VEVENT
DTSTART;TZID=America/Denver:20250627T110000
DTEND;TZID=America/Denver:20250627T220000
DTSTAMP:20260419T151736
CREATED:20250213T173428Z
LAST-MODIFIED:20250213T213339Z
UID:10002375-1751022000-1751061600@kimmyzongreenway.com
SUMMARY:Fish Fry Friday
DESCRIPTION:Fish Fry Friday:\n \n   All you can eat fish fry – $18.99 \n   Fish Fry Basket – $14.99 \n   Fish & Shrimp Basket – $16.99 \n 
URL:https://kimmyzongreenway.com/event/fish-fry-friday/2025-06-27/
LOCATION:Kimmyz on Greenway\, 5930 W Greenway Rd\, Glendale\, AZ\, 85306\, United States
CATEGORIES:Food Specials
ATTACH;FMTTYPE=image/jpeg:https://kimmyzongreenway.com/wp-content/uploads/2025/02/davey-gravy-YpQGo0QTshE-unsplash-scaled.jpg
END:VEVENT
BEGIN:VEVENT
DTSTART;TZID=America/Phoenix:20250627T200000
DTEND;TZID=America/Phoenix:20250628T000000
DTSTAMP:20260419T151736
CREATED:20250215T002907Z
LAST-MODIFIED:20260206T044909Z
UID:10004118-1751054400-1751068800@kimmyzongreenway.com
SUMMARY:Salt River Steel
DESCRIPTION:Join us for the best live music in Glendale as Salt River Steel takes the stage.  \n 
URL:https://kimmyzongreenway.com/event/salt-river-steel/2025-06-27/
LOCATION:Kimmyz on Greenway\, 5930 W Greenway Rd\, Glendale\, AZ\, 85306\, United States
CATEGORIES:Live Music
ATTACH;FMTTYPE=image/png:https://kimmyzongreenway.com/wp-content/uploads/2025/02/Screenshot-2025-02-14-at-4.49.40 PM.png
END:VEVENT
BEGIN:VEVENT
DTSTART;TZID=America/Denver:20250628T110000
DTEND;TZID=America/Denver:20250628T220000
DTSTAMP:20260419T151736
CREATED:20250213T175029Z
LAST-MODIFIED:20250213T213141Z
UID:10001854-1751108400-1751148000@kimmyzongreenway.com
SUMMARY:Reuben Sandwich Saturday
DESCRIPTION:Reuben sandwich served with French Fries.  \n 
URL:https://kimmyzongreenway.com/event/reuben-sandwich-saturday/2025-06-28/
LOCATION:Kimmyz on Greenway\, 5930 W Greenway Rd\, Glendale\, AZ\, 85306\, United States
CATEGORIES:Food Specials
ATTACH;FMTTYPE=image/png:https://kimmyzongreenway.com/wp-content/uploads/2025/02/Screenshot-2025-02-13-at-10.13.40 AM.png
END:VEVENT
BEGIN:VEVENT
DTSTART;TZID=America/Phoenix:20250628T200000
DTEND;TZID=America/Phoenix:20250629T000000
DTSTAMP:20260419T151736
CREATED:20250226T004445Z
LAST-MODIFIED:20260206T044451Z
UID:10004119-1751140800-1751155200@kimmyzongreenway.com
SUMMARY:Organ Grinder
DESCRIPTION:Join us for the best live music in Glendale as Organ Grinder takes the stage.
URL:https://kimmyzongreenway.com/event/organ-grinder/2025-06-28/
LOCATION:Kimmyz on Greenway\, 5930 W Greenway Rd\, Glendale\, AZ\, 85306\, United States
CATEGORIES:Live Music
ATTACH;FMTTYPE=image/png:https://kimmyzongreenway.com/wp-content/uploads/2025/02/Screenshot-2025-02-25-at-3.44.32 PM.png
END:VEVENT
BEGIN:VEVENT
DTSTART;TZID=America/Denver:20250629T110000
DTEND;TZID=America/Denver:20250629T210000
DTSTAMP:20260419T151736
CREATED:20250213T171734Z
LAST-MODIFIED:20250213T213655Z
UID:10003423-1751194800-1751230800@kimmyzongreenway.com
SUMMARY:French Dip Sunday
DESCRIPTION:French Dip sandwich served with French Fries
URL:https://kimmyzongreenway.com/event/french-dip-sunday/2025-06-29/
LOCATION:Kimmyz on Greenway\, 5930 W Greenway Rd\, Glendale\, AZ\, 85306\, United States
CATEGORIES:Food Specials
ATTACH;FMTTYPE=image/png:https://kimmyzongreenway.com/wp-content/uploads/2025/02/Screenshot-2025-02-13-at-10.14.27 AM.png
END:VEVENT
BEGIN:VEVENT
DTSTART;TZID=America/Denver:20250629T110000
DTEND;TZID=America/Denver:20250629T210000
DTSTAMP:20260419T151736
CREATED:20250213T172225Z
LAST-MODIFIED:20250213T213552Z
UID:10003161-1751194800-1751230800@kimmyzongreenway.com
SUMMARY:Meatloaf Monday
DESCRIPTION:Homemade meatloaf served with mashed potatoes\, gravy\, corn & a dinner roll.
URL:https://kimmyzongreenway.com/event/meatloaf-monday/2025-06-29/
LOCATION:Kimmyz on Greenway\, 5930 W Greenway Rd\, Glendale\, AZ\, 85306\, United States
CATEGORIES:Food Specials
ATTACH;FMTTYPE=image/png:https://kimmyzongreenway.com/wp-content/uploads/2025/02/Screenshot-2025-02-13-at-10.20.59 AM.png
END:VEVENT
BEGIN:VEVENT
DTSTART;TZID=America/Phoenix:20250629T150000
DTEND;TZID=America/Phoenix:20250629T180000
DTSTAMP:20260419T151736
CREATED:20250611T001628Z
LAST-MODIFIED:20250611T001628Z
UID:10004122-1751209200-1751220000@kimmyzongreenway.com
SUMMARY:Chuck Hall
DESCRIPTION:Join us for the best live music in Glendale as Chuck Hall takes the stage.
URL:https://kimmyzongreenway.com/event/chuck-hall/
LOCATION:Kimmyz on Greenway\, 5930 W Greenway Rd\, Glendale\, AZ\, 85306\, United States
CATEGORIES:Live Music
ATTACH;FMTTYPE=image/jpeg:https://kimmyzongreenway.com/wp-content/uploads/2025/06/499538425_1276262364499463_5143965663406209089_n.jpg
END:VEVENT
BEGIN:VEVENT
DTSTART;TZID=America/Phoenix:20250630T080000
DTEND;TZID=America/Phoenix:20250630T170000
DTSTAMP:20260419T151736
CREATED:20250701T041553Z
LAST-MODIFIED:20260327T010506Z
UID:10004124-1751270400-1751302800@kimmyzongreenway.com
SUMMARY:Live Music (Artist Information Coming Soon)
DESCRIPTION:Check back to see who will take the stage at the home of the best live music in Glendale.
URL:https://kimmyzongreenway.com/event/live-music-artist-information-coming-soon/2025-06-30/
LOCATION:Kimmyz on Greenway\, 5930 W Greenway Rd\, Glendale\, AZ\, 85306\, United States
CATEGORIES:Live Music
ATTACH;FMTTYPE=image/jpeg:https://kimmyzongreenway.com/wp-content/uploads/2025/06/LiveMusicTBD_01-1.jpg
END:VEVENT
END:VCALENDAR