BEGIN:VCALENDAR
VERSION:2.0
PRODID:-//Kimmyz on Greenway - ECPv6.15.20//NONSGML v1.0//EN
CALSCALE:GREGORIAN
METHOD:PUBLISH
X-WR-CALNAME:Kimmyz on Greenway
X-ORIGINAL-URL:https://kimmyzongreenway.com
X-WR-CALDESC:Events for Kimmyz on Greenway
REFRESH-INTERVAL;VALUE=DURATION:PT1H
X-Robots-Tag:noindex
X-PUBLISHED-TTL:PT1H
BEGIN:VTIMEZONE
TZID:America/Phoenix
BEGIN:STANDARD
TZOFFSETFROM:-0700
TZOFFSETTO:-0700
TZNAME:MST
DTSTART:20250101T000000
END:STANDARD
END:VTIMEZONE
BEGIN:VTIMEZONE
TZID:America/Denver
BEGIN:DAYLIGHT
TZOFFSETFROM:-0700
TZOFFSETTO:-0600
TZNAME:MDT
DTSTART:20250309T090000
END:DAYLIGHT
BEGIN:STANDARD
TZOFFSETFROM:-0600
TZOFFSETTO:-0700
TZNAME:MST
DTSTART:20251102T080000
END:STANDARD
BEGIN:DAYLIGHT
TZOFFSETFROM:-0700
TZOFFSETTO:-0600
TZNAME:MDT
DTSTART:20260308T090000
END:DAYLIGHT
BEGIN:STANDARD
TZOFFSETFROM:-0600
TZOFFSETTO:-0700
TZNAME:MST
DTSTART:20261101T080000
END:STANDARD
BEGIN:DAYLIGHT
TZOFFSETFROM:-0700
TZOFFSETTO:-0600
TZNAME:MDT
DTSTART:20270314T090000
END:DAYLIGHT
BEGIN:STANDARD
TZOFFSETFROM:-0600
TZOFFSETTO:-0700
TZNAME:MST
DTSTART:20271107T080000
END:STANDARD
END:VTIMEZONE
BEGIN:VEVENT
DTSTART;VALUE=DATE:20260402
DTEND;VALUE=DATE:20260404
DTSTAMP:20260419T112208
CREATED:20250225T234027Z
LAST-MODIFIED:20250225T234027Z
UID:10003731-1775091600-1775177999@kimmyzongreenway.com
SUMMARY:Bike Night
DESCRIPTION:We are your premiere biker friendly bar! Join us for biker specials\, live music & events every Thursday. (Sponsored by Arrowhead Harley-Davidson)
URL:https://kimmyzongreenway.com/event/bike-night/2026-04-02/
LOCATION:Kimmyz on Greenway\, 5930 W Greenway Rd\, Glendale\, AZ\, 85306\, United States
CATEGORIES:Live Music,Special Events
ATTACH;FMTTYPE=image/jpeg:https://kimmyzongreenway.com/wp-content/uploads/2025/02/motorcycle-7539871_1280.jpg
END:VEVENT
BEGIN:VEVENT
DTSTART;TZID=America/Denver:20260402T110000
DTEND;TZID=America/Denver:20260402T210000
DTSTAMP:20260419T112208
CREATED:20250213T173133Z
LAST-MODIFIED:20250213T213309Z
UID:10002155-1775127600-1775163600@kimmyzongreenway.com
SUMMARY:Philly Thursday
DESCRIPTION:Philly cheese steak sandwich served with French Fries and a pint of domestic beer or soda.  \n 
URL:https://kimmyzongreenway.com/event/philly-thursday/2026-04-02/
LOCATION:Kimmyz on Greenway\, 5930 W Greenway Rd\, Glendale\, AZ\, 85306\, United States
CATEGORIES:Food Specials
ATTACH;FMTTYPE=image/jpeg:https://kimmyzongreenway.com/wp-content/uploads/2025/02/snappr-IKsF2Nfh9NY-unsplash-scaled.jpg
END:VEVENT
BEGIN:VEVENT
DTSTART;TZID=America/Phoenix:20260402T190000
DTEND;TZID=America/Phoenix:20260402T220000
DTSTAMP:20260419T112208
CREATED:20250226T002256Z
LAST-MODIFIED:20260327T011107Z
UID:10004495-1775156400-1775167200@kimmyzongreenway.com
SUMMARY:Chuck & Michael
DESCRIPTION:Join us for the best live music in Glendale as Chuck & Michael take the stage.  \n 
URL:https://kimmyzongreenway.com/event/chuck-michael/2026-04-02/
LOCATION:Kimmyz on Greenway\, 5930 W Greenway Rd\, Glendale\, AZ\, 85306\, United States
CATEGORIES:Live Music
ATTACH;FMTTYPE=image/jpeg:https://kimmyzongreenway.com/wp-content/uploads/2025/02/2874678976889988305.jpg
END:VEVENT
END:VCALENDAR