BEGIN:VCALENDAR
VERSION:2.0
PRODID:-//Kimmyz on Greenway - ECPv6.15.20//NONSGML v1.0//EN
CALSCALE:GREGORIAN
METHOD:PUBLISH
X-WR-CALNAME:Kimmyz on Greenway
X-ORIGINAL-URL:https://kimmyzongreenway.com
X-WR-CALDESC:Events for Kimmyz on Greenway
REFRESH-INTERVAL;VALUE=DURATION:PT1H
X-Robots-Tag:noindex
X-PUBLISHED-TTL:PT1H
BEGIN:VTIMEZONE
TZID:America/Denver
BEGIN:DAYLIGHT
TZOFFSETFROM:-0700
TZOFFSETTO:-0600
TZNAME:MDT
DTSTART:20250309T090000
END:DAYLIGHT
BEGIN:STANDARD
TZOFFSETFROM:-0600
TZOFFSETTO:-0700
TZNAME:MST
DTSTART:20251102T080000
END:STANDARD
BEGIN:DAYLIGHT
TZOFFSETFROM:-0700
TZOFFSETTO:-0600
TZNAME:MDT
DTSTART:20260308T090000
END:DAYLIGHT
BEGIN:STANDARD
TZOFFSETFROM:-0600
TZOFFSETTO:-0700
TZNAME:MST
DTSTART:20261101T080000
END:STANDARD
BEGIN:DAYLIGHT
TZOFFSETFROM:-0700
TZOFFSETTO:-0600
TZNAME:MDT
DTSTART:20270314T090000
END:DAYLIGHT
BEGIN:STANDARD
TZOFFSETFROM:-0600
TZOFFSETTO:-0700
TZNAME:MST
DTSTART:20271107T080000
END:STANDARD
END:VTIMEZONE
BEGIN:VTIMEZONE
TZID:America/Phoenix
BEGIN:STANDARD
TZOFFSETFROM:-0700
TZOFFSETTO:-0700
TZNAME:MST
DTSTART:20250101T000000
END:STANDARD
END:VTIMEZONE
BEGIN:VEVENT
DTSTART;TZID=America/Denver:20260322T110000
DTEND;TZID=America/Denver:20260322T210000
DTSTAMP:20260419T112308
CREATED:20250213T171734Z
LAST-MODIFIED:20250213T213655Z
UID:10003461-1774177200-1774213200@kimmyzongreenway.com
SUMMARY:French Dip Sunday
DESCRIPTION:French Dip sandwich served with French Fries
URL:https://kimmyzongreenway.com/event/french-dip-sunday/2026-03-22/
LOCATION:Kimmyz on Greenway\, 5930 W Greenway Rd\, Glendale\, AZ\, 85306\, United States
CATEGORIES:Food Specials
ATTACH;FMTTYPE=image/png:https://kimmyzongreenway.com/wp-content/uploads/2025/02/Screenshot-2025-02-13-at-10.14.27 AM.png
END:VEVENT
BEGIN:VEVENT
DTSTART;TZID=America/Phoenix:20260322T160000
DTEND;TZID=America/Phoenix:20260322T190000
DTSTAMP:20260419T112308
CREATED:20250701T041553Z
LAST-MODIFIED:20260327T010506Z
UID:10004536-1774195200-1774206000@kimmyzongreenway.com
SUMMARY:Live Music (Artist Information Coming Soon)
DESCRIPTION:Check back to see who will take the stage at the home of the best live music in Glendale.
URL:https://kimmyzongreenway.com/event/live-music-artist-information-coming-soon/2026-03-22/
LOCATION:Kimmyz on Greenway\, 5930 W Greenway Rd\, Glendale\, AZ\, 85306\, United States
CATEGORIES:Live Music
ATTACH;FMTTYPE=image/jpeg:https://kimmyzongreenway.com/wp-content/uploads/2025/06/LiveMusicTBD_01-1.jpg
END:VEVENT
END:VCALENDAR