BEGIN:VCALENDAR
VERSION:2.0
PRODID:-//Kimmyz on Greenway - ECPv6.15.20//NONSGML v1.0//EN
CALSCALE:GREGORIAN
METHOD:PUBLISH
X-WR-CALNAME:Kimmyz on Greenway
X-ORIGINAL-URL:https://kimmyzongreenway.com
X-WR-CALDESC:Events for Kimmyz on Greenway
REFRESH-INTERVAL;VALUE=DURATION:PT1H
X-Robots-Tag:noindex
X-PUBLISHED-TTL:PT1H
BEGIN:VTIMEZONE
TZID:America/Phoenix
BEGIN:STANDARD
TZOFFSETFROM:-0700
TZOFFSETTO:-0700
TZNAME:MST
DTSTART:20240101T000000
END:STANDARD
END:VTIMEZONE
BEGIN:VTIMEZONE
TZID:America/Denver
BEGIN:DAYLIGHT
TZOFFSETFROM:-0700
TZOFFSETTO:-0600
TZNAME:MDT
DTSTART:20240310T090000
END:DAYLIGHT
BEGIN:STANDARD
TZOFFSETFROM:-0600
TZOFFSETTO:-0700
TZNAME:MST
DTSTART:20241103T080000
END:STANDARD
BEGIN:DAYLIGHT
TZOFFSETFROM:-0700
TZOFFSETTO:-0600
TZNAME:MDT
DTSTART:20250309T090000
END:DAYLIGHT
BEGIN:STANDARD
TZOFFSETFROM:-0600
TZOFFSETTO:-0700
TZNAME:MST
DTSTART:20251102T080000
END:STANDARD
BEGIN:DAYLIGHT
TZOFFSETFROM:-0700
TZOFFSETTO:-0600
TZNAME:MDT
DTSTART:20260308T090000
END:DAYLIGHT
BEGIN:STANDARD
TZOFFSETFROM:-0600
TZOFFSETTO:-0700
TZNAME:MST
DTSTART:20261101T080000
END:STANDARD
END:VTIMEZONE
BEGIN:VEVENT
DTSTART;VALUE=DATE:20250717
DTEND;VALUE=DATE:20250719
DTSTAMP:20260419T112807
CREATED:20250225T234027Z
LAST-MODIFIED:20250225T234027Z
UID:10003694-1752714000-1752800399@kimmyzongreenway.com
SUMMARY:Bike Night
DESCRIPTION:We are your premiere biker friendly bar! Join us for biker specials\, live music & events every Thursday. (Sponsored by Arrowhead Harley-Davidson)
URL:https://kimmyzongreenway.com/event/bike-night/2025-07-17/
LOCATION:Kimmyz on Greenway\, 5930 W Greenway Rd\, Glendale\, AZ\, 85306\, United States
CATEGORIES:Live Music,Special Events
ATTACH;FMTTYPE=image/jpeg:https://kimmyzongreenway.com/wp-content/uploads/2025/02/motorcycle-7539871_1280.jpg
END:VEVENT
BEGIN:VEVENT
DTSTART;TZID=America/Denver:20250717T110000
DTEND;TZID=America/Denver:20250717T210000
DTSTAMP:20260419T112807
CREATED:20250213T173133Z
LAST-MODIFIED:20250213T213309Z
UID:10002118-1752750000-1752786000@kimmyzongreenway.com
SUMMARY:Philly Thursday
DESCRIPTION:Philly cheese steak sandwich served with French Fries and a pint of domestic beer or soda.  \n 
URL:https://kimmyzongreenway.com/event/philly-thursday/2025-07-17/
LOCATION:Kimmyz on Greenway\, 5930 W Greenway Rd\, Glendale\, AZ\, 85306\, United States
CATEGORIES:Food Specials
ATTACH;FMTTYPE=image/jpeg:https://kimmyzongreenway.com/wp-content/uploads/2025/02/snappr-IKsF2Nfh9NY-unsplash-scaled.jpg
END:VEVENT
BEGIN:VEVENT
DTSTART;TZID=America/Phoenix:20250717T190000
DTEND;TZID=America/Phoenix:20250717T220000
DTSTAMP:20260419T112807
CREATED:20250225T233159Z
LAST-MODIFIED:20260327T010738Z
UID:10004139-1752778800-1752789600@kimmyzongreenway.com
SUMMARY:Bill Gower & Ethan Foxx
DESCRIPTION:Join us for the best live music in Glendale as Bill & Ethan take the stage. Ethan is the lead singer of Tripwire. Come catch this acoustic performance.
URL:https://kimmyzongreenway.com/event/bill-ethan/2025-07-17/
LOCATION:Kimmyz on Greenway\, 5930 W Greenway Rd\, Glendale\, AZ\, 85306\, United States
CATEGORIES:Live Music
ATTACH;FMTTYPE=image/png:https://kimmyzongreenway.com/wp-content/uploads/2025/02/Screenshot-2025-02-25-at-4.01.41 PM.png
END:VEVENT
END:VCALENDAR